{"text_format":"1","workbook":"xlsx","n_sheets":4,"sheets":["Alcance","Conteo y Equivalencias","Cotizacion","Resumen del Alcance"],"not_rendered":{"charts":0,"images":1,"macros":1,"external_links":1,"defined_names":3,"comments":1,"pivot_tables":0},"unopened":[],"bounds":{"document_bytes":16777216,"sheet_cells":100000,"rows_first":2000,"rows_last":500,"rows_between":2000,"halvings":0,"cell_chars":16384,"cell_head_chars":4096},"cells_cut":0,"cells_raw":0,"read":"whole","date_system":"1900"}

{"sheet":"Alcance","index":0,"n_rows":1714,"n_cols":10,"rows_kept":1714,"cut":false,"hidden":false,"merged":[[1605,0,1605,8],[1606,0,1606,8],[1650,0,1650,1],[1650,2,1650,3],[1650,4,1650,5],[1650,6,1650,7],[1651,0,1651,1],[1651,2,1651,3],[1651,4,1651,5],[1651,6,1651,7],[1652,0,1652,1],[1652,2,1652,3],[1652,4,1652,5],[1652,6,1652,7],[1685,0,1685,7],[1537,0,1537,1],[1537,2,1537,3],[1537,4,1537,5],[1537,6,1537,7],[1547,0,1547,1],[1547,2,1547,3],[1547,4,1547,5],[1547,6,1547,7],[1548,0,1548,1],[1548,2,1548,3],[1548,4,1548,5],[1548,6,1548,7],[1546,0,1546,1],[1546,2,1546,3],[1546,4,1546,5],[1546,6,1546,7],[1544,0,1544,1],[1244,4,1244,5],[1244,6,1244,7],[1275,0,1275,7],[1276,0,1276,7],[1345,0,1345,7],[1346,0,1346,7],[1354,0,1354,1],[1354,2,1354,3],[1354,4,1354,5],[1354,6,1354,7],[1355,0,1355,1],[1355,2,1355,3],[1355,4,1355,5],[1355,6,1355,7],[1356,0,1356,1],[1356,2,1356,3],[1356,4,1356,5],[1356,6,1356,7],[1245,0,1245,1],[1245,2,1245,3],[1245,4,1245,5],[1245,6,1245,7],[1246,4,1246,5],[1246,6,1246,7],[1246,0,1246,1],[1246,2,1246,3],[1244,0,1244,1],[1244,2,1244,3],[1251,0,1251,1],[1251,2,1251,3],[1251,4,1251,5],[1251,6,1251,7],[877,0,877,1],[877,2,877,3],[877,4,877,5],[877,6,877,7],[878,0,878,1],[878,2,878,3],[878,4,878,5],[878,6,878,7],[975,0,975,7],[976,0,976,7],[1065,0,1065,7],[1066,0,1066,7],[1099,0,1099,7],[1100,0,1100,7],[1109,0,1109,1],[1109,2,1109,3],[1109,4,1109,5],[1109,6,1109,7],[881,0,881,1],[881,2,881,3],[881,4,881,5],[881,6,881,7],[886,0,886,1],[886,2,886,3],[886,4,886,5],[886,6,886,7],[887,0,887,1],[887,2,887,3],[887,4,887,5],[887,6,887,7],[884,0,884,1],[884,2,884,3],[765,0,765,1],[765,2,765,3],[765,4,765,5],[765,6,765,7],[766,0,766,1],[766,2,766,3],[766,4,766,5],[766,6,766,7],[767,0,767,1],[767,2,767,3],[767,4,767,5],[767,6,767,7],[836,0,836,7],[837,0,837,7],[876,0,876,1],[876,2,876,3],[876,4,876,5],[876,6,876,7],[874,4,874,5],[874,6,874,7],[871,0,871,1],[871,2,871,3],[871,4,871,5],[871,6,871,7],[872,0,872,1],[872,2,872,3],[872,4,872,5],[872,6,872,7],[875,0,875,1],[875,2,875,3],[875,4,875,5],[875,6,875,7],[430,0,430,1],[430,2,430,3],[430,4,430,5],[430,6,430,7],[431,0,431,1],[431,2,431,3],[431,4,431,5],[431,6,431,7],[432,0,432,1],[432,2,432,3],[432,4,432,5],[432,6,432,7],[449,0,449,7],[450,0,450,7],[451,0,451,7],[623,0,623,1],[623,2,623,3],[623,4,623,5],[623,6,623,7],[436,0,436,1],[436,6,436,7],[437,0,437,1],[437,6,437,7],[438,0,438,1],[438,6,438,7],[622,0,622,1],[622,6,622,7],[620,0,620,1],[433,0,433,1],[433,6,433,7],[621,0,621,1],[621,6,621,7],[641,0,641,1],[642,0,642,1],[644,0,644,1],[643,0,643,1],[645,0,645,1],[646,0,646,1],[641,2,641,3],[642,2,642,3],[643,2,643,3],[644,2,644,3],[645,2,645,3],[641,4,641,5],[641,6,641,7],[642,4,642,5],[643,4,643,5],[644,4,644,5],[645,4,645,5],[646,4,646,5],[642,6,642,7],[643,6,643,7],[644,6,644,7],[645,6,645,7],[646,6,646,7],[646,2,646,3],[1431,0,1431,1],[1431,2,1431,3],[1431,4,1431,5],[1431,6,1431,7],[258,0,258,1],[258,2,258,3],[258,4,258,5],[258,6,258,7],[260,0,260,1],[261,0,261,1],[261,2,261,3],[260,2,260,3],[260,4,260,5],[261,4,261,5],[260,6,260,7],[261,6,261,7],[1416,4,1416,5],[1417,4,1417,5],[1416,6,1416,7],[1417,6,1417,7],[1418,6,1418,7],[1419,6,1419,7],[1420,6,1420,7],[1421,6,1421,7],[1422,6,1422,7],[1423,6,1423,7],[1424,6,1424,7],[1425,6,1425,7],[1426,6,1426,7],[1427,6,1427,7],[1428,6,1428,7],[1429,6,1429,7],[1430,6,1430,7],[1418,4,1418,5],[1419,4,1419,5],[1420,4,1420,5],[1421,4,1421,5],[1422,4,1422,5],[1423,4,1423,5],[1424,4,1424,5],[1425,4,1425,5],[1426,4,1426,5],[1427,4,1427,5],[1428,4,1428,5],[1429,4,1429,5],[1430,4,1430,5],[1419,0,1419,1],[1420,0,1420,1],[1421,0,1421,1],[1422,0,1422,1],[1423,0,1423,1],[1424,0,1424,1],[1425,0,1425,1],[1426,0,1426,1],[1427,0,1427,1],[1428,0,1428,1],[1429,0,1429,1],[1430,0,1430,1],[1417,2,1417,3],[1418,2,1418,3],[1419,2,1419,3],[1420,2,1420,3],[1421,2,1421,3],[1422,2,1422,3],[1423,2,1423,3],[1424,2,1424,3],[1425,2,1425,3],[1426,2,1426,3],[1427,2,1427,3],[1428,2,1428,3],[1429,2,1429,3],[1430,2,1430,3],[276,4,276,5],[277,4,277,5],[278,4,278,5],[279,4,279,5],[436,2,436,3],[436,4,436,5],[437,2,437,3],[437,4,437,5],[438,2,438,3],[438,4,438,5],[622,2,622,3],[622,4,622,5],[620,2,620,3],[433,2,433,3],[433,4,433,5],[621,2,621,3],[621,4,621,5],[604,4,604,5],[275,6,275,7],[276,6,276,7],[277,6,277,7],[278,6,278,7],[279,6,279,7],[91,0,91,1],[91,2,91,3],[91,4,91,5],[91,6,91,7],[88,0,88,1],[88,2,88,3],[88,4,88,5],[88,6,88,7],[89,6,89,7],[90,6,90,7],[89,4,89,5],[90,4,90,5],[89,2,89,3],[90,2,90,3],[89,0,89,1],[90,0,90,1],[275,0,275,1],[275,2,275,3],[275,4,275,5],[96,0,96,1],[96,2,96,3],[96,4,96,5],[96,6,96,7],[97,0,97,1],[97,2,97,3],[97,4,97,5],[97,6,97,7],[1,0,1,7],[2,0,2,7],[3,0,3,1],[3,2,3,3],[3,4,3,5],[3,6,3,7],[8,0,8,1],[8,2,8,3],[8,4,8,5],[8,6,8,7],[9,0,9,1],[9,2,9,3],[9,4,9,5],[9,6,9,7],[6,0,6,1],[6,2,6,3],[6,4,6,5],[6,6,6,7],[7,0,7,1],[7,2,7,3],[7,4,7,5],[7,6,7,7],[4,0,4,1],[4,2,4,3],[4,4,4,5],[4,6,4,7],[5,0,5,1],[5,2,5,3],[5,4,5,5],[5,6,5,7],[14,0,14,1],[14,2,14,3],[14,4,14,5],[14,6,14,7],[15,0,15,1],[15,2,15,3],[15,4,15,5],[15,6,15,7],[12,0,12,1],[12,2,12,3],[12,4,12,5],[12,6,12,7],[13,0,13,1],[13,2,13,3],[13,4,13,5],[13,6,13,7],[10,0,10,1],[10,2,10,3],[10,4,10,5],[10,6,10,7],[11,0,11,1],[11,2,11,3],[11,4,11,5],[11,6,11,7],[20,0,20,1],[20,2,20,3],[20,4,20,5],[20,6,20,7],[21,0,21,1],[21,2,21,3],[21,4,21,5],[21,6,21,7],[18,0,18,1],[18,2,18,3],[18,4,18,5],[18,6,18,7],[19,0,19,1],[19,2,19,3],[19,4,19,5],[19,6,19,7],[16,0,16,1],[16,2,16,3],[16,4,16,5],[16,6,16,7],[17,0,17,1],[17,2,17,3],[17,4,17,5],[17,6,17,7],[26,0,26,1],[26,2,26,3],[26,4,26,5],[26,6,26,7],[27,0,27,1],[27,2,27,3],[27,4,27,5],[27,6,27,7],[24,0,24,1],[24,2,24,3],[24,4,24,5],[24,6,24,7],[25,0,25,1],[25,2,25,3],[25,4,25,5],[25,6,25,7],[22,0,22,1],[22,2,22,3],[22,4,22,5],[22,6,22,7],[23,0,23,1],[23,2,23,3],[23,4,23,5],[23,6,23,7],[32,0,32,1],[32,2,32,3],[32,4,32,5],[32,6,32,7],[33,0,33,1],[33,2,33,3],[33,4,33,5],[33,6,33,7],[30,0,30,1],[30,2,30,3],[30,4,30,5],[30,6,30,7],[31,0,31,1],[31,2,31,3],[31,4,31,5],[31,6,31,7],[28,0,28,1],[28,2,28,3],[28,4,28,5],[28,6,28,7],[29,0,29,1],[29,2,29,3],[29,4,29,5],[29,6,29,7],[38,0,38,1],[38,2,38,3],[38,4,38,5],[38,6,38,7],[39,0,39,1],[39,2,39,3],[39,4,39,5],[39,6,39,7],[36,0,36,1],[36,2,36,3],[36,4,36,5],[36,6,36,7],[37,0,37,1],[37,2,37,3],[37,4,37,5],[37,6,37,7],[34,0,34,1],[34,2,34,3],[34,4,34,5],[34,6,34,7],[35,0,35,1],[35,2,35,3],[35,4,35,5],[35,6,35,7],[44,0,44,1],[44,2,44,3],[44,4,44,5],[44,6,44,7],[45,0,45,1],[45,2,45,3],[45,4,45,5],[45,6,45,7],[42,0,42,1],[42,2,42,3],[42,4,42,5],[42,6,42,7],[43,0,43,1],[43,2,43,3],[43,4,43,5],[43,6,43,7],[40,0,40,1],[40,2,40,3],[40,4,40,5],[40,6,40,7],[41,0,41,1],[41,2,41,3],[41,4,41,5],[41,6,41,7],[50,0,50,1],[50,2,50,3],[50,4,50,5],[50,6,50,7],[51,0,51,1],[51,2,51,3],[51,4,51,5],[51,6,51,7],[48,0,48,1],[48,2,48,3],[48,4,48,5],[48,6,48,7],[49,0,49,1],[49,2,49,3],[49,4,49,5],[49,6,49,7],[46,0,46,1],[46,2,46,3],[46,4,46,5],[46,6,46,7],[47,0,47,1],[47,2,47,3],[47,4,47,5],[47,6,47,7],[56,0,56,1],[56,2,56,3],[56,4,56,5],[56,6,56,7],[57,0,57,1],[57,2,57,3],[57,4,57,5],[57,6,57,7],[54,0,54,1],[54,2,54,3],[54,4,54,5],[54,6,54,7],[55,0,55,1],[55,2,55,3],[55,4,55,5],[55,6,55,7],[52,0,52,1],[52,2,52,3],[52,4,52,5],[52,6,52,7],[53,0,53,1],[53,2,53,3],[53,4,53,5],[53,6,53,7],[62,0,62,1],[62,2,62,3],[62,4,62,5],[62,6,62,7],[63,0,63,1],[63,2,63,3],[63,4,63,5],[63,6,63,7],[60,0,60,1],[60,2,60,3],[60,4,60,5],[60,6,60,7],[61,0,61,1],[61,2,61,3],[61,4,61,5],[61,6,61,7],[58,0,58,1],[58,2,58,3],[58,4,58,5],[58,6,58,7],[59,0,59,1],[59,2,59,3],[59,4,59,5],[59,6,59,7],[68,0,68,1],[68,2,68,3],[68,4,68,5],[68,6,68,7],[69,0,69,1],[69,2,69,3],[69,4,69,5],[69,6,69,7],[66,0,66,1],[66,2,66,3],[66,4,66,5],[66,6,66,7],[67,0,67,1],[67,2,67,3],[67,4,67,5],[67,6,67,7],[64,0,64,1],[64,2,64,3],[64,4,64,5],[64,6,64,7],[65,0,65,1],[65,2,65,3],[65,4,65,5],[65,6,65,7],[74,0,74,1],[74,2,74,3],[74,4,74,5],[74,6,74,7],[75,0,75,1],[75,2,75,3],[75,4,75,5],[75,6,75,7],[72,0,72,1],[72,2,72,3],[72,4,72,5],[72,6,72,7],[73,0,73,1],[73,2,73,3],[73,4,73,5],[73,6,73,7],[70,0,70,1],[70,2,70,3],[70,4,70,5],[70,6,70,7],[71,0,71,1],[71,2,71,3],[71,4,71,5],[71,6,71,7],[80,0,80,1],[80,2,80,3],[80,4,80,5],[80,6,80,7],[81,0,81,1],[81,2,81,3],[81,4,81,5],[81,6,81,7],[78,0,78,1],[78,2,78,3],[78,4,78,5],[78,6,78,7],[79,0,79,1],[79,2,79,3],[79,4,79,5],[79,6,79,7],[76,0,76,1],[76,2,76,3],[76,4,76,5],[76,6,76,7],[77,0,77,1],[77,2,77,3],[77,4,77,5],[77,6,77,7],[94,0,94,1],[94,2,94,3],[94,4,94,5],[94,6,94,7],[95,0,95,1],[95,2,95,3],[95,4,95,5],[95,6,95,7],[92,0,92,1],[92,2,92,3],[92,4,92,5],[92,6,92,7],[93,0,93,1],[93,2,93,3],[93,4,93,5],[93,6,93,7],[102,0,102,1],[102,2,102,3],[102,4,102,5],[102,6,102,7],[103,0,103,1],[103,2,103,3],[103,4,103,5],[103,6,103,7],[100,0,100,1],[100,2,100,3],[100,4,100,5],[100,6,100,7],[101,0,101,1],[101,2,101,3],[101,4,101,5],[101,6,101,7],[98,0,98,1],[98,2,98,3],[98,4,98,5],[98,6,98,7],[99,0,99,1],[99,2,99,3],[99,4,99,5],[99,6,99,7],[108,2,108,3],[108,0,108,1],[108,4,108,5],[108,6,108,7],[106,0,106,1],[106,2,106,3],[106,4,106,5],[106,6,106,7],[107,0,107,1],[107,2,107,3],[107,4,107,5],[107,6,107,7],[104,0,104,1],[104,2,104,3],[104,4,104,5],[104,6,104,7],[105,0,105,1],[105,2,105,3],[105,4,105,5],[105,6,105,7],[113,2,113,3],[113,0,113,1],[113,4,113,5],[113,6,113,7],[111,0,111,1],[111,2,111,3],[111,4,111,5],[111,6,111,7],[112,0,112,1],[112,2,112,3],[112,4,112,5],[112,6,112,7],[109,0,109,1],[109,2,109,3],[109,4,109,5],[109,6,109,7],[110,0,110,1],[110,2,110,3],[110,4,110,5],[110,6,110,7],[118,0,118,1],[118,2,118,3],[118,4,118,5],[118,6,118,7],[119,0,119,1],[119,2,119,3],[119,4,119,5],[119,6,119,7],[116,0,116,1],[116,2,116,3],[116,4,116,5],[116,6,116,7],[117,0,117,1],[117,2,117,3],[117,4,117,5],[117,6,117,7],[114,0,114,1],[114,2,114,3],[114,4,114,5],[114,6,114,7],[115,0,115,1],[115,2,115,3],[115,4,115,5],[115,6,115,7],[124,0,124,1],[124,2,124,3],[124,4,124,5],[124,6,124,7],[125,0,125,1],[125,2,125,3],[125,4,125,5],[125,6,125,7],[122,0,122,1],[122,2,122,3],[122,4,122,5],[122,6,122,7],[123,0,123,1],[123,2,123,3],[123,4,123,5],[123,6,123,7],[120,0,120,1],[120,2,120,3],[120,4,120,5],[120,6,120,7],[121,0,121,1],[121,2,121,3],[121,4,121,5],[121,6,121,7],[130,0,130,1],[130,2,130,3],[130,4,130,5],[130,6,130,7],[131,0,131,1],[131,2,131,3],[131,4,131,5],[131,6,131,7],[128,0,128,1],[128,2,128,3],[128,4,128,5],[128,6,128,7],[129,0,129,1],[129,2,129,3],[129,4,129,5],[129,6,129,7],[126,0,126,1],[126,2,126,3],[126,4,126,5],[126,6,126,7],[127,0,127,1],[127,2,127,3],[127,4,127,5],[127,6,127,7],[136,0,136,1],[136,2,136,3],[136,4,136,5],[136,6,136,7],[137,0,137,1],[137,2,137,3],[137,4,137,5],[137,6,137,7],[134,0,134,1],[134,2,134,3],[134,4,134,5],[134,6,134,7],[135,0,135,1],[135,2,135,3],[135,4,135,5],[135,6,135,7],[132,0,132,1],[132,2,132,3],[132,4,132,5],[132,6,132,7],[133,0,133,1],[133,2,133,3],[133,4,133,5],[133,6,133,7],[142,0,142,1],[142,2,142,3],[142,4,142,5],[142,6,142,7],[143,0,143,1],[143,2,143,3],[143,4,143,5],[143,6,143,7],[140,0,140,1],[140,2,140,3],[140,4,140,5],[140,6,140,7],[141,0,141,1],[141,2,141,3],[141,4,141,5],[141,6,141,7],[138,0,138,1],[138,2,138,3],[138,4,138,5],[138,6,138,7],[139,0,139,1],[139,2,139,3],[139,4,139,5],[139,6,139,7],[148,0,148,1],[148,2,148,3],[148,4,148,5],[148,6,148,7],[149,0,149,1],[149,2,149,3],[149,4,149,5],[149,6,149,7],[146,0,146,1],[146,2,146,3],[146,4,146,5],[146,6,146,7],[147,0,147,1],[147,2,147,3],[147,4,147,5],[147,6,147,7],[144,0,144,1],[144,2,144,3],[144,4,144,5],[144,6,144,7],[145,0,145,1],[145,2,145,3],[145,4,145,5],[145,6,145,7],[154,0,154,1],[154,2,154,3],[154,4,154,5],[154,6,154,7],[155,0,155,1],[155,2,155,3],[155,4,155,5],[155,6,155,7],[152,0,152,1],[152,2,152,3],[152,4,152,5],[152,6,152,7],[153,0,153,1],[153,2,153,3],[153,4,153,5],[153,6,153,7],[150,0,150,1],[150,2,150,3],[150,4,150,5],[150,6,150,7],[151,0,151,1],[151,2,151,3],[151,4,151,5],[151,6,151,7],[160,0,160,1],[160,2,160,3],[160,4,160,5],[160,6,160,7],[161,0,161,1],[161,2,161,3],[161,4,161,5],[161,6,161,7],[158,0,158,1],[158,2,158,3],[158,4,158,5],[158,6,158,7],[159,0,159,1],[159,2,159,3],[159,4,159,5],[159,6,159,7],[156,0,156,1],[156,2,156,3],[156,4,156,5],[156,6,156,7],[157,0,157,1],[157,2,157,3],[157,4,157,5],[157,6,157,7],[166,0,166,1],[166,2,166,3],[166,4,166,5],[166,6,166,7],[167,0,167,1],[167,2,167,3],[167,4,167,5],[167,6,167,7],[164,0,164,1],[164,2,164,3],[164,4,164,5],[164,6,164,7],[165,0,165,1],[165,2,165,3],[165,4,165,5],[165,6,165,7],[162,0,162,1],[162,2,162,3],[162,4,162,5],[162,6,162,7],[163,0,163,1],[163,2,163,3],[163,4,163,5],[163,6,163,7],[172,0,172,1],[172,2,172,3],[172,4,172,5],[172,6,172,7],[173,0,173,1],[173,2,173,3],[173,4,173,5],[173,6,173,7],[170,0,170,1],[170,2,170,3],[170,4,170,5],[170,6,170,7],[171,0,171,1],[171,2,171,3],[171,4,171,5],[171,6,171,7],[168,0,168,1],[168,2,168,3],[168,4,168,5],[168,6,168,7],[169,0,169,1],[169,2,169,3],[169,4,169,5],[169,6,169,7],[178,0,178,1],[178,2,178,3],[178,4,178,5],[178,6,178,7],[179,0,179,1],[179,2,179,3],[179,4,179,5],[179,6,179,7],[176,0,176,1],[176,2,176,3],[176,4,176,5],[176,6,176,7],[177,0,177,1],[177,2,177,3],[177,4,177,5],[177,6,177,7],[174,0,174,1],[174,2,174,3],[174,4,174,5],[174,6,174,7],[175,0,175,1],[175,2,175,3],[175,4,175,5],[175,6,175,7],[184,0,184,1],[184,2,184,3],[184,4,184,5],[184,6,184,7],[185,0,185,1],[185,2,185,3],[185,4,185,5],[185,6,185,7],[182,0,182,1],[182,2,182,3],[182,4,182,5],[182,6,182,7],[183,0,183,1],[183,2,183,3],[183,4,183,5],[183,6,183,7],[180,0,180,1],[180,2,180,3],[180,4,180,5],[180,6,180,7],[181,0,181,1],[181,2,181,3],[181,4,181,5],[181,6,181,7],[190,0,190,1],[190,2,190,3],[190,4,190,5],[190,6,190,7],[191,0,191,1],[191,2,191,3],[191,4,191,5],[191,6,191,7]],"merged_total":6898,"flags":["merged_cut"]}
[]
["VARIABLES A EVALUAR"]
["MATRIZ AGUA CONTINENTALES"]
["18. Matriz / Grupo",null,"19. Variable",null,"20. Variables solicitadas con fines de acreditación (Seleccionar las variables para las cuales solicita acreditación, indicando si corresponde a evaluación “INICIAL”, “SEGUIMIENTO”, “RENOVACIÓN” o “EXTENSIÓN”)",null,"21. Método de Referencia (Indicar el código del método de referencia que se solicita acreditar, incluyendo los métodos de procesos preliminares como extracción o digestión , p. ej. SM 3030 y SM 3111 B)"]
["Iones Principales o Minerales",null,"Alcalinidad total"]
["Iones Principales o Minerales",null,"Conductividad a 25ºC"]
["Iones Principales o Minerales",null,"Cloruro"]
["Iones Principales o Minerales",null,"Calcio disuelto"]
["Iones Principales o Minerales",null,"Calcio total"]
["Iones Principales o Minerales",null,"Magnesio disuelto"]
["Iones Principales o Minerales",null,"Magnesio total"]
["Iones Principales o Minerales",null,"Fluoruro"]
["Iones Principales o Minerales",null,"Potasio disuelto"]
["Iones Principales o Minerales",null,"Potasio total"]
["Iones Principales o Minerales",null,"Sodio disuelto"]
["Iones Principales o Minerales",null,"Sodio total"]
["Iones Principales o Minerales",null,"Sulfato"]
["Iones Principales o Minerales",null,"Dureza Total"]
["Iones Principales o Minerales",null,"Dureza Cálcica"]
["Iones Principales o Minerales",null,"Carbonatos, bicarbonatos e hidróxidos "]
["Nutrientes",null,"Nitrato"]
["Nutrientes",null,"Nitrito"]
["Nutrientes",null,"Amonio"]
["Nutrientes",null,"Nitrógeno Amoniacal"]
["Nutrientes",null,"Nitrogeno Organico"]
["Nutrientes",null,"Nitrógeno  Kjeldahl"]
["Nutrientes",null,"Fósforo reactivo total (leído como ortofosfato)"]
["Nutrientes",null,"Fósforo Acido hidrolizable Total (Léido como Ortofosfato)"]
["Nutrientes",null,"Fósforo Orgánico total ( a partir del cálculo del fósforo total y fósforo hidrolizable)"]
["Nutrientes",null,"Fósforo Total "]
["Nutrientes",null,"Fósforo reactivo Disuelto (leído como Ortofosfatos)"]
["Nutrientes",null,"Fósforo Acido Hidrolizable Disuelto (Léido como ortofosfatos)"]
["Nutrientes",null,"Fósforo Orgánico Disuelto (a partir del cálculo del Fósforo Disuelto Total y Fósforo Ácido - Hidrolizable Disuelto)"]
["Nutrientes",null,"Fósforo Disuelto Total (Leìdo como ortofosfatos)"]
["Metales Traza",null,"Aluminio disuelto"]
["Metales Traza",null,"Aluminio total "]
["Metales Traza",null,"Antimonio disuelto"]
["Metales Traza",null,"Antimonio total"]
["Metales Traza",null,"Arsénico disuelto"]
["Metales Traza",null,"Arsénico total"]
["Metales Traza",null,"Berilio disuelto"]
["Metales Traza",null,"Berilio total"]
["Metales Traza",null,"Boro disuelto"]
["Metales Traza",null,"Boro total"]
["Metales Traza",null,"Cadmio disuelto"]
["Metales Traza",null,"Cadmio total"]
["Metales Traza",null,"Cobalto disuelto"]
["Metales Traza",null,"Cobalto total"]
["Metales Traza",null,"Cobre disuelto"]
["Metales Traza",null,"Cobre total"]
["Metales Traza",null,"Cromo disuelto"]
["Metales Traza",null,"Cromo total"]
["Metales Traza",null,"Estroncio disuelto"]
["Metales Traza",null,"Estroncio total"]
["Metales Traza",null,"Hierro disuelto"]
["Metales Traza",null,"Hierro total"]
["Metales Traza",null,"Litio Disuelto"]
["Metales Traza",null,"Litio Total"]
["Metales Traza",null,"Manganeso disuelto"]
["Metales Traza",null,"Manganeso total"]
["Metales Traza",null,"Mercurio disuelto"]
["Metales Traza",null,"Mercurio total"]
["Metales Traza",null,"Molibdeno disuelto"]
["Metales Traza",null,"Molibdeno total"]
["Metales Traza",null,"Níquel disuelto"]
["Metales Traza",null,"Níquel total"]
["Metales Traza",null,"Plata disuelto"]
["Metales Traza",null,"Plata total"]
["Metales Traza",null,"Plomo disuelto"]
["Metales Traza",null,"Plomo total"]
["Metales Traza",null,"Selenio disuelto"]
["Metales Traza",null,"Selenio total"]
["Metales Traza",null,"Talio disuelto"]
["Metales Traza",null,"Talio total "]
["Metales Traza",null,"Titanio disuelto"]
["Metales Traza",null,"Titanio total"]
["Metales Traza",null,"Vanadio disuelto"]
["Metales Traza",null,"Vanadio total"]
["Metales Traza",null,"Zinc disuelto"]
["Metales Traza",null,"Zinc total"]
["Metales Traza",null,"Potasio Disuelto"]
["Metales Traza",null,"Potasio Total"]
["Metales Traza",null,"Sodio disuelto"]
["Metales Traza",null,"Sodio Total"]
["Metales Traza",null,"Calcio disuelto"]
["Metales Traza",null,"Calcio Total"]
["Metales Traza",null,"Magensio Disuelto"]
["Metales Traza",null,"Magensio Total"]
["Cromo VI",null,"Cromo VI"]
["Bario y Estaño",null,"Bario Disuelto"]
["Bario y Estaño",null,"Bario Total"]
["Bario y Estaño",null,"Estaño Disuelto"]
["Bario y Estaño",null,"Estaño Total"]
["Silice",null,"Sílice Disuelto"]
["Silice",null,"Sílice Total"]
["Sólidos o Residuos",null,"Sólidos Suspendidos Totales"]
["Sólidos o Residuos",null,"Sólidos Disueltos Totales"]
["Sólidos o Residuos",null,"Sólidos Totales"]
["Sólidos o Residuos",null,"Sólidos sedimentables"]
["Sólidos o Residuos",null,"Sólidos Fijos"]
["Sólidos o Residuos",null,"Sólidos Suspendidos Volátiles "]
["Sólidos o Residuos",null,"Sólidos Totales Volátiles "]
["Sólidos o Residuos",null,"Sólidos volátiles"]
["Microbiológico",null,"Coliformes Termotolerantes (anteriormente Coliformes fecales)"]
["Microbiológico",null,"Coliformes Totales"]
["Microbiológico",null,"Escherichia coli"]
["Microbiológico",null,"Bacterias Sulfato Reductoras"]
["Microbiológico",null,"Clostridium Sulfito Reductor"]
["Microbiológico",null,"Estreptococos fecal y Enterococcus"]
["Microbiológico",null,"Hongos y Levaduras"]
["Microbiológico",null,"Huevos de Helmintos"]
["Microbiológico",null,"Pseudomonas aeruginosa"]
["Microbiológico",null,"Recuento de Bacterias Heterótrofas"]
["Microbiológico",null,"Salmonella sp"]
["Microbiológico",null,"Giardia y Cryptosporidium"]
["Microbiológico",null,"Mesófilos Aerobios"]
["Demandas",null,"DBO (5 días)"]
["Demandas",null,"DQO"]
["Demandas",null,"COT"]
["Boro (Colorimétrico)",null,"Boro"]
["Sulfuro",null,"Sulfuro"]
["Silicio",null,"Silicio"]
["Turbidez",null,"Turbidez"]
["Acidez",null,"Acidez"]
["Cianuro",null,"Cianuro Total"]
["Cianuro",null," Cianuro disociable en acido debil"]
["Cianuro",null,"Cianuro Disuelto"]
["Fenoles ",null,"Fenoles "]
["Surfactantes",null,"Surfactantes Aniónicos como SAAM"]
["Color",null,"Color ( Longitud de onda simple )"]
["Color",null,"Color  real (3 longitudes de onda)"]
["Salinidad ",null,"Salinidad"]
["Grasas y Aceites",null,"Grasas y Aceites"]
["Compuestos Orgánicos Volátiles",null,"Acetona "]
["Compuestos Orgánicos Volátiles",null,"Acetonitrilo"]
["Compuestos Orgánicos Volátiles",null,"Acroleina "]
["Compuestos Orgánicos Volátiles",null,"Acrilonitrilo"]
["Compuestos Orgánicos Volátiles",null,"Cloruro de bencilo"]
["Compuestos Orgánicos Volátiles",null,"Bromoclorometano"]
["Compuestos Orgánicos Volátiles",null,"Bromodiclorometano"]
["Compuestos Orgánicos Volátiles",null,"4-Bromofluorobenceno"]
["Compuestos Orgánicos Volátiles",null,"Bromoformo "]
["Compuestos Orgánicos Volátiles",null,"Bromometano "]
["Compuestos Orgánicos Volátiles",null,"n-Butanol"]
["Compuestos Orgánicos Volátiles",null,"2-Butanona"]
["Compuestos Orgánicos Volátiles",null,"Disulfuro de carbono"]
["Compuestos Orgánicos Volátiles",null,"Tetracloruro de carbon"]
["Compuestos Orgánicos Volátiles",null,"Clorobenceno "]
["Compuestos Orgánicos Volátiles",null,"Clorodibromometano"]
["Compuestos Orgánicos Volátiles",null,"Cloroetano"]
["Compuestos Orgánicos Volátiles",null,"2-Cloroetanol"]
["Compuestos Orgánicos Volátiles",null,"2-Cloroetil vinil éter"]
["Compuestos Orgánicos Volátiles",null,"Cloroformo "]
["Compuestos Orgánicos Volátiles",null,"Clorometano "]
["Compuestos Orgánicos Volátiles",null,"1,2-Dibromo-3-cloropropano"]
["Compuestos Orgánicos Volátiles",null,"1,2-Dibromoetano"]
["Compuestos Orgánicos Volátiles",null,"Dibromometano"]
["Compuestos Orgánicos Volátiles",null,"1,2-Diclorobenceno"]
["Compuestos Orgánicos Volátiles",null,"1,3-Diclorobenceno "]
["Compuestos Orgánicos Volátiles",null,"1,4-Diclorobenceno"]
["Compuestos Orgánicos Volátiles",null,"cis-1,4-Dicloro-2-butano"]
["Compuestos Orgánicos Volátiles",null,"trans-1,4-Dicloro-2-butano"]
["Compuestos Orgánicos Volátiles",null,"Diclorodifluorometano"]
["Compuestos Orgánicos Volátiles",null,"1,1-Dicloroetano"]
["Compuestos Orgánicos Volátiles",null,"1,2-Dicloroetano"]
["Compuestos Orgánicos Volátiles",null,"trans-1,2-Dicloroetano"]
["Compuestos Orgánicos Volátiles",null,"1,2-Dicloropropano"]
["Compuestos Orgánicos Volátiles",null,"1,3-Dicloro-2-propanol"]
["Compuestos Orgánicos Volátiles",null,"Cis-1,3-Dicloropropano"]
["Compuestos Orgánicos Volátiles",null,"Trans-1,3-Dicloropropano"]
["Compuestos Orgánicos Volátiles",null,"Dietil Eter"]
["Compuestos Orgánicos Volátiles",null,"Etil terc-butil éter"]
["Compuestos Orgánicos Volátiles",null,"Hexaclorobutadieno"]
["Compuestos Orgánicos Volátiles",null,"Hexacloroetano"]
["Compuestos Orgánicos Volátiles",null,"Alcohol Isobutílico"]
["Compuestos Orgánicos Volátiles",null,"Cloruro de metileno"]
["Compuestos Orgánicos Volátiles",null,"4 - Metil - 2 - pentanona"]
["Compuestos Orgánicos Volátiles",null,"Metil terc-butil éter"]
["Compuestos Orgánicos Volátiles",null,"Naftaleno"]
["Compuestos Orgánicos Volátiles",null,"Nitrobenceno"]
["Compuestos Orgánicos Volátiles",null,"n-Nitroso-di-n-butilamina"]
["Compuestos Orgánicos Volátiles",null,"Pentacloroetano"]
["Compuestos Orgánicos Volátiles",null,"2-Pentanona"]
["Compuestos Orgánicos Volátiles",null,"1-Propanol "]
["Compuestos Orgánicos Volátiles",null,"2-Propanol"]
["Compuestos Orgánicos Volátiles",null,"n-Propilamina"]
["Compuestos Orgánicos Volátiles",null,"Piridina"]
["Compuestos Orgánicos Volátiles",null,"Estireno"]
["Compuestos Orgánicos Volátiles",null,"1,1,1,2-Tetracloroetano"]
["Compuestos Orgánicos Volátiles",null,"1,1,2,2-Tetracloroetano"]
["Compuestos Orgánicos Volátiles",null,"Tetracloroetano"]
["Compuestos Orgánicos Volátiles",null,"1,2,4-Triclorobenceno"]
["Compuestos Orgánicos Volátiles",null,"1,1,1-Tricoloetano"]
["Compuestos Orgánicos Volátiles",null,"1,1,2-Tricloroetano"]
["Compuestos Orgánicos Volátiles",null,"Tricloroetano"]
["Compuestos Orgánicos Volátiles",null,"Triclorofluorometano"]
["Compuestos Orgánicos Volátiles",null,"1,2,3-Tricloropropano"]
["Compuestos Orgánicos Volátiles",null,"Acetato de vinilo"]
["Compuestos Orgánicos Volátiles",null,"Cloruro de vinilo"]
["Compuestos Orgánicos Volátiles",null,"1,2,4-Trimetilbenceno"]
["Compuestos Orgánicos Volátiles",null,"1,3,5-Trimetilbenceno"]
["Compuestos Orgánicos Volátiles",null,"Diclorometano"]
["Compuestos Orgánicos Volátiles",null,"Percloroetileno"]
["Compuestos Orgánicos Volátiles",null,"1,1,1-Tricloroetano"]
["Compuestos Orgánicos Volátiles",null,"Tricloroetileno"]
["Compuestos Orgánicos Volátiles - BTEX",null,"Benceno "]
["Compuestos Orgánicos Volátiles - BTEX",null,"Tolueno"]
["Compuestos Orgánicos Volátiles - BTEX",null,"Etilbenceno"]
["Compuestos Orgánicos Volátiles - BTEX",null,"o-Xileno"]
["Compuestos Orgánicos Volátiles - BTEX",null,"m-Xileno"]
["Compuestos Orgánicos Volátiles - BTEX",null,"p-Xileno "]
["Compuestos Orgánicos Volátiles - BTEX",null,"m+p-xileno"]
["Compuestos Orgánicos Volátiles - BTEX",null,"Xileno total"]
["Pesticidas Organoclorados",null,"Aldrín"]
["Pesticidas Organoclorados",null,"4,4'-DDD"]
["Pesticidas Organoclorados",null,"4,4'-DDE"]
["Pesticidas Organoclorados",null,"4,4'-DDT"]
["Pesticidas Organoclorados",null,"Dieldrín"]
["Pesticidas Organoclorados",null,"Heptacloro"]
["Pesticidas Organoclorados",null,"Heptacloro epoxido"]
["Pesticidas Organoclorados",null,"Heptaclorobenceno"]
["Pesticidas Organoclorados",null,"Hexaclorociclopentadieno"]
["Pesticidas Organoclorados",null,"Alfa-BHC"]
["Pesticidas Organoclorados",null,"Beta-BHC"]
["Pesticidas Organoclorados",null,"Gama-BHC"]
["Pesticidas Organoclorados",null,"Delta-BHC"]
["Pesticidas Organoclorados",null,"Alfa-Clordano (Cis -clordano)"]
["Pesticidas Organoclorados",null,"Gama-Clordano (Trans-Clordano)"]
["Pesticidas Organoclorados",null,"Endosulfan I"]
["Pesticidas Organoclorados",null,"Endosulfan II"]
["Pesticidas Organoclorados",null,"Endosulfan sulfato"]
["Pesticidas Organoclorados",null,"Endrín aldehido"]
["Pesticidas Organoclorados",null,"Endrín cetona"]
["Pesticidas Organoclorados",null,"Endrín"]
["Pesticidas Organoclorados",null,"Metoxicloro"]
["Pesticidas Organoclorados",null,"Toxafeno"]
["Pesticidas Oganofosforados",null,"Etil-Azinfos"]
["Pesticidas Oganofosforados",null,"Metil-Azinfos "]
["Pesticidas Oganofosforados",null,"Clorfenvinfos"]
["Pesticidas Oganofosforados",null,"Clorpirifos"]
["Pesticidas Oganofosforados",null,"Metil Clorpirifos"]
["Pesticidas Oganofosforados",null,"Coumaphos"]
["Pesticidas Oganofosforados",null,"Demeton-O"]
["Pesticidas Oganofosforados",null,"Demeton-S"]
["Pesticidas Oganofosforados",null,"Diazinon"]
["Pesticidas Oganofosforados",null,"Diclorvos"]
["Pesticidas Oganofosforados",null,"Dimetoato"]
["Pesticidas Oganofosforados",null,"Dioxatión"]
["Pesticidas Oganofosforados",null,"Disulfoton"]
["Pesticidas Oganofosforados",null,"Fenitrotion"]
["Pesticidas Oganofosforados",null,"Fention"]
["Pesticidas Oganofosforados",null,"Malation"]
["Pesticidas Oganofosforados",null,"Mevinphos"]
["Pesticidas Oganofosforados",null,"Metil paration"]
["Pesticidas Oganofosforados",null,"Etil paration"]
["Pesticidas Oganofosforados",null,"Ronnel"]
["Pesticidas Oganofosforados",null,"Estirofos"]
["Pesticidas Oganofosforados",null,"Atrazina"]
["Pesticidas Oganofosforados",null,"Simazina"]
["Pesticidas Oganofosforados",null,"Metiocarb"]
["Pesticidas Oganofosforados",null,"Profam"]
["Pesticidas Oganofosforados",null,"Etion"]
["Pesticidas Oganofosforados",null,"Etil gution"]
["Pesticidas Oganofosforados",null,"Gution"]
["Pesticidas Oganofosforados",null,"Clorotalonil"]
["Pesticidas Oganofosforados",null,"Penoxalin"]
["Pesticidas Oganofosforados",null,"Primicarb"]
["Pesticidas Oganofosforados",null,"Propetanfos"]
["Pesticidas Oganofosforados",null,"Terbutrin"]
["Pesticidas Oganofosforados",null,"Trietazina"]
["PCBs en Agua",null,"Aroclor 1016"]
["PCBs en Agua",null,"Aroclor 1221"]
["PCB s en Agua",null,"Aroclor 1232"]
["PCB s en Agua",null,"Aroclor 1242"]
["PCB s en Agua",null,"Aroclor 1248"]
["PCB s en Agua",null,"Aroclor 1254"]
["PCB s en Agua",null,"Aroclor 1260"]
["Herbicidas",null,"Pentaclorofenol"]
["Herbicidas",null,"Acifluorfen"]
["Herbicidas",null,"Bentazon"]
["Herbicidas",null,"2,4-D Total"]
["Herbicidas",null,"2,4-DB"]
["Herbicidas",null,"Dicamba"]
["Herbicidas",null,"Acido 3,5-diclorobenzoico"]
["Herbicidas",null,"Dicloroprop"]
["Herbicidas",null,"Dinoseb"]
["Herbicidas",null,"5-Hidroxicamba"]
["Herbicidas",null,"Picloram"]
["Herbicidas",null,"Silvex"]
["Herbicidas",null,"2,4,5-T"]
["Herbicidas",null,"Diquat"]
["Herbicidas",null,"Endotal"]
["Herbicidas",null,"Glifosato"]
["Herbicidas",null,"Paraquat"]
["Toxafeno",null,"Toxafeno"]
["Clordano",null,"Clordano Total"]
["Carbamatos",null,"Aldicarb sulfona"]
["Carbamatos",null,"Aldicarb sulfoxido"]
["Carbamatos",null,"Carbaril (Sevin)"]
["Carbamatos",null,"Carbofurano (Furaden)"]
["Carbamatos",null,"Diuron"]
["Carbamatos",null,"3-Hidroxicarbofurano"]
["Carbamatos",null,"Metiocarb (Mesurol)"]
["Carbamatos",null,"Metomil (Lannate)"]
["Carbamatos",null,"Oxamil"]
["Carbamatos",null,"Profam"]
["Carbamatos",null,"Propoxur (Baygon)"]
["Hidrocarburos Aromáticos Policíclicos (PAHs)",null,"Naftaleno"]
["Hidrocarburos Aromáticos Policíclicos (PAHs)",null,"Acenafteno"]
["Hidrocarburos Aromáticos Policíclicos (PAHs)",null,"Acenaftileno"]
["Hidrocarburos Aromáticos Policíclicos (PAHs)",null,"Antraceno"]
["Hidrocarburos Aromáticos Policíclicos (PAHs)",null,"Benzo (a)antraceno"]
["Hidrocarburos Aromáticos Policíclicos (PAHs)",null,"Benzo (a)pireno"]
["Hidrocarburos Aromáticos Policíclicos (PAHs)",null,"Benzo (b)fluoranteno"]
["Hidrocarburos Aromáticos Policíclicos (PAHs)",null,"Benzo (j)fluoranteno"]
["Hidrocarburos Aromáticos Policíclicos (PAHs)",null,"Benzo (k)fluoranteno"]
["Hidrocarburos Aromáticos Policíclicos (PAHs)",null,"Benzo (g,h,i)perileno"]
["Hidrocarburos Aromáticos Policíclicos (PAHs)",null,"Criseno"]
["Hidrocarburos Aromáticos Policíclicos (PAHs)",null,"Dibenz (a,h)antraceno"]
["Hidrocarburos Aromáticos Policíclicos (PAHs)",null,"Fluoranteno"]
["Hidrocarburos Aromáticos Policíclicos (PAHs)",null,"Fluoreno"]
["Hidrocarburos Aromáticos Policíclicos (PAHs)",null,"Indenol (1,2,3-cd)pireno"]
["Hidrocarburos Aromáticos Policíclicos (PAHs)",null,"3-Metilcolantreno"]
["Hidrocarburos Aromáticos Policíclicos (PAHs)",null,"Fenantreno"]
["Hidrocarburos Aromáticos Policíclicos (PAHs)",null,"Pireno"]
["TPH (Hidrocarburos derivados del petróleo)",null,"Hidrocarburos"]
["TPH (Hidrocarburos derivados del petróleo)",null,"Hidrocarburos del Petróleo (Fracción GRO)"]
["TPH (Hidrocarburos derivados del petróleo)",null,"Hidrocarburos del Petróleo (Fracción DRO)"]
["Compuestos Orgánicos Halogenados Absorbibles",null,"AOX"]
["Haluros Orgánicos Totales",null,"TOX "]
["Toma de muestra simple o puntual",null,"pH"]
["Toma de muestra simple o puntual",null,"Temperatura"]
["Toma de muestra simple o puntual",null,"Conductividad Eléctrica"]
["Toma de muestra simple o puntual",null,"Dióxido de Carbono in situ"]
["Toma de muestra simple o puntual",null,"Oxigeno Disuelto (Membarana y Luminiscencia)"]
["Toma de muestra simple o puntual",null,"Cloro Residual"]
["Toma de muestra simple o puntual",null,"Cloro Total"]
["Toma de muestra simple o puntual",null,"Sólidos Sedimentables"]
["Toma de muestra simple o puntual",null,"Caudal"]
["Toma de muestra compuesta",null,"pH"]
["Toma de muestra compuesta",null,"Temperatura"]
["Toma de muestra compuesta",null,"Conductividad Eléctrica"]
["Toma de muestra compuesta",null,"Dióxido de Carbono in situ"]
["Toma de muestra compuesta",null,"Oxigeno Disuelto"]
["Toma de muestra compuesta",null,"Cloro Residual"]
["Toma de muestra compuesta",null,"Cloro Total"]
["Toma de muestra compuesta",null,"Sólidos Sedimentables"]
["Toma de muestra compuesta",null,"Caudal"]
["Toma de Muestra Integrada en Cuerpo Lótico",null,"pH"]
["Toma de Muestra Integrada en Cuerpo Lótico",null,"Temperatura"]
["Toma de Muestra Integrada en Cuerpo Lótico",null,"Conductividad Eléctrica"]
["Toma de Muestra Integrada en Cuerpo Lótico",null,"Dióxido de Carbono in situ"]
["Toma de Muestra Integrada en Cuerpo Lótico",null,"Oxigeno Disuelto (Membrana y Luminiscencia)"]
["Toma de Muestra Integrada en Cuerpo Lótico",null,"Cloro Residual"]
["Toma de Muestra Integrada en Cuerpo Lótico",null,"Cloro Total"]
["Toma de Muestra Integrada en Cuerpo Lótico",null,"Sólidos Sedimentables"]
["Toma de Muestra Integrada en Cuerpo Lótico",null,"Caudal"]
["Toma de Muestra Integrada en Cuerpo Léntico",null,"pH"]
["Toma de Muestra Integrada en Cuerpo Léntico",null,"Temperatura"]
["Toma de Muestra Integrada en Cuerpo Léntico",null,"Conductividad Eléctrica"]
["Toma de Muestra Integrada en Cuerpo Léntico",null,"Dióxido de Carbono in situ"]
["Toma de Muestra Integrada en Cuerpo Léntico",null,"Oxigeno Disuelto (Membrana y Luminiscencia)"]
["Toma de Muestra Integrada en Cuerpo Léntico",null,"Cloro Residual"]
["Toma de Muestra Integrada en Cuerpo Léntico",null,"Cloro Total"]
["Toma de Muestra Integrada en Cuerpo Léntico",null,"Sólidos Sedimentables"]
["Toma de muestra en aguas subterraneas",null,"pH"]
["Toma de muestras en aguas subterraneas",null,"Temperatura"]
["Toma de muestras en aguas subterraneas",null,"Conductividad Eléctrica"]
["Toma de muestras en aguas subterraneas",null,"Dióxido de Carbono in situ"]
["Toma de muestras en aguas subterraneas",null,"Oxigeno Disuelto (Membrana y Luminiscencia)"]
["Toma de muestras en aguas subterraneas",null,"Cloro Residual"]
["Toma de muestras en aguas subterraneas",null,"Cloro Total"]
["Toma de muestras en aguas subterraneas",null,"Sólidos Sedimentables"]
["Variables adicionales en aguas continentales"]
["Variables adicionales en aguas continentales"]
["Variables adicionales en aguas continentales"]
["Variables adicionales en aguas continentales"]
["Variables adicionales en aguas continentales"]
["Variables adicionales en aguas continentales"]
["Variables adicionales en aguas continentales"]
["Variables adicionales en aguas continentales"]
["Variables adicionales en aguas continentales"]
["Variables adicionales en aguas continentales"]
["Variables adicionales en aguas continentales"]
["Variables adicionales en aguas continentales"]
["Variables adicionales en aguas continentales"]
["Variables adicionales en aguas continentales"]
["Variables adicionales en aguas continentales"]
["Variables adicionales en aguas continentales"]
["Variables adicionales en aguas continentales"]
["Variables adicionales en aguas continentales"]
["Variables adicionales en aguas continentales"]
["Variables adicionales en aguas continentales"]
["Variables adicionales en aguas continentales"]
["Variables adicionales en aguas continentales"]
["Variables adicionales en aguas continentales"]
["Variables adicionales en aguas continentales"]
["Variables adicionales en aguas continentales"]
["Variables adicionales en aguas continentales"]
["Variables adicionales en aguas continentales"]
["Variables adicionales en aguas continentales"]
["Variables adicionales en aguas continentales"]
["Variables adicionales en aguas continentales"]
["Variables adicionales en aguas continentales"]
["Variables adicionales en aguas continentales"]
["Variables adicionales en aguas continentales"]
["Variables adicionales en aguas continentales"]
["Variables adicionales en aguas continentales"]
["Variables adicionales en aguas continentales"]
["Variables adicionales en aguas continentales"]
["Variables adicionales en aguas continentales"]
["Variables adicionales en aguas continentales"]
["Variables adicionales en aguas continentales"]
["Variables adicionales en aguas continentales"]
["Variables adicionales en aguas continentales"]
["Variables adicionales en aguas continentales"]
["Variables adicionales en aguas continentales"]
["Variables adicionales en aguas continentales"]
["Variables adicionales en aguas continentales"]
["Variables adicionales en aguas continentales"]
["Variables adicionales en aguas continentales"]
["Variables adicionales en aguas continentales"]
["Variables adicionales en aguas continentales"]
["Variables adicionales en aguas continentales"]
["Variables adicionales en aguas continentales"]
["Variables adicionales en aguas continentales"]
["Variables adicionales en aguas continentales"]
["Variables adicionales en aguas continentales"]
["Variables adicionales en aguas continentales"]
["Variables adicionales en aguas continentales"]
["Variables adicionales en aguas continentales"]
["Variables adicionales en aguas continentales"]
["Variables adicionales en aguas continentales"]
["Variables adicionales en aguas continentales"]
["Variables adicionales en aguas continentales"]
["Variables adicionales en aguas continentales"]
["Variables adicionales en aguas continentales"]
["Variables adicionales en aguas continentales"]
["Variables adicionales en aguas continentales"]
["Variables adicionales en aguas continentales"]
["Variables adicionales en aguas continentales"]
["Variables adicionales en aguas continentales"]
["Variables adicionales en aguas continentales"]
["Variables adicionales en aguas continentales"]
["Variables adicionales en aguas continentales"]
["Variables adicionales en aguas continentales"]
["Variables adicionales en aguas continentales"]
["Variables adicionales en aguas continentales"]
["Variables adicionales en aguas continentales"]
[]
["VARIABLES A EVALUAR"]
["MATRIZ AGUA MARINAS"]
["18. Matriz / Grupo",null,"19. Variable",null,"20. Variables solicitadas con fines de acreditación (Seleccionar las variables para las cuales solicita acreditación, indicando si corresponde a evaluación “INICIAL”, “SEGUIMIENTO”, “RENOVACIÓN” o “EXTENSIÓN”)",null,"21. Método de Referencia (Indicar el código del método de referencia que se solicita acreditar, incluyendo los métodos de procesos preliminares como extracción o digestión , p. ej. SM 3030 y SM 3111 B)"]
["Iones Principales o Minerales",null,"Alcalinidad total"]
["Iones Principales o Minerales",null,"Conductividad a 25ºC"]
["Iones Principales o Minerales",null,"Cloruro"]
["Iones Principales o Minerales",null,"Calcio disuelto"]
["Iones Principales o Minerales",null,"Calcio total"]
["Iones Principales o Minerales",null,"Magnesio disuelto"]
["Iones Principales o Minerales",null,"Magnesio total"]
["Iones Principales o Minerales",null,"Fluoruro"]
["Iones Principales o Minerales",null,"Potasio disuelto"]
["Iones Principales o Minerales",null,"Potasio total"]
["Iones Principales o Minerales",null,"Sodio disuelto"]
["Iones Principales o Minerales",null,"Sodio total"]
["Iones Principales o Minerales",null,"Sulfato"]
["Iones Principales o Minerales",null,"Dureza Total"]
["Iones Principales o Minerales",null,"Dureza Cálcica"]
["Iones Principales o Minerales",null,"Carbonatos, bicarbonatos e hidróxidos "]
["Nutrientes",null,"Nitrato"]
["Nutrientes",null,"Nitrito"]
["Nutrientes",null,"Amonio"]
["Nutrientes",null,"Nitrógeno Amoniacal"]
["Nutrientes",null,"Nitrogeno Organico"]
["Nutrientes",null,"Nitrógeno  Kjeldahl"]
["Nutrientes",null,"Fósforo reactivo total (leído como ortofosfato)"]
["Nutrientes",null,"Fósforo Acido hidrolizable Total (Léido como Ortofosfato)"]
["Nutrientes",null,"Fósforo Orgánico total ( a partir del cálculo del fósforo total y fósforo hidrolizable)"]
["Nutrientes",null,"Fósforo Total "]
["Nutrientes",null,"Fósforo reactivo Disuelto (leído como Ortofosfatos)"]
["Nutrientes",null,"Fósforo Acido Hidrolizable Disuelto (Léido como ortofosfatos)"]
["Nutrientes",null,"Fósforo Orgánico Disuelto (a partir del cálculo del Fósforo Disuelto Total y Fósforo Ácido - Hidrolizable Disuelto)"]
["Nutrientes",null,"Fósforo Disuelto Total (Leìdo como ortofosfatos)"]
["Metales Traza",null,"Aluminio disuelto"]
["Metales Traza",null,"Aluminio total "]
["Metales Traza",null,"Antimonio disuelto"]
["Metales Traza",null,"Antimonio total"]
["Metales Traza",null,"Arsénico disuelto"]
["Metales Traza",null,"Arsénico total"]
["Metales Traza",null,"Berilio disuelto"]
["Metales Traza",null,"Berilio total"]
["Metales Traza",null,"Boro disuelto"]
["Metales Traza",null,"Boro total"]
["Metales Traza",null,"Cadmio disuelto"]
["Metales Traza",null,"Cadmio total"]
["Metales Traza",null,"Cobalto disuelto"]
["Metales Traza",null,"Cobalto total"]
["Metales Traza",null,"Cobre disuelto"]
["Metales Traza",null,"Cobre total"]
["Metales Traza",null,"Cromo disuelto"]
["Metales Traza",null,"Cromo total"]
["Metales Traza",null,"Estroncio disuelto"]
["Metales Traza",null,"Estroncio total"]
["Metales Traza",null,"Hierro disuelto"]
["Metales Traza",null,"Hierro total"]
["Metales Traza",null,"Litio Disuelto"]
["Metales Traza",null,"Litio Total"]
["Metales Traza",null,"Manganeso disuelto"]
["Metales Traza",null,"Manganeso total"]
["Metales Traza",null,"Mercurio disuelto"]
["Metales Traza",null,"Mercurio total"]
["Metales Traza",null,"Molibdeno disuelto"]
["Metales Traza",null,"Molibdeno total"]
["Metales Traza",null,"Níquel disuelto"]
["Metales Traza",null,"Níquel total"]
["Metales Traza",null,"Plata disuelto"]
["Metales Traza",null,"Plata total"]
["Metales Traza",null,"Plomo disuelto"]
["Metales Traza",null,"Plomo total"]
["Metales Traza",null,"Selenio disuelto"]
["Metales Traza",null,"Selenio total"]
["Metales Traza",null,"Talio disuelto"]
["Metales Traza",null,"Talio total "]
["Metales Traza",null,"Titanio disuelto"]
["Metales Traza",null,"Titanio total"]
["Metales Traza",null,"Vanadio disuelto"]
["Metales Traza",null,"Vanadio total"]
["Metales Traza",null,"Zinc disuelto"]
["Metales Traza",null,"Zinc total"]
["Metales Traza",null,"Potasio Disuelto"]
["Metales Traza",null,"Potasio Total"]
["Metales Traza",null,"Sodio disuelto"]
["Metales Traza",null,"Sodio Total"]
["Metales Traza",null,"Calcio disuelto"]
["Metales Traza",null,"Calcio Total"]
["Metales Traza",null,"Magensio Disuelto"]
["Metales Traza",null,"Magensio Total"]
["Cromo VI",null,"Cromo VI"]
["Bario y Estaño",null,"Bario Disuelto"]
["Bario y Estaño",null,"Bario Total"]
["Bario y Estaño",null,"Estaño Disuelto"]
["Bario y Estaño",null,"Estaño Total"]
["Silice",null,"Sílice Disuelto"]
["Silice",null,"Sílice Total"]
["Sólidos o Residuos",null,"Sólidos Suspendidos Totales"]
["Sólidos o Residuos",null,"Sólidos Disueltos Totales"]
["Sólidos o Residuos",null,"Sólidos Totales"]
["Sólidos o Residuos",null,"Sólidos sedimentables"]
["Sólidos o Residuos",null,"Sólidos Fijos"]
["Sólidos o Residuos",null,"Sólidos Suspendidos Volátiles "]
["Sólidos o Residuos",null,"Sólidos Totales Volátiles "]
["Sólidos o Residuos",null,"Sólidos volátiles"]
["Microbiológico",null,"Coliformes Termotolerantes (anteriormente Coliformes fecales)"]
["Microbiológico",null,"Coliformes Totales"]
["Microbiológico",null,"Escherichia coli"]
["Microbiológico",null,"Bacterias Sulfato Reductoras"]
["Microbiológico",null,"Clostridium Sulfito Reductor"]
["Microbiológico",null,"Estreptococos fecal y Enterococcus"]
["Microbiológico",null,"Hongos y Levaduras"]
["Microbiológico",null,"Huevos de Helmintos"]
["Microbiológico",null,"Pseudomonas aeruginosa"]
["Microbiológico",null,"Recuento de Bacterias Heterótrofas"]
["Microbiológico",null,"Salmonella sp"]
["Microbiológico",null,"Giardia y Cryptosporidium"]
["Microbiológico",null,"Mesófilos Aerobios"]
["Demandas",null,"DBO (5 días)"]
["Demandas",null,"DQO"]
["Demandas",null,"COT"]
["Boro (Colorimétrico)",null,"Boro"]
["Sulfuro",null,"Sulfuro"]
["Silicio",null,"Silicio"]
["Turbidez",null,"Turbidez"]
["Acidez",null,"Acidez"]
["Cianuro",null,"Cianuro Total"]
["Cianuro",null," Cianuro disociable en acido debil"]
["Cianuro",null,"Cianuro Disuelto"]
["Fenoles ",null,"Fenoles "]
["Surfactantes",null,"Surfactantes Aniónicos como SAAM"]
["Color",null,"Color ( Longitud de onda simple )"]
["Color",null,"Color  real (3 longitudes de onda)"]
["Salinidad ",null,"Salinidad"]
["Grasas y Aceites",null,"Grasas y Aceites"]
["Compuestos Orgánicos Volátiles",null,"Acetona "]
["Compuestos Orgánicos Volátiles",null,"Acetonitrilo"]
["Compuestos Orgánicos Volátiles",null,"Acroleina "]
["Compuestos Orgánicos Volátiles",null,"Acrilonitrilo"]
["Compuestos Orgánicos Volátiles",null,"Cloruro de bencilo"]
["Compuestos Orgánicos Volátiles",null,"Bromoclorometano"]
["Compuestos Orgánicos Volátiles",null,"Bromodiclorometano"]
["Compuestos Orgánicos Volátiles",null,"4-Bromofluorobenceno"]
["Compuestos Orgánicos Volátiles",null,"Bromoformo "]
["Compuestos Orgánicos Volátiles",null,"Bromometano "]
["Compuestos Orgánicos Volátiles",null,"n-Butanol"]
["Compuestos Orgánicos Volátiles",null,"2-Butanona"]
["Compuestos Orgánicos Volátiles",null,"Disulfuro de carbono"]
["Compuestos Orgánicos Volátiles",null,"Tetracloruro de carbon"]
["Compuestos Orgánicos Volátiles",null,"Clorobenceno "]
["Compuestos Orgánicos Volátiles",null,"Clorodibromometano"]
["Compuestos Orgánicos Volátiles",null,"Cloroetano"]
["Compuestos Orgánicos Volátiles",null,"2-Cloroetanol"]
["Compuestos Orgánicos Volátiles",null,"2-Cloroetil vinil éter"]
["Compuestos Orgánicos Volátiles",null,"Cloroformo "]
["Compuestos Orgánicos Volátiles",null,"Clorometano "]
["Compuestos Orgánicos Volátiles",null,"1,2-Dibromo-3-cloropropano"]
["Compuestos Orgánicos Volátiles",null,"1,2-Dibromoetano"]
["Compuestos Orgánicos Volátiles",null,"Dibromometano"]
["Compuestos Orgánicos Volátiles",null,"1,2-Diclorobenceno"]
["Compuestos Orgánicos Volátiles",null,"1,3-Diclorobenceno "]
["Compuestos Orgánicos Volátiles",null,"1,4-Diclorobenceno"]
["Compuestos Orgánicos Volátiles",null,"cis-1,4-Dicloro-2-butano"]
["Compuestos Orgánicos Volátiles",null,"trans-1,4-Dicloro-2-butano"]
["Compuestos Orgánicos Volátiles",null,"Diclorodifluorometano"]
["Compuestos Orgánicos Volátiles",null,"1,1-Dicloroetano"]
["Compuestos Orgánicos Volátiles",null,"1,2-Dicloroetano"]
["Compuestos Orgánicos Volátiles",null,"trans-1,2-Dicloroetano"]
["Compuestos Orgánicos Volátiles",null,"1,2-Dicloropropano"]
["Compuestos Orgánicos Volátiles",null,"1,3-Dicloro-2-propanol"]
["Compuestos Orgánicos Volátiles",null,"Cis-1,3-Dicloropropano"]
["Compuestos Orgánicos Volátiles",null,"Trans-1,3-Dicloropropano"]
["Compuestos Orgánicos Volátiles",null,"Dietil Eter"]
["Compuestos Orgánicos Volátiles",null,"Etil terc-butil éter"]
["Compuestos Orgánicos Volátiles",null,"Hexaclorobutadieno"]
["Compuestos Orgánicos Volátiles",null,"Hexacloroetano"]
["Compuestos Orgánicos Volátiles",null,"Alcohol Isobutílico"]
["Compuestos Orgánicos Volátiles",null,"Cloruro de metileno"]
["Compuestos Orgánicos Volátiles",null,"4 - Metil - 2 - pentanona"]
["Compuestos Orgánicos Volátiles",null,"Metil terc-butil éter"]
["Compuestos Orgánicos Volátiles",null,"Naftaleno"]
["Compuestos Orgánicos Volátiles",null,"Nitrobenceno"]
["Compuestos Orgánicos Volátiles",null,"n-Nitroso-di-n-butilamina"]
["Compuestos Orgánicos Volátiles",null,"Pentacloroetano"]
["Compuestos Orgánicos Volátiles",null,"2-Pentanona"]
["Compuestos Orgánicos Volátiles",null,"1-Propanol "]
["Compuestos Orgánicos Volátiles",null,"2-Propanol"]
["Compuestos Orgánicos Volátiles",null,"n-Propilamina"]
["Compuestos Orgánicos Volátiles",null,"Piridina"]
["Compuestos Orgánicos Volátiles",null,"Estireno"]
["Compuestos Orgánicos Volátiles",null,"1,1,1,2-Tetracloroetano"]
["Compuestos Orgánicos Volátiles",null,"1,1,2,2-Tetracloroetano"]
["Compuestos Orgánicos Volátiles",null,"Tetracloroetano"]
["Compuestos Orgánicos Volátiles",null,"1,2,4-Triclorobenceno"]
["Compuestos Orgánicos Volátiles",null,"1,1,1-Tricoloetano"]
["Compuestos Orgánicos Volátiles",null,"1,1,2-Tricloroetano"]
["Compuestos Orgánicos Volátiles",null,"Tricloroetano"]
["Compuestos Orgánicos Volátiles",null,"Triclorofluorometano"]
["Compuestos Orgánicos Volátiles",null,"1,2,3-Tricloropropano"]
["Compuestos Orgánicos Volátiles",null,"Acetato de vinilo"]
["Compuestos Orgánicos Volátiles",null,"Cloruro de vinilo"]
["Compuestos Orgánicos Volátiles",null,"1,2,4-Trimetilbenceno"]
["Compuestos Orgánicos Volátiles",null,"1,3,5-Trimetilbenceno"]
["Compuestos Orgánicos Volátiles",null,"Diclorometano"]
["Compuestos Orgánicos Volátiles",null,"Percloroetileno"]
["Compuestos Orgánicos Volátiles",null,"1,1,1-Tricloroetano"]
["Compuestos Orgánicos Volátiles",null,"Tricloroetileno"]
["Compuestos Orgánicos Volátiles - BTEX",null,"Benceno "]
["Compuestos Orgánicos Volátiles - BTEX",null,"Tolueno"]
["Compuestos Orgánicos Volátiles - BTEX",null,"Etilbenceno"]
["Compuestos Orgánicos Volátiles - BTEX",null,"o-Xileno"]
["Compuestos Orgánicos Volátiles - BTEX",null,"m-Xileno"]
["Compuestos Orgánicos Volátiles - BTEX",null,"p-Xileno "]
["Compuestos Orgánicos Volátiles - BTEX",null,"m+p-xileno"]
["Compuestos Orgánicos Volátiles - BTEX",null,"Xileno total"]
["Pesticidas Organoclorados",null,"Aldrín"]
["Pesticidas Organoclorados",null,"4,4'-DDD"]
["Pesticidas Organoclorados",null,"4,4'-DDE"]
["Pesticidas Organoclorados",null,"4,4'-DDT"]
["Pesticidas Organoclorados",null,"Dieldrín"]
["Pesticidas Organoclorados",null,"Heptacloro"]
["Pesticidas Organoclorados",null,"Heptacloro epoxido"]
["Pesticidas Organoclorados",null,"Heptaclorobenceno"]
["Pesticidas Organoclorados",null,"Hexaclorociclopentadieno"]
["Pesticidas Organoclorados",null,"Alfa-BHC"]
["Pesticidas Organoclorados",null,"Beta-BHC"]
["Pesticidas Organoclorados",null,"Gama-BHC"]
["Pesticidas Organoclorados",null,"Delta-BHC"]
["Pesticidas Organoclorados",null,"Alfa-Clordano (Cis -clordano)"]
["Pesticidas Organoclorados",null,"Gama-Clordano (Trans-Clordano)"]
["Pesticidas Organoclorados",null,"Endosulfan I"]
["Pesticidas Organoclorados",null,"Endosulfan II"]
["Pesticidas Organoclorados",null,"Endosulfan sulfato"]
["Pesticidas Organoclorados",null,"Endrín aldehido"]
["Pesticidas Organoclorados",null,"Endrín cetona"]
["Pesticidas Organoclorados",null,"Endrín"]
["Pesticidas Organoclorados",null,"Metoxicloro"]
["Pesticidas Organoclorados",null,"Toxafeno"]
["Pesticidas Oganofosforados",null,"Etil-Azinfos"]
["Pesticidas Oganofosforados",null,"Metil-Azinfos "]
["Pesticidas Oganofosforados",null,"Clorfenvinfos"]
["Pesticidas Oganofosforados",null,"Clorpirifos"]
["Pesticidas Oganofosforados",null,"Metil Clorpirifos"]
["Pesticidas Oganofosforados",null,"Coumaphos"]
["Pesticidas Oganofosforados",null,"Demeton-O"]
["Pesticidas Oganofosforados",null,"Demeton-S"]
["Pesticidas Oganofosforados",null,"Diazinon"]
["Pesticidas Oganofosforados",null,"Diclorvos"]
["Pesticidas Oganofosforados",null,"Dimetoato"]
["Pesticidas Oganofosforados",null,"Dioxatión"]
["Pesticidas Oganofosforados",null,"Disulfoton"]
["Pesticidas Oganofosforados",null,"Fenitrotion"]
["Pesticidas Oganofosforados",null,"Fention"]
["Pesticidas Oganofosforados",null,"Malation"]
["Pesticidas Oganofosforados",null,"Mevinphos"]
["Pesticidas Oganofosforados",null,"Metil paration"]
["Pesticidas Oganofosforados",null,"Etil paration"]
["Pesticidas Oganofosforados",null,"Ronnel"]
["Pesticidas Oganofosforados",null,"Estirofos"]
["Pesticidas Oganofosforados",null,"Atrazina"]
["Pesticidas Oganofosforados",null,"Simazina"]
["Pesticidas Oganofosforados",null,"Metiocarb"]
["Pesticidas Oganofosforados",null,"Profam"]
["Pesticidas Oganofosforados",null,"Etion"]
["Pesticidas Oganofosforados",null,"Etil gution"]
["Pesticidas Oganofosforados",null,"Gution"]
["Pesticidas Oganofosforados",null,"Clorotalonil"]
["Pesticidas Oganofosforados",null,"Penoxalin"]
["Pesticidas Oganofosforados",null,"Primicarb"]
["Pesticidas Oganofosforados",null,"Propetanfos"]
["Pesticidas Oganofosforados",null,"Terbutrin"]
["Pesticidas Oganofosforados",null,"Trietazina"]
["PCBs en Agua",null,"Aroclor 1016"]
["PCBs en Agua",null,"Aroclor 1221"]
["PCB s en Agua",null,"Aroclor 1232"]
["PCB s en Agua",null,"Aroclor 1242"]
["PCB s en Agua",null,"Aroclor 1248"]
["PCB s en Agua",null,"Aroclor 1254"]
["PCB s en Agua",null,"Aroclor 1260"]
["Herbicidas",null,"Pentaclorofenol"]
["Herbicidas",null,"Acifluorfen"]
["Herbicidas",null,"Bentazon"]
["Herbicidas",null,"2,4-D Total"]
["Herbicidas",null,"2,4-DB"]
["Herbicidas",null,"Dicamba"]
["Herbicidas",null,"Acido 3,5-diclorobenzoico"]
["Herbicidas",null,"Dicloroprop"]
["Herbicidas",null,"Dinoseb"]
["Herbicidas",null,"5-Hidroxicamba"]
["Herbicidas",null,"Picloram"]
["Herbicidas",null,"Silvex"]
["Herbicidas",null,"2,4,5-T"]
["Herbicidas",null,"Diquat"]
["Herbicidas",null,"Endotal"]
["Herbicidas",null,"Glifosato"]
["Herbicidas",null,"Paraquat"]
["Toxafeno",null,"Toxafeno"]
["Clordano",null,"Clordano Total"]
["Carbamatos",null,"Aldicarb sulfona"]
["Carbamatos",null,"Aldicarb sulfoxido"]
["Carbamatos",null,"Carbaril (Sevin)"]
["Carbamatos",null,"Carbofurano (Furaden)"]
["Carbamatos",null,"Diuron"]
["Carbamatos",null,"3-Hidroxicarbofurano"]
["Carbamatos",null,"Metiocarb (Mesurol)"]
["Carbamatos",null,"Metomil (Lannate)"]
["Carbamatos",null,"Oxamil"]
["Carbamatos",null,"Profam"]
["Carbamatos",null,"Propoxur (Baygon)"]
["Hidrocarburos Aromáticos Policíclicos (PAHs)",null,"Naftaleno"]
["Hidrocarburos Aromáticos Policíclicos (PAHs)",null,"Acenafteno"]
["Hidrocarburos Aromáticos Policíclicos (PAHs)",null,"Acenaftileno"]
["Hidrocarburos Aromáticos Policíclicos (PAHs)",null,"Antraceno"]
["Hidrocarburos Aromáticos Policíclicos (PAHs)",null,"Benzo (a)antraceno"]
["Hidrocarburos Aromáticos Policíclicos (PAHs)",null,"Benzo (a)pireno"]
["Hidrocarburos Aromáticos Policíclicos (PAHs)",null,"Benzo (b)fluoranteno"]
["Hidrocarburos Aromáticos Policíclicos (PAHs)",null,"Benzo (j)fluoranteno"]
["Hidrocarburos Aromáticos Policíclicos (PAHs)",null,"Benzo (k)fluoranteno"]
["Hidrocarburos Aromáticos Policíclicos (PAHs)",null,"Benzo (g,h,i)perileno"]
["Hidrocarburos Aromáticos Policíclicos (PAHs)",null,"Criseno"]
["Hidrocarburos Aromáticos Policíclicos (PAHs)",null,"Dibenz (a,h)antraceno"]
["Hidrocarburos Aromáticos Policíclicos (PAHs)",null,"Fluoranteno"]
["Hidrocarburos Aromáticos Policíclicos (PAHs)",null,"Fluoreno"]
["Hidrocarburos Aromáticos Policíclicos (PAHs)",null,"Indenol (1,2,3-cd)pireno"]
["Hidrocarburos Aromáticos Policíclicos (PAHs)",null,"3-Metilcolantreno"]
["Hidrocarburos Aromáticos Policíclicos (PAHs)",null,"Fenantreno"]
["Hidrocarburos Aromáticos Policíclicos (PAHs)",null,"Pireno"]
["TPH (Hidrocarburos derivados del petróleo)",null,"Hidrocarburos"]
["TPH (Hidrocarburos derivados del petróleo)",null,"Hidrocarburos del Petróleo (Fracción GRO)"]
["TPH (Hidrocarburos derivados del petróleo)",null,"Hidrocarburos del Petróleo (Fracción DRO)"]
["Toma de muestra Aguas Marinas",null,"pH"]
["Toma de muestra Aguas Marinas",null,"Temperatura"]
["Toma de muestra Aguas Marinas",null,"Conductividad Eléctrica"]
["Toma de muestra Aguas Marinas",null,"Dióxido de Carbono in situ"]
["Toma de muestra Aguas Marinas",null,"Oxigeno Disuelto (Membarana y Luminiscencia)"]
["Toma de muestra Aguas Marinas",null,"Cloro Residual"]
["Toma de muestra Aguas Marinas",null,"Cloro Total"]
["Toma de muestra Aguas Marinas",null,"Sólidos Sedimentables"]
["Toma de muestra Aguas Marinas",null,"Caudal"]
["Variables adicionales en agua marina"]
["Variables adicionales en agua marina"]
["Variables adicionales en agua marina"]
["Variables adicionales en agua marina"]
["Variables adicionales en agua marina"]
["Variables adicionales en agua marina"]
["Variables adicionales en agua marina"]
["Variables adicionales en agua marina"]
["Variables adicionales en agua marina"]
["Variables adicionales en agua marina"]
["Variables adicionales en agua marina"]
["Variables adicionales en agua marina"]
["Variables adicionales en agua marina"]
["Variables adicionales en agua marina"]
["Variables adicionales en agua marina"]
["Variables adicionales en agua marina"]
["Variables adicionales en agua marina"]
["Variables adicionales en agua marina"]
["Variables adicionales en agua marina"]
["Variables adicionales en agua marina"]
["Variables adicionales en agua marina"]
["Variables adicionales en agua marina"]
["Variables adicionales en agua marina"]
["Variables adicionales en agua marina"]
["Variables adicionales en agua marina"]
["Variables adicionales en agua marina"]
["Variables adicionales en agua marina"]
["Variables adicionales en agua marina"]
["Variables adicionales en agua marina"]
["Variables adicionales en agua marina"]
["Variables adicionales en agua marina"]
["Variables adicionales en agua marina"]
["Variables adicionales en agua marina"]
["Variables adicionales en agua marina"]
["Variables adicionales en agua marina"]
["Variables adicionales en agua marina"]
["Variables adicionales en agua marina"]
["Variables adicionales en agua marina"]
["Variables adicionales en agua marina"]
["Variables adicionales en agua marina"]
["Variables adicionales en agua marina"]
["Variables adicionales en agua marina"]
["Variables adicionales en agua marina"]
["Variables adicionales en agua marina"]
["Variables adicionales en agua marina"]
["Variables adicionales en agua marina"]
["Variables adicionales en agua marina"]
["Variables adicionales en agua marina"]
[]
[]
["VARIABLES A EVALUAR"]
["MATRIZ RESIDUOS PELIGROSOS"]
["18. Matriz / Grupo",null,"19. Variable",null,"20. Variables solicitadas con fines de acreditación (Seleccionar las variables para las cuales solicita acreditación, indicando si corresponde a evaluación “INICIAL”, “SEGUIMIENTO”, “RENOVACIÓN” o “EXTENSIÓN”)",null,"21. Método de Referencia (Indicar el código del método de referencia que se solicita acreditar, incluyendo los métodos de procesos preliminares como extracción o digestión , p. ej. SM 3030 y SM 3111 B)"]
["TCLP - Metales",null,"Antimonio"]
["TCLP - Metales",null,"Arsénico"]
["TCLP - Metales",null,"Bario"]
["TCLP - Metales",null,"Cadmio"]
["TCLP - Metales",null,"Cobre"]
["TCLP - Metales",null,"Cromo"]
["TCLP - Metales",null,"Mercurio"]
["TCLP - Metales",null,"Molibdeno"]
["TCLP - Metales",null,"Níquel"]
["TCLP - Metales",null,"Plata"]
["TCLP - Metales",null,"Plomo"]
["TCLP - Metales",null,"Selenio"]
["TCLP - Metales",null,"Vanadio"]
["TCLP - Metales",null,"Zinc"]
["Ecotoxicidad",null,"Toxicidad Aguda para Daphnias"]
["Ecotoxicidad",null,"Toxicidad aguda para microalgas"]
["Ecotoxicidad",null,"Toxicidad aguda en peces "]
["Cromo VI",null,"Cromo VI"]
["Cianuro",null,"Cianuro"]
["Reactividad",null,"Reactividad (Cianuro)"]
["Reactividad",null,"Reactividad (Sulfuro)"]
["Reactividad",null,"Reactividad - Prueba para Sustancias que en Contacto con Agua Desprenden Gases Inflamables"]
["Reactividad",null,"Reactividad - Combustión espontánea (Sólidos)"]
["Reactividad",null,"Reactividad - Combustión espontánea (Líquidos)"]
["Reactividad",null,"Reactividad - Calentamiento espontáneo (Sólidos)"]
["Reactividad",null,"Reactividad - Calentamiento espontáneo (Líquidos)"]
["Reactividad",null,"Reactividad - Método de Prueba para Sustancias Sólidas Comburentes"]
["Corrosividad",null,"Corrosividad (Medición electrométrica de pH)"]
["Corrosividad",null,"Corrosividad (Reserva Ácido / Álcali)"]
["Corrosividad",null,"Corrosividad (Método de Prueba Corrosión al Acero)"]
["Punto de inflamación",null,"Punto de inflamabilidad (flash point) - Residuos Líquidos"]
["Punto de inflamación",null,"Punto de inflamabilidad (flash point) - Residuos Sólidos"]
["TCLP - Compuestos Orgánicos Semi-Volátiles",null,"1,4-Diclorobenceno"]
["TCLP - Compuestos Orgánicos Semi-Volátiles",null,"Hexaclorobutadieno"]
["TCLP - Compuestos Orgánicos Semi-Volátiles",null,"Hexacloroetano"]
["TCLP - Compuestos Orgánicos Semi-Volátiles",null,"Nitrobenceno"]
["TCLP - Compuestos Orgánicos Semi-Volátiles",null,"Piridina"]
["TCLP - Compuestos Orgánicos Semi-Volátiles",null,"2,4-Dinitrotolueno"]
["TCLP - Compuestos Orgánicos Semi-Volátiles",null,"Hexanoclorobenceno"]
["TCLP - Compuestos Orgánicos Semi-Volátiles",null,"o-Cresol"]
["TCLP - Compuestos Orgánicos Semi-Volátiles",null,"p-Cresol"]
["TCLP - Compuestos Orgánicos Semi-Volátiles",null,"m+p-Cresol"]
["TCLP - Compuestos Orgánicos Semi-Volátiles",null,"Cresol Total"]
["TCLP - Compuestos Orgánicos Semi-Volátiles",null,"Pentaclorofenol"]
["TCLP - Compuestos Orgánicos Semi-Volátiles",null,"2,4,5-Triclorofenol"]
["TCLP - Compuestos Orgánicos Semi-Volátiles",null,"2,4,6-Triclorofenol"]
["TCLP - Compuestos Orgánicos Semi-Volátiles",null,"Gamma-BHC (Lindano)"]
["TCLP - Compuestos Orgánicos Semi-Volátiles",null,"Clordano Total"]
["TCLP - Compuestos Orgánicos Semi-Volátiles",null,"Endrìn"]
["TCLP - Compuestos Orgánicos Semi-Volátiles",null,"Heptacloro"]
["TCLP - Compuestos Orgánicos Semi-Volátiles",null,"Metoxicloro"]
["TCLP - Compuestos Orgánicos Semi-Volátiles",null,"Toxafeno"]
["TCLP - Compuestos Orgánicos Semi-Volátiles",null,"2,4-D"]
["TCLP - Compuestos Orgánicos Semi-Volátiles",null,"Silvex (2,4,5-TP)"]
["Dioxinas  y Furanos",null,"1,2,3,4,6,7,8-Hpcdf"]
["Dioxinas  y Furanos",null,"1,2,3,4,7,8,9-Hpcdf"]
["Dioxinas  y Furanos",null,"1,2,3,4,6,7,8-Hpcdd"]
["Dioxinas  y Furanos",null,"Hpcdd Total"]
["Dioxinas  y Furanos",null,"Hpcdf Total"]
["Dioxinas  y Furanos",null,"1,2,3,4,7,8-Hxcdd"]
["Dioxinas  y Furanos",null,"1,2,3,6,7,8-Hxcdd"]
["Dioxinas  y Furanos",null,"1,2,3,7,8,9-Hxcdd"]
["Dioxinas  y Furanos",null,"Hxcdd Total"]
["Dioxinas  y Furanos",null,"1,2,3,4,7,8-Hxcdf"]
["Dioxinas  y Furanos",null,"1,2,3,6,7,8-Hxcdf"]
["Dioxinas  y Furanos",null,"1,2,3,7,8,9-Hxcdf"]
["Dioxinas  y Furanos",null,"2,3,4,6,7,8-Hxcdf"]
["Dioxinas  y Furanos",null,"Hxcdf Total"]
["Dioxinas  y Furanos",null,"1,2,3,4,6,7,8,9-OCDF"]
["Dioxinas  y Furanos",null,"1,2,3,4,6,7,8,9-OCDD"]
["Dioxinas  y Furanos",null,"1,2,3,7,8-Pecdd"]
["Dioxinas  y Furanos",null,"1,2,3,7,8-Pecdf"]
["Dioxinas  y Furanos",null,"2,3,4,7,8-Pecdf"]
["Dioxinas  y Furanos",null,"Pecdf Total"]
["Dioxinas  y Furanos",null,"Pecdd Total"]
["Dioxinas  y Furanos",null,"2,3,7,8-TCDD"]
["Dioxinas  y Furanos",null,"2,3,7,8-TCDF"]
["Dioxinas  y Furanos",null,"TCDF Total"]
["Dioxinas  y Furanos",null,"TCDD Total"]
["Dioxinas  y Furanos",null,"PCDD Total"]
["Dioxinas  y Furanos",null,"PCDD+PCDF Total"]
["Dioxinas  y Furanos",null,"PCDF Total"]
["PCB Congéneres",null,"PCB 28"]
["PCB Congéneres",null,"PCB 52"]
["PCB Congéneres",null,"PCB 101"]
["PCB Congéneres",null,"PCB 118"]
["PCB Congéneres",null,"PCB 138"]
["PCB Congéneres",null,"PCB 153"]
["PCB Congéneres",null,"PCB 180"]
["TPH (Hidrocarburos derivados del petróleo)",null,"Hidrocarburos"]
["TPH (Hidrocarburos derivados del petróleo)",null,"Hidrocarburos del Petróleo (Fracción GRO)"]
["TPH (Hidrocarburos derivados del petróleo)",null,"Hidrocarburos del Petróleo (Fracción DRO)"]
["Microbiológico",null,"Escehrichia coli"]
["Microbiológico",null,"Hongos  Moniliformes"]
["Microbiológico",null,"Bacillus  subtilis"]
["Microbiológico",null,"Enterococcus Faecalis"]
["Microbiológico",null,"Pseudomonas aeruginosa"]
["Toma de Muestra en Residuos Peligrosos",null,"Toma de muestra Puntual / Compuesta en Residuos Peligrosos"]
["Toma de Muestra en Residuos Peligrosos",null,"Toma de muestra en tanques"]
["Toma de Muestra en Residuos Peligrosos",null,"Toma de muestra en barriles"]
["Toma de Muestra en Residuos Peligrosos",null,"Toma de muestra en pilas de desecho"]
["Toma de Muestra en Residuos Peligrosos",null,"Toma de muestra en sedimentadores"]
["Toma de Muestra en Residuos Peligrosos",null,"Toma de muestra en lonas, costales o bolsas"]
["Toma de Muestra en Residuos Peligrosos",null,"Toma de muestra en suelos, sedimentos y otros materiales geológicos."]
["Toma de Muestra en Residuos Peligrosos",null,"Toma de muestra en bandas transportadoras"]
["Otras variables en Respel"]
["Otras variables en Respel"]
["Otras variables en Respel"]
["Otras variables en Respel"]
["Otras variables en Respel"]
["Otras variables en Respel"]
["Otras variables en Respel"]
["Otras variables en Respel"]
["Otras variables en Respel"]
["Otras variables en Respel"]
["Otras variables en Respel"]
["Otras variables en Respel"]
["Otras variables en Respel"]
["Otras variables en Respel"]
["Otras variables en Respel"]
["Otras variables en Respel"]
["Otras variables en Respel"]
["Otras variables en Respel"]
["Otras variables en Respel"]
["Otras variables en Respel"]
["Otras variables en Respel"]
["Otras variables en Respel"]
["Otras variables en Respel"]
["Otras variables en Respel"]
["Otras variables en Respel"]
["Otras variables en Respel"]
["Otras variables en Respel"]
["Otras variables en Respel"]
["Otras variables en Respel"]
["Otras variables en Respel"]
[]
["VARIABLES A EVALUAR"]
["MATRIZ BIOTA"]
["18. Matriz / Grupo",null,"19. Variable",null,"20. Variables solicitadas con fines de acreditación (Seleccionar las variables para las cuales solicita acreditación, indicando si corresponde a evaluación “INICIAL”, “SEGUIMIENTO”, “RENOVACIÓN” o “EXTENSIÓN”)",null,"21. Método de Referencia (Indicar el código del método de referencia que se solicita acreditar, incluyendo los métodos de procesos preliminares como extracción o digestión , p. ej. SM 3030 y SM 3111 B)"]
["Análisis - Biológico Aguas continentales",null,"Perifiton"]
["Análisis - Biológico Aguas continentales",null,"Bentos"]
["Análisis - Biológico Aguas continentales",null,"Fitoplacton"]
["Análisis - Biológico Aguas continentales",null,"Zooplacton"]
["Análisis - Biológico Aguas continentales",null,"Macrófitas Acuáticas"]
["Análisis - Biológico Aguas continentales",null,"Peces"]
["Análisis - Biológico Aguas continentales",null,"Macroinvertebrados Bénticos"]
["Análisis - Biológico Aguas continentales",null,"Biomasa Zooplantonica"]
["Toma de Muestra en cuerpo Lótico - Aguas Continentales",null,"Fitoplancton"]
["Toma de Muestra en cuerpo Lótico - Aguas Continentales",null,"Zooplancton"]
["Toma de Muestra en cuerpo Lótico - Aguas Continentales",null,"Perifiton"]
["Toma de Muestra en cuerpo Lótico - Aguas Continentales",null,"Macroinvertebrados Bentónicos"]
["Toma de Muestra en cuerpo Lótico - Aguas Continentales",null,"Peces"]
["Toma de Muestra en cuerpo Lótico - Aguas Continentales",null,"Macrófitas"]
["Toma de Muestra en cuerpo Léntico - Aguas Continentales",null,"Fitoplancton"]
["Toma de Muestra en cuerpo Léntico - Aguas Continentales",null,"Zooplancton"]
["Toma de Muestra en cuerpo Léntico - Aguas Continentales",null,"Perifiton"]
["Toma de Muestra en cuerpo Léntico - Aguas Continentales",null,"Macroinvertebrados Bentónicos"]
["Toma de Muestra en cuerpo Léntico - Aguas Continentales",null,"Peces"]
["Toma de Muestra en cuerpo Léntico - Aguas Continentales",null,"Macrófitas"]
["Toma de Muestra  - Aguas Marinas",null,"Fitoplancton"]
["Toma de Muestra  - Aguas Marinas",null,"Zooplancton"]
["Toma de Muestra  - Aguas Marinas",null,"Peces"]
["Toma de Muestra  - Aguas Marinas",null,"Bentos"]
["Toma de Muestra  - Aguas Marinas",null,"Corales"]
["Toma de Muestra  - Aguas Marinas",null,"Pastos Marinos"]
["Toma de Muestra  - Aguas Marinas",null,"Litorales Rocosos"]
["Toma de Muestra  - Aguas Marinas",null,"Litorales Arenosos"]
["Toma de Muestra  - Aguas Marinas",null,"Fondos Blandos"]
["Toma de Muestra  - Aguas Marinas",null,"Macroinvertebrados asociados a macrófitos"]
["Toma de Muestra  - Aguas Marinas",null,"Manglares"]
["Análisis - Agua marina",null,"Fitoplancton"]
["Análisis - Agua marina",null,"Zooplancton"]
["Análisis - Agua marina",null,"Bentos"]
["Análisis - Agua marina",null,"Peces"]
["Análisis - Agua marina",null,"Corales"]
["Análisis - Agua marina",null,"Pastos Marinos"]
["Análisis - Agua marina",null,"Litorales Rocosos"]
["Análisis - Agua marina",null,"Litorales Arenosos"]
["Análisis - Agua marina",null,"Manglares"]
["Otras Variables en Biota"]
["Otras Variables en Biota"]
["Otras Variables en Biota"]
["Otras Variables en Biota"]
["Otras Variables en Biota"]
["Otras Variables en Biota"]
["Otras Variables en Biota"]
["Otras Variables en Biota"]
["Otras Variables en Biota"]
["Otras Variables en Biota"]
["Otras Variables en Biota"]
["Otras Variables en Biota"]
["Otras Variables en Biota"]
["Otras Variables en Biota"]
["Otras Variables en Biota"]
["Otras Variables en Biota"]
["Otras Variables en Biota"]
["Otras Variables en Biota"]
["Otras Variables en Biota"]
["Otras Variables en Biota"]
["Otras Variables en Biota"]
["Otras Variables en Biota"]
["Otras Variables en Biota"]
["Otras Variables en Biota"]
["Otras Variables en Biota"]
["Otras Variables en Biota"]
["Otras Variables en Biota"]
["Otras Variables en Biota"]
["Otras Variables en Biota"]
["Otras Variables en Biota"]
["Otras Variables en Biota"]
["Otras Variables en Biota"]
["Otras Variables en Biota"]
["Otras Variables en Biota"]
["Otras Variables en Biota"]
["Otras Variables en Biota"]
["Otras Variables en Biota"]
["Otras Variables en Biota"]
["Otras Variables en Biota"]
["Otras Variables en Biota"]
["Otras Variables en Biota"]
["Otras Variables en Biota"]
["Otras Variables en Biota"]
["Otras Variables en Biota"]
["Otras Variables en Biota"]
["Otras Variables en Biota"]
[]
["VARIABLES A EVALUAR"]
["MATRIZ ACEITES DE TRANSFORMADOR"]
["18. Matriz / Grupo",null,"19. Variable",null,"20. Variables solicitadas con fines de acreditación (Seleccionar las variables para las cuales solicita acreditación, indicando si corresponde a evaluación “INICIAL”, “SEGUIMIENTO”, “RENOVACIÓN” o “EXTENSIÓN”)",null,"21. Método de Referencia (Indicar el código del método de referencia que se solicita acreditar, incluyendo los métodos de procesos preliminares como extracción o digestión , p. ej. SM 3030 y SM 3111 B)"]
["Análisis - PCB's en Aceite de transformador",null,"Aroclor 1016"]
["Análisis - PCB's en Aceite de transformador",null,"Aroclor 1221"]
["Análisis - PCB's en Aceite de transformador",null,"Aroclor 1232"]
["Análisis - PCB's en Aceite de transformador",null,"Aroclor 1242"]
["Análisis - PCB's en Aceite de transformador",null,"Aroclor 1248"]
["Análisis - PCB's en Aceite de transformador",null,"Aroclor 1254"]
["Análisis - PCB's en Aceite de transformador",null,"Aroclor 1260"]
["Análisis - PCB's en Aceite de transformador",null,"Aroclor Totales o Mezcla [1242,1254,1260]"]
["PCB's en Aceite de transformador",null,"Toma de muestra PCBs "]
[" PCB's en Superficies solidas",null,"Toma de muestra PCBs "]
["Análisis - PCB's en Superficies Sólidas",null,"Aroclor 1016"]
["Análisis - PCB's en Superficies Sólidas",null,"Aroclor 1221"]
["Análisis - PCB's en Superficies Sólidas",null,"Aroclor 1232"]
["Análisis - PCB's en Superficies Sólidas",null,"Aroclor 1242"]
["Análisis - PCB's en Superficies Sólidas",null,"Aroclor 1248"]
["Análisis - PCB's en Superficies Sólidas",null,"Aroclor 1254"]
["Análisis - PCB's en Superficies Sólidas",null,"Aroclor 1260"]
["Análisis - PCB's en Superficies Sólidas",null,"Aroclor Totales o Mezcla  [1242,1254,1260]"]
["Otras variables en Aceites de transformador"]
["Otras variables en Aceites de transformador"]
["Otras variables en Aceites de transformador"]
["Otras variables en Aceites de transformador"]
["Otras variables en Aceites de transformador"]
["Otras variables en Aceites de transformador"]
["Otras variables en Aceites de transformador"]
["Otras variables en Aceites de transformador"]
["Otras variables en Aceites de transformador"]
["Otras variables en Aceites de transformador"]
["Otras variables en Aceites de transformador"]
["Otras variables en Aceites de transformador"]
[]
["VARIABLES A EVALUAR"]
["MATRIZ SUELO"]
["18. Matriz / Grupo",null,"19. Variable",null,"20. Variables solicitadas con fines de acreditación (Seleccionar las variables para las cuales solicita acreditación, indicando si corresponde a evaluación “INICIAL”, “SEGUIMIENTO”, “RENOVACIÓN” o “EXTENSIÓN”)",null,"21. Método de Referencia (Indicar el código del método de referencia que se solicita acreditar, incluyendo los métodos de procesos preliminares como extracción o digestión , p. ej. SM 3030 y SM 3111 B)"]
["Humedad",null,"Humedad de campo"]
["Textura",null,"Textura"]
["pH",null,"pH"]
["Conductividad Eléctrica",null,"Conductividad Eléctrica"]
["Capacidad de Intercambio Catiónico",null,"Capacidad de Intercambio Catiónico"]
["Acidez Intercambiable",null,"Acidez Intercambiable"]
["RAS",null,"Realción de adsorción de Sodio"]
["Sólidos o Residuos",null,"Sólidos Totales"]
["Cenizas",null,"Cenizas"]
["Alcalinidad",null,"Alcalinidad"]
["Densidad Aparente",null,"Toma de muestra y análisis para determinación de densidad aparente"]
["Densidad Real",null,"Toma de muestra y análisis para determinación de densidad real"]
["Aniones",null,"Bromuro"]
["Aniones",null,"Cloruro"]
["Aniones",null,"Fluoruro"]
["Aniones",null,"Nitrato como N"]
["Aniones",null,"Nitrito como N"]
["Aniones",null,"Fosforo disponible"]
["Aniones",null,"Sulfato"]
["Nutrientes",null,"Amonio como N"]
["Nutrientes",null,"Nitrógeno Total Kjeldahl"]
["Nutrientes",null,"Carbono Orgánico Total"]
["Nutrientes",null,"Fósforo Total"]
["Nutrientes",null,"Carbono Orgánico Oxidable"]
["Microbiológico",null,"Escherichia coli"]
["Microbiológico",null,"Coliformes  Totales"]
["Microbiológico",null,"Salmonella sp."]
["Microbiológico",null,"Huevos de Helminto"]
["Microbiológico",null,"Bacterias Sulfato Reductoras"]
["Metales",null,"Aluminio"]
["Metales",null,"Antimonio"]
["Metales",null,"Arsénico"]
["Metales",null,"Bario"]
["Metales",null,"Berilio"]
["Metales",null,"Boro"]
["Metales",null,"Cadmio"]
["Metales",null,"Calcio"]
["Metales",null,"Cobalto"]
["Metales",null,"Cobre"]
["Metales",null,"Cromo"]
["Metales",null,"Estaño"]
["Metales",null,"Estroncio"]
["Metales",null,"Hierro"]
["Metales",null,"Litio"]
["Metales",null,"Magnesio"]
["Metales",null,"Manganeso"]
["Metales",null,"Mercurio"]
["Metales",null,"Molibdeno"]
["Metales",null,"Níquel"]
["Metales",null,"Plata"]
["Metales",null,"Plomo"]
["Metales",null,"Potasio"]
["Metales",null,"Selenio"]
["Metales",null,"Sodio"]
["Metales",null,"Talio"]
["Metales",null,"Titanio"]
["Metales",null,"Vanadio"]
["Metales",null,"Zinc"]
["Pesticidas Organoclorados",null,"Aldrín"]
["Pesticidas Organoclorados",null,"4,4'-DDD"]
["Pesticidas Organoclorados",null,"4,4'-DDE"]
["Pesticidas Organoclorados",null,"4,4'-DDT"]
["Pesticidas Organoclorados",null,"Dieldrín"]
["Pesticidas Organoclorados",null,"Heptacloro"]
["Pesticidas Organoclorados",null,"Alfa-BHC"]
["Pesticidas Organoclorados",null,"Beta-BHC"]
["Pesticidas Organoclorados",null,"Gama-BHC (Lindano)"]
["Pesticidas Organoclorados",null,"Endosulfan I"]
["Pesticidas Organoclorados",null,"Endosulfan II"]
["Pesticidas Organoclorados",null,"Endosulfan sulfato"]
["Pesticidas Organoclorados",null,"Endrín"]
["Pesticidas Organoclorados",null,"Metoxicloro"]
["Pesticidas Organofosforados",null,"Metil azinfos (Gutión)"]
["Pesticidas Organofosforados",null,"Demetón-O"]
["Pesticidas Organofosforados",null,"Demetón-S"]
["Pesticidas Organofosforados",null,"Diazinon"]
["Pesticidas Organofosforados",null,"Diclorvos (DDVP)"]
["Pesticidas Organofosforados",null,"Malation"]
["Pesticidas Organofosforados",null,"Etil paration"]
["Pesticidas Organofosforados",null,"Forato"]
["Pesticidas Organofosforados",null,"Ronnel"]
["Pesticidas Organofosforados",null,"Tetraclorvinfos"]
["Herbicidas",null,"2,4-D"]
["Herbicidas",null,"2,4-DB"]
["Herbicidas",null,"Dalapon"]
["Herbicidas",null,"Dicamba"]
["Herbicidas",null,"Disulfoton"]
["Herbicidas",null,"MCPA"]
["Herbicidas",null,"MCPP"]
["Herbicidas",null,"Pentaclorofenol"]
["Herbicidas",null,"Silvex (2,4,5-TP)"]
["Herbicidas",null,"2,4,5-T"]
["Dioxinas  y Furanos",null,"1,2,3,4,6,7,8-Hpcdf"]
["Dioxinas  y Furanos",null,"1,2,3,4,7,8,9-Hpcdf"]
["Dioxinas  y Furanos",null,"1,2,3,4,6,7,8-Hpcdd"]
["Dioxinas  y Furanos",null,"Hpcdd Total"]
["Dioxinas  y Furanos",null,"Hpcdf Total"]
["Dioxinas  y Furanos",null,"1,2,3,4,7,8-Hxcdd"]
["Dioxinas  y Furanos",null,"1,2,3,6,7,8-Hxcdd"]
["Dioxinas  y Furanos",null,"1,2,3,7,8,9-Hxcdd"]
["Dioxinas  y Furanos",null,"Hxcdd Total"]
["Dioxinas  y Furanos",null,"1,2,3,4,7,8-Hxcdf"]
["Dioxinas  y Furanos",null,"1,2,3,6,7,8-Hxcdf"]
["Dioxinas  y Furanos",null,"1,2,3,7,8,9-Hxcdf"]
["Dioxinas  y Furanos",null,"2,3,4,6,7,8-Hxcdf"]
["Dioxinas  y Furanos",null,"Hxcdf Total"]
["Dioxinas  y Furanos",null,"1,2,3,4,6,7,8,9-OCDF"]
["Dioxinas  y Furanos",null,"1,2,3,4,6,7,8,9-OCDD"]
["Dioxinas  y Furanos",null,"1,2,3,7,8-Pecdd"]
["Dioxinas  y Furanos",null,"1,2,3,7,8-Pecdf"]
["Dioxinas  y Furanos",null,"2,3,4,7,8-Pecdf"]
["Dioxinas  y Furanos",null,"Pecdf Total"]
["Dioxinas  y Furanos",null,"Pecdd Total"]
["Dioxinas  y Furanos",null,"2,3,7,8-TCDD"]
["Dioxinas  y Furanos",null,"2,3,7,8-TCDF"]
["Dioxinas  y Furanos",null,"TCDF Total"]
["Dioxinas  y Furanos",null,"TCDD Total"]
["Dioxinas  y Furanos",null,"PCDD Total"]
["Dioxinas  y Furanos",null,"PCDD+PCDF Total"]
["Dioxinas  y Furanos",null,"PCDF Total"]
["PCB Congéneres",null,"PCB 28"]
["PCB Congéneres",null,"PCB 52"]
["PCB Congéneres",null,"PCB 101"]
["PCB Congéneres",null,"PCB 118"]
["PCB Congéneres",null,"PCB 138"]
["PCB Congéneres",null,"PCB 153"]
["PCB Congéneres",null,"PCB 180"]
["TPH (Hidrocarburos derivados del petróleo)",null,"Hidrocarburos"]
["TPH (Hidrocarburos derivados del petróleo)",null,"Hidrocarburos del Petróleo (Fracción GRO)"]
["TPH (Hidrocarburos derivados del petróleo)",null,"Hidrocarburos del Petróleo (Fracción DRO)"]
["Toma de Muestra en Suelo",null,"Toma de Muestra"]
["Otras variables en Suelo"]
["Otras variables en Suelo"]
["Otras variables en Suelo"]
["Otras variables en Suelo"]
["Otras variables en Suelo"]
["Otras variables en Suelo"]
["Otras variables en Suelo"]
["Otras variables en Suelo"]
["Otras variables en Suelo"]
["Otras variables en Suelo"]
["Otras variables en Suelo"]
["Otras variables en Suelo"]
["Otras variables en Suelo"]
["Otras variables en Suelo"]
["Otras variables en Suelo"]
["Otras variables en Suelo"]
["Otras variables en Suelo"]
["Otras variables en Suelo"]
["Otras variables en Suelo"]
["Otras variables en Suelo"]
["Otras variables en Suelo"]
["Otras variables en Suelo"]
["Otras variables en Suelo"]
["Otras variables en Suelo"]
["Otras variables en Suelo"]
["Otras variables en Suelo"]
["Otras variables en Suelo"]
["Otras variables en Suelo"]
["Otras variables en Suelo"]
["Otras variables en Suelo"]
["Otras variables en Suelo"]
["Otras variables en Suelo"]
["Otras variables en Suelo"]
["Otras variables en Suelo"]
["Otras variables en Suelo"]
["Otras variables en Suelo"]
["Otras variables en Suelo"]
["Otras variables en Suelo"]
["Otras variables en Suelo"]
["Otras variables en Suelo"]
["Otras variables en Suelo"]
[]
["VARIABLES A EVALUAR"]
["MATRIZ LODO"]
["18. Matriz / Grupo",null,"19. Variable",null,"20. Variables solicitadas con fines de acreditación (Seleccionar las variables para las cuales solicita acreditación, indicando si corresponde a evaluación “INICIAL”, “SEGUIMIENTO”, “RENOVACIÓN” o “EXTENSIÓN”)",null,"21. Método de Referencia (Indicar el código del método de referencia que se solicita acreditar, incluyendo los métodos de procesos preliminares como extracción o digestión , p. ej. SM 3030 y SM 3111 B)"]
["Metales",null,"Aluminio"]
["Metales",null,"Antimonio"]
["Metales",null,"Arsénico"]
["Metales",null,"Bario"]
["Metales",null,"Berilio"]
["Metales",null,"Boro"]
["Metales",null,"Cadmio"]
["Metales",null,"Calcio"]
["Metales",null,"Cobalto"]
["Metales",null,"Cobre"]
["Metales",null,"Cromo"]
["Metales",null,"Litio"]
["Metales",null,"Estaño"]
["Metales",null,"Estroncio"]
["Metales",null,"Hierro"]
["Metales",null,"Magnesio"]
["Metales",null,"Manganeso"]
["Metales",null,"Mercurio"]
["Metales",null,"Molibdeno"]
["Metales",null,"Níquel"]
["Metales",null,"Plata"]
["Metales",null,"Plomo"]
["Metales",null,"Potasio"]
["Metales",null,"Selenio"]
["Metales",null,"Sodio"]
["Metales",null,"Talio"]
["Metales",null,"Titanio"]
["Metales",null,"Vanadio"]
["Metales",null,"Zinc"]
["Microbiológico",null,"Huevos de Helminto"]
["Microbiológico",null,"Coliformes Termotolerantes"]
["Microbiológico",null,"Salmonella sp."]
["Otras variables en Lodos",null,"Especificado por el Usuario"]
["Otras variables en Lodos",null,"Especificado por el Usuario"]
["Otras variables en Lodos",null,"Especificado por el Usuario"]
["Otras variables en Lodos",null,"Especificado por el Usuario"]
["Otras variables en Lodos",null,"Especificado por el Usuario"]
["Otras variables en Lodos",null,"Especificado por el Usuario"]
["Otras variables en Lodos",null,"Especificado por el Usuario"]
["Otras variables en Lodos",null,"Especificado por el Usuario"]
["Otras variables en Lodos",null,"Especificado por el Usuario"]
["Otras variables en Lodos",null,"Especificado por el Usuario"]
["Otras variables en Lodos",null,"Especificado por el Usuario"]
["Otras variables en Lodos",null,"Especificado por el Usuario"]
["Otras variables en Lodos",null,"Especificado por el Usuario"]
["Otras variables en Lodos",null,"Especificado por el Usuario"]
["Otras variables en Lodos",null,"Especificado por el Usuario"]
["Otras variables en Lodos",null,"Especificado por el Usuario"]
["Otras variables en Lodos",null,"Especificado por el Usuario"]
["Otras variables en Lodos",null,"Especificado por el Usuario"]
["Otras variables en Lodos",null,"Especificado por el Usuario"]
["Otras variables en Lodos",null,"Especificado por el Usuario"]
["Otras variables en Lodos",null,"Especificado por el Usuario"]
["Otras variables en Lodos",null,"Especificado por el Usuario"]
["Otras variables en Lodos",null,"Especificado por el Usuario"]
["Otras variables en Lodos",null,"Especificado por el Usuario"]
["Otras variables en Lodos",null,"Especificado por el Usuario"]
["Otras variables en Lodos",null,"Especificado por el Usuario"]
["Otras variables en Lodos",null,"Especificado por el Usuario"]
["Otras variables en Lodos",null,"Especificado por el Usuario"]
["Otras variables en Lodos",null,"Especificado por el Usuario"]
["Otras variables en Lodos",null,"Especificado por el Usuario"]
["Otras variables en Lodos",null,"Especificado por el Usuario"]
["Otras variables en Lodos",null,"Especificado por el Usuario"]
["Otras variables en Lodos",null,"Especificado por el Usuario"]
["Otras variables en Lodos",null,"Especificado por el Usuario"]
[]
["VARIABLES A EVALUAR"]
["MATRIZ SEDIMENTO"]
["18. Matriz / Grupo",null,"19. Variable",null,"20. Variables solicitadas con fines de acreditación (Seleccionar las variables para las cuales solicita acreditación, indicando si corresponde a evaluación “INICIAL”, “SEGUIMIENTO”, “RENOVACIÓN” o “EXTENSIÓN”)",null,"21. Método de Referencia (Indicar el código del método de referencia que se solicita acreditar, incluyendo los métodos de procesos preliminares como extracción o digestión , p. ej. SM 3030 y SM 3111 B)"]
["Metales",null,"Aluminio"]
["Metales",null,"Antimonio"]
["Metales",null,"Arsénico"]
["Metales",null,"Bario"]
["Metales",null,"Berilio"]
["Metales",null,"Boro"]
["Metales",null,"Cadmio"]
["Metales",null,"Calcio"]
["Metales",null,"Cobalto"]
["Metales",null,"Cobre"]
["Metales",null,"Cromo"]
["Metales",null,"Litio"]
["Metales",null,"Estaño"]
["Metales",null,"Estroncio"]
["Metales",null,"Hierro"]
["Metales",null,"Magnesio"]
["Metales",null,"Manganeso"]
["Metales",null,"Mercurio"]
["Metales",null,"Molibdeno"]
["Metales",null,"Níquel"]
["Metales",null,"Plata"]
["Metales",null,"Plomo"]
["Metales",null,"Potasio"]
["Metales",null,"Selenio"]
["Metales",null,"Sodio"]
["Metales",null,"Talio"]
["Metales",null,"Titanio"]
["Metales",null,"Vanadio"]
["Metales",null,"Zinc"]
["Granulometría",null,"Granulometría"]
["Grasas y Aceites",null,"Grasas y Aceites"]
["Hidrocarburos",null,"Hidrocarburos"]
["Toma de muestra de Sedimento",null,"Toma de Muestra de Sedimento"]
["Toma de muestra de Sedimento",null,"Toma de Muestra de Sedimento Marino"]
["Toma de muestra de Sedimento",null,"Toma de Muestra de Sedimento en Cuerpo Lénticos"]
["Toma de muestra de Sedimento",null,"Toma de Muestra de Sedimento en Cuerpo Lóticos"]
["PCB Congéneres en Sedimento",null,"PCB 28"]
["PCB Congéneres en Sedimento",null,"PCB 52"]
["PCB Congéneres en Sedimento",null,"PCB 101"]
["PCB Congéneres en Sedimento",null,"PCB 118"]
["PCB Congéneres en Sedimento",null,"PCB 138"]
["PCB Congéneres en Sedimento",null,"PCB 153"]
["PCB Congéneres en Sedimento",null,"PCB 180"]
["Otras variables en Sedimentos"]
["Otras variables en Sedimentos"]
["Otras variables en Sedimentos"]
["Otras variables en Sedimentos"]
["Otras variables en Sedimentos"]
["Otras variables en Sedimentos"]
["Otras variables en Sedimentos"]
["Otras variables en Sedimentos"]
["Otras variables en Sedimentos"]
["Otras variables en Sedimentos"]
["Otras variables en Sedimentos"]
["Otras variables en Sedimentos"]
["Otras variables en Sedimentos"]
[]
["VARIABLES A EVALUAR"]
["MATRIZ SEDIMENTO MARINOS"]
["18. Matriz / Grupo",null,"19. Variable",null,"20. Variables solicitadas con fines de acreditación (Seleccionar las variables para las cuales solicita acreditación, indicando si corresponde a evaluación “INICIAL”, “SEGUIMIENTO”, “RENOVACIÓN” o “EXTENSIÓN”)",null,"21. Método de Referencia (Indicar el código del método de referencia que se solicita acreditar, incluyendo los métodos de procesos preliminares como extracción o digestión , p. ej. SM 3030 y SM 3111 B)"]
["Metales",null,"Aluminio"]
["Metales",null,"Antimonio"]
["Metales",null,"Arsénico"]
["Metales",null,"Bario"]
["Metales",null,"Berilio"]
["Metales",null,"Boro"]
["Metales",null,"Cadmio"]
["Metales",null,"Calcio"]
["Metales",null,"Cobalto"]
["Metales",null,"Cobre"]
["Metales",null,"Cromo"]
["Metales",null,"Litio"]
["Metales",null,"Estaño"]
["Metales",null,"Estroncio"]
["Metales",null,"Hierro"]
["Metales",null,"Magnesio"]
["Metales",null,"Manganeso"]
["Metales",null,"Mercurio"]
["Metales",null,"Molibdeno"]
["Metales",null,"Níquel"]
["Metales",null,"Plata"]
["Metales",null,"Plomo"]
["Metales",null,"Potasio"]
["Metales",null,"Selenio"]
["Metales",null,"Sodio"]
["Metales",null,"Talio"]
["Metales",null,"Titanio"]
["Metales",null,"Vanadio"]
["Metales",null,"Zinc"]
["Granulometría",null,"Granulometría"]
["Grasas y Aceites",null,"Grasas y Aceites"]
["Hidrocarburos",null,"Hidrocarburos"]
["Toma de muestra de Sedimento",null,"Toma de Muestra de Sedimento"]
["Toma de muestra de Sedimento",null,"Toma de Muestra de Sedimento Marino"]
["Toma de muestra de Sedimento",null,"Toma de Muestra de Sedimento en Cuerpo Lénticos"]
["Toma de muestra de Sedimento",null,"Toma de Muestra de Sedimento en Cuerpo Lóticos"]
["Otras variables en Sedimentos Marinos"]
["Otras variables en Sedimentos Marinos"]
["Otras variables en Sedimentos Marinos"]
["Otras variables en Sedimentos Marinos"]
["Otras variables en Sedimentos Marinos"]
["Otras variables en Sedimentos Marinos"]
["Otras variables en Sedimentos Marinos"]
["Otras variables en Sedimentos Marinos"]
["Otras variables en Sedimentos Marinos"]
["Otras variables en Sedimentos Marinos"]
["Otras variables en Sedimentos Marinos"]
["Otras variables en Sedimentos Marinos"]
["Otras variables en Sedimentos Marinos"]
["Otras variables en Sedimentos Marinos"]
["Otras variables en Sedimentos Marinos"]
["Otras variables en Sedimentos Marinos"]
["Otras variables en Sedimentos Marinos"]
["Otras variables en Sedimentos Marinos"]
["Otras variables en Sedimentos Marinos"]
["Otras variables en Sedimentos Marinos"]
[]
["VARIABLES A EVALUAR"]
["MATRIZ BIOSOLIDOS"]
["18. Matriz / Grupo",null,"19. Variable",null,"20. Variables solicitadas con fines de acreditación (Seleccionar las variables para las cuales solicita acreditación, indicando si corresponde a evaluación “INICIAL”, “SEGUIMIENTO”, “RENOVACIÓN” o “EXTENSIÓN”)",null,"21. Método de Referencia (Indicar el código del método de referencia que se solicita acreditar, incluyendo los métodos de procesos preliminares como extracción o digestión , p. ej. SM 3030 y SM 3111 B)"]
["Microbiológico",null,"Coliformes Totales"]
["Microbiológico",null,"Coliformes Termotolerantes"]
["Microbiológico",null,"Huevos de Helminto"]
["Microbiológico",null,"Salmonella sp. "]
["Microbiológico",null,"Escherichia coli"]
["Otras variables en Biosólido"]
["Otras variables en Biosólido"]
["Otras variables en Biosólido"]
["Otras variables en Biosólido"]
["Otras variables en Biosólido"]
["Otras variables en Biosólido"]
["Otras variables en Biosólido"]
["Otras variables en Biosólido"]
["Otras variables en Biosólido"]
[]
["VARIABLES A EVALUAR"]
["MATRIZ AIRE - EMISIONES GENERADAS POR FUENTES FIJAS"]
["18. Matriz / Grupo",null,"Si el metodo de referencia solicitado por el OEC es diferente al que aparece a continuación (USEPA), este se debe indicar en la última columna a la derecha, de lo contrario confirme si aplica el metodo USEPA enunciado",null,"Variables solicitadas con fines de acreditación (Seleccionar las variables para las cuales solicita acreditación, indicando si corresponde a evaluación “INICIAL”, “SEGUIMIENTO”, “RENOVACIÓN” o “EXTENSIÓN”.)",null,"Método de Referencia"]
["Fuentes Fijas",null,"Punto y velocidad de toma de muestra (USEPA 1)",null,null,null,null,null,null,"INICIAL - ANÁLISIS DE LABORATORIO"]
["Fuentes Fijas",null,"Punto y velocidad de toma de muestra para fuentes fijas con ductos o chimeneas pequeñas (USEPA 1A)",null,null,null,null,null,null,"INICIAL - TOMA DE MUESTRA"]
["Fuentes Fijas",null,"Velocidad y tasa de flujo volumétrica de gases en chimenea (Tubo Pitot tipo S) (USEPA 2)",null,null,null,null,null,null,"INICIAL - TOMA DE MUESTRA Y ANÁLISIS"]
["Fuentes Fijas",null,"Velocidad y tasa de flujo volumétrica del gas en ductos o chimeneas pequeñas (Tubo Pitot estándar) (USEPA 2C)",null,null,null,null,null,null,"SEGUIMIENTO - ANÁLISIS DE LABORATORIO"]
["Fuentes Fijas",null,"Análisis de gases para la determinación del peso molecular base seca (USEPA 3)",null,null,null,null,null,null,"SEGUIMIENTO - TOMA DE MUESTRA"]
["Fuentes Fijas",null,"Concentraciones de oxígeno en emisiones de fuentes fijas (Procedimiento del analizador instrumental) (USEPA 3A)",null,null,null,null,null,null,"SEGUIMIENTO - TOMA DE MUESTRA Y ANÁLISIS"]
["Fuentes Fijas",null,"Concentraciones de dióxido de carbono en emisiones de fuentes fijas (Procedimiento del analizador instrumental) (USEPA 3A)",null,null,null,null,null,null,"RENOVACIÓN - ANÁLISIS DE LABORATORIO"]
["Fuentes Fijas",null,"Análisis de gases para la determinación del factor de corrección de tasa de emisión o exceso de aire (USEPA 3B)",null,null,null,null,null,null,"RENOVACIÓN - TOMA DE MUESTRA"]
["Fuentes Fijas",null,"Contenido de humedad en gases de chimenea (USEPA 4)",null,null,null,null,null,null,"RENOVACIÓN - TOMA DE MUESTRA Y ANÁLISIS"]
["Fuentes Fijas",null,"Material Particulado (USEPA 5)",null,null,null,null,null,null,"EXTENSIÓN - ANÁLISIS DE LABORATORIO"]
["Fuentes Fijas",null,"Material Particulado en la industria de Procesamiento de asfalto y manto asfáltico (USEPA 5A)",null,null,null,null,null,null,"EXTENSIÓN - TOMA DE MUESTRA"]
["Fuentes Fijas",null,"Material Particulado diferente al ácido sulfúrico (USEPA 5B)",null,null,null,null,null,null,"EXTENSIÓN - TOMA DE MUESTRA Y ANÁLISIS"]
["Fuentes Fijas",null,"Material Particulado en filtros de manga que operan a presión positiva (USEPA 5D)"]
["Fuentes Fijas",null,"Material Particulado en industrias de manufactura de fibra de lana de vidrio aislante (USEPA 5E)"]
["Fuentes Fijas",null,"Material Particulado, diferente al sulfato (USEPA 5F)"]
["Fuentes Fijas",null,"Material Particulado en calentadores de madera (toma de muestra en túnel de dilución) (USEPA 5G)"]
["Fuentes Fijas",null,"Material Particulado en calentadores de madera (localizado en la chimenea) (USEPA 5H)"]
["Fuentes Fijas",null,"Material Particulado de bajo nivel (USEPA 5I)"]
["Fuentes Fijas",null,"Dióxido de azufre (USEPA 6)"]
["Fuentes Fijas",null,"Dióxido de azufre, humedad y Dióxido de carbono  en fuentes de combustión de combustible fósil (USEPA 6A)"]
["Fuentes Fijas",null,"Emisiones promedio diarias de dióxido de azufre y dióxido de carbono en fuentes de combustión de combustible fósil (USEPA 6B)"]
["Fuentes Fijas",null,"Dióxido de azufre (Procedimiento del analizador instrumental) (USEPA 6C)"]
["Fuentes Fijas",null,"Óxidos de nitrógeno (USEPA 7)"]
["Fuentes Fijas",null,"Óxidos de nitrógeno (Método de cromatografía iónica) (USEPA 7A)"]
["Fuentes Fijas",null,"Óxidos de nitrógeno (Método de espectrofotometría ultravioleta) (USEPA 7B)"]
["Fuentes Fijas",null,"Óxidos de nitrógeno Método colorimétrico de permanganato alcalino) (USEPA 7C)"]
["Fuentes Fijas",null,"Óxidos de nitrógeno Procedimiento del analizador instrumental) (USEPA 7E)"]
["Fuentes Fijas",null,"Ácido sulfúrico y Dióxido de azufre, Trióxido de Azufre (USEPA 8)"]
["Fuentes Fijas",null,"Monóxido de carbono (Procedimiento del analizador instrumental) (USEPA 10)"]
["Fuentes Fijas",null,"Monóxido de carbono en la certificación de sistemas de medición continua de emisiones en refinerías de petróleo (USEPA 10A)"]
["Fuentes Fijas",null,"Determinación de emisiones de Monóxido de carbono en fuentes fijas (USEPA 10B)"]
["Fuentes Fijas",null,"Sulfuro de hidrógeno (H2S) en corrientes de gas combustible en refinerías de petróleo (USEPA 11)"]
["Fuentes Fijas",null,"Plomo inorgánico (USEPA 12)"]
["Fuentes Fijas",null,"Fluoruro total (Método del reactivo SPADNS) (USEPA 13A)"]
["Fuentes Fijas",null,"Fluoruro total (Método del Ion electrodo específico) (USEPA 13B)"]
["Fuentes Fijas",null,"Fluoruro para plantas de producción de aluminio primario (USEPA 14)"]
["Fuentes Fijas",null,"Fluoruro total en fuentes fijas específicas en instalaciones de producción de aluminio primario (USEPA 14A)"]
["Fuentes Fijas",null,"Sulfuro de hidrógeno (H2S), Carbonilo sulfhídrico y Bisulfuro de Carbono en fuentes fijas (USEPA 15)"]
["Fuentes Fijas",null,"Azufre total reducido en plantas de recuperación de azufre de refinerías de petróleo (USEPA 15A)"]
["Fuentes Fijas",null,"Determinación semicontinua de las emisiones de azufre (USEPA 16)"]
["Fuentes Fijas",null,"Azufre total reducido (Técnica del impactador) (USEPA 16A)"]
["Fuentes Fijas",null,"Azufre total reducido (USEPA 16B)"]
["Fuentes Fijas",null,"Material Particulado (USEPA 17)"]
["Fuentes Fijas",null,"Compuestos Orgánicos Gaseosos por cromatografía de gases (USEPA 18)"]
["Fuentes Fijas",null,"Eficiencia de remoción de Dióxido de azufre y las Tasas de emisión de material particulado, dióxido de azufre y óxidos de nitrógeno (USEPA 19)"]
["Fuentes Fijas",null,"Óxidos de nitrógeno, Dióxido de azufre y diluyentes en turbinas de gas estacionarias (USEPA 20)"]
["Fuentes Fijas",null,"Dibenzo–p–Dioxinas Policloradas y Dibenzofuranos policlorados en incineradores de residuos (USEPA 23)"]
["Fuentes Fijas",null,"Dibenzo (a,h) Antraceno y Benzo (a) Pireno"]
["Fuentes Fijas",null,"Contenido de material volátil, contenido de agua, densidad, volumen de sólidos y peso de sólidos en la actividad de recubrimiento de superficies (USEPA 24)"]
["Fuentes Fijas",null,"Contenido y densidad del material volátil en la actividad de recubrimiento de tintas por rotograbado y publicaciones rotograbadas relacionadas (USEPA 24A)"]
["Fuentes Fijas",null,"Emisiones gaseosas orgánicas totales diferentes al metano dadas como carbón (USEPA 25)"]
["Fuentes Fijas",null,"Concentración gaseosa orgánica total empleando un analizador de ionización de llama (USEPA 25A)"]
["Fuentes Fijas",null,"Concentración gaseosa orgánica total empleando unanalizador de infrarrojo no dispersivo (USEPA 25B)"]
["Fuentes Fijas",null,"Compuestos orgánicos diferentes al metano en gases de rellenos sanitarios (USEPA 25C)"]
["Fuentes Fijas",null,"Haluros de hidrógeno y Halógenos (Método no isocinético) (USEPA 26)"]
["Fuentes Fijas",null,"Haluros de hidrógeno y Halógenos  (Método isocinético) (USEPA 26A)"]
["Fuentes Fijas",null,"Metales (USEPA 29). Análisis Indicar cuáles"]
["Fuentes Fijas",null,"Antimonio"]
["Fuentes Fijas",null,"Arsenico"]
["Fuentes Fijas",null,"Bario"]
["Fuentes Fijas",null,"Beriliio"]
["Fuentes Fijas",null,"Cadmio"]
["Fuentes Fijas",null,"Cromo"]
["Fuentes Fijas",null,"Cobalto"]
["Fuentes Fijas",null,"Cobre"]
["Fuentes Fijas",null,"Plomo"]
["Fuentes Fijas",null,"Manganeso"]
["Fuentes Fijas",null,"Mercurio"]
["Fuentes Fijas",null,"Niquel "]
["Fuentes Fijas",null,"Fosforo"]
["Fuentes Fijas",null,"Selenio "]
["Fuentes Fijas",null,"Plata "]
["Fuentes Fijas",null,"Talio"]
["Fuentes Fijas",null,"Zinc"]
["Fuentes Fijas",null,"Recolección y análisis de Amonio"]
["Fuentes Fijas",null,"PM10 (USEPA 201A)"]
["Fuentes fijas Analitos USEPA 18"]
["Fuentes fijas Analitos USEPA 18"]
["Fuentes fijas Analitos USEPA 19"]
["Fuentes fijas Analitos USEPA 20"]
["Fuentes fijas Analitos USEPA 21"]
["Fuentes fijas Analitos USEPA 22"]
["Fuentes fijas Analitos USEPA 23"]
["Fuentes fijas Analitos USEPA 24"]
["Fuentes fijas Analitos USEPA 25"]
["Fuentes fijas Analitos USEPA 26"]
["Fuentes fijas Analitos USEPA 27"]
["Fuentes fijas Analitos USEPA 28"]
["Fuentes fijas Analitos USEPA 29"]
["Fuentes fijas Analitos USEPA 30"]
["Fuentes fijas Analitos USEPA 31"]
["Fuentes fijas Analitos USEPA 32"]
["Fuentes fijas Analitos USEPA 33"]
["Fuentes fijas Analitos USEPA 34"]
["Fuentes fijas Analitos USEPA 35"]
["Fuentes fijas Analitos USEPA 36"]
["Fuentes fijas Analitos USEPA 37"]
["Fuentes fijas Analitos USEPA 38"]
["Fuentes fijas Analitos USEPA 39"]
["Fuentes fijas Analitos USEPA 40"]
["Fuentes fijas Analitos USEPA 41"]
["Otras variables en Fuentes Fijas"]
["Otras variables en Fuentes Fijas"]
["Otras variables en Fuentes Fijas"]
["Otras variables en Fuentes Fijas"]
["Otras variables en Fuentes Fijas"]
["Otras variables en Fuentes Fijas"]
["Otras variables en Fuentes Fijas"]
["Otras variables en Fuentes Fijas"]
["Otras variables en Fuentes Fijas"]
["Otras variables en Fuentes Fijas"]
["Otras variables en Fuentes Fijas"]
["Otras variables en Fuentes Fijas"]
["Otras variables en Fuentes Fijas"]
["Otras variables en Fuentes Fijas"]
["Otras variables en Fuentes Fijas"]
["Otras variables en Fuentes Fijas"]
["Otras variables en Fuentes Fijas"]
[]
["VARIABLES A EVALUAR"]
["MATRIZ AIRE - INMISIONES O CALIDAD DEL AIRE"]
["Matriz / Grupo",null,"Si el metodo de referencia solicitado por el OEC es diferente al que aparece a continuación (USEPA), este se debe indicar en la última columna a la derecha, de lo contrario confirme si aplica el metodo USEPA enunciado",null,"Variables solicitadas con fines de acreditación (Seleccionar las variables para las cuales solicita acreditación, indicando si corresponde a evaluación “INICIAL”, “SEGUIMIENTO”, “RENOVACIÓN” o “EXTENSIÓN”)",null,"Método de Referencia",null,"Número de Equipos a acreditar"]
["Calidad de Aire",null,"Partículas Suspendidas Totales"]
["Calidad de Aire",null,"Material Particulado como PM10"]
["Calidad de Aire",null,"Material Particulado menor a 2,5 µm -  PM2,5"]
["Calidad de Aire",null,"SO2"]
["Calidad de Aire",null,"NO2"]
["Calidad de Aire",null,"Monóxido de Carbono, CO"]
["Calidad de Aire",null,"H2S"]
["Calidad de Aire",null,"Plomo"]
["Calidad de Aire",null,"Compuestos Orgánicos Volátiles, COVs (Incluidos Hidrocarburos)"]
["Calidad de Aire",null,"Olfatometría Dinámica"]
["Calidad de Aire",null,"Mercaptanos"]
["Calidad de Aire",null,"Azufre Total Reducido"]
["Calidad de Aire",null,"Amoniaco "]
["Analitos de COVs (incluidos hidrocarburos)"]
["Analitos de COVs (incluidos hidrocarburos)"]
["Analitos de COVs (incluidos hidrocarburos)"]
["Analitos de COVs (incluidos hidrocarburos)"]
["Analitos de COVs (incluidos hidrocarburos)"]
["Analitos de COVs (incluidos hidrocarburos)"]
["Analitos de COVs (incluidos hidrocarburos)"]
["Analitos de COVs (incluidos hidrocarburos)"]
["Analitos de COVs (incluidos hidrocarburos)"]
["Analitos de COVs (incluidos hidrocarburos)"]
["Analitos de COVs (incluidos hidrocarburos)"]
["Analitos de COVs (incluidos hidrocarburos)"]
["Analitos de COVs (incluidos hidrocarburos)"]
["Analitos de COVs (incluidos hidrocarburos)"]
["Analitos de COVs (incluidos hidrocarburos)"]
["Analitos de COVs (incluidos hidrocarburos)"]
["Analitos de COVs (incluidos hidrocarburos)"]
["Analitos de COVs (incluidos hidrocarburos)"]
["Analitos de COVs (incluidos hidrocarburos)"]
["Analitos de COVs (incluidos hidrocarburos)"]
["Analitos de COVs (incluidos hidrocarburos)"]
["Analitos de COVs (incluidos hidrocarburos)"]
["Analitos de COVs (incluidos hidrocarburos)"]
["Analitos de COVs (incluidos hidrocarburos)"]
["Analitos de COVs (incluidos hidrocarburos)"]
["Analitos de COVs (incluidos hidrocarburos)"]
["Analitos de COVs (incluidos hidrocarburos)"]
["Analitos de COVs (incluidos hidrocarburos)"]
["Analitos de COVs (incluidos hidrocarburos)"]
["Analitos de COVs (incluidos hidrocarburos)"]
["Analitos de COVs (incluidos hidrocarburos)"]
["Otras variables en Calidad del Aire"]
["Otras variables en Calidad del Aire"]
["Otras variables en Calidad del Aire"]
["Otras variables en Calidad del Aire"]
["Otras variables en Calidad del Aire"]
["Otras variables en Calidad del Aire"]
["Otras variables en Calidad del Aire"]
["Otras variables en Calidad del Aire"]
["Otras variables en Calidad del Aire"]
["Otras variables en Calidad del Aire"]
["Otras variables en Calidad del Aire"]
["Otras variables en Calidad del Aire"]
["Otras variables en Calidad del Aire"]
["Otras variables en Calidad del Aire"]
["Otras variables en Calidad del Aire"]
["Otras variables en Calidad del Aire"]
["Otras variables en Calidad del Aire"]
["Otras variables en Calidad del Aire"]
["Otras variables en Calidad del Aire"]
["Otras variables en Calidad del Aire"]
["Otras variables en Calidad del Aire"]
["Otras variables en Calidad del Aire"]
["Otras variables en Calidad del Aire"]
["Otras variables en Calidad del Aire"]
["Otras variables en Calidad del Aire"]
["Otras variables en Calidad del Aire"]
["Otras variables en Calidad del Aire"]
["Otras variables en Calidad del Aire"]
["Otras variables en Calidad del Aire"]
["Otras variables en Calidad del Aire"]
["Otras variables en Calidad del Aire"]
["Otras variables en Calidad del Aire"]
[]
["VARIABLES A EVALUAR"]
["MATRIZ RUIDO"]
["18. Matriz / Grupo",null,"19. Variable",null,"20. Variables solicitadas con fines de acreditación (Seleccionar las variables para las cuales solicita acreditación, indicando si corresponde a evaluación “INICIAL”, “SEGUIMIENTO”, “RENOVACIÓN” o “EXTENSIÓN”)",null,"21. Método de Referencia (Indicar el código del método de referencia que se solicita acreditar, incluyendo los métodos de procesos preliminares como extracción o digestión , p. ej. SM 3030 y SM 3111 B)"]
["Calidad de Aire",null,"Emisión de Ruido"]
["Calidad de Aire",null,"Ruido Ambiental"]
[]
["VARIABLES A EVALUAR"]
["MATRIZ AIRE - INMISIONES O CALIDAD DEL AIRE - ESTACIONES AUTOMÁTICAS"]
["Matriz / Grupo",null,"Si el metodo de referencia solicitado por el OEC es diferente al que aparece a continuación (USEPA), este se debe indicar en la última columna a la derecha, de lo contrario confirme si aplica el metodo USEPA enunciado",null,"Variables solicitadas con fines de acreditación (Seleccionar las variables para las cuales solicita acreditación, indicando si corresponde a evaluación “INICIAL”, “SEGUIMIENTO”, “RENOVACIÓN” o “EXTENSIÓN”)",null,"Método de Referencia",null,"Número de Estaciones a acreditar"]
["Estaciones Automáticas de Calidad del Aire",null,"Monóxido de Carbono Medición Directa en campo de CO"]
["Estaciones Automáticas de Calidad del Aire",null,"Óxidos de Azufre medición directa en campo de SO2"]
["Estaciones Automáticas de Calidad del Aire",null,"Óxidos de Nitrógeno Medición Directa en campo de NO/NO2/NOX"]
["Estaciones Automáticas de Calidad del Aire",null,"Ozono Medición directa en campo de O3"]
["Estaciones Automáticas de Calidad del Aire",null,"Material Particulado menor a 10 µm - PM10 automático "]
["Estaciones Automáticas de Calidad del Aire",null,"Material Particulado menor a 2,5 µm - PM2,5 automático "]
["Variables adicionales para Estaciones Automáticas de Calidad del Aire"]
["Variables adicionales para Estaciones Automáticas de Calidad del Aire"]
["Variables adicionales para Estaciones Automáticas de Calidad del Aire"]
["Variables adicionales para Estaciones Automáticas de Calidad del Aire"]
["Variables adicionales para Estaciones Automáticas de Calidad del Aire"]
["Variables adicionales para Estaciones Automáticas de Calidad del Aire"]
["Variables adicionales para Estaciones Automáticas de Calidad del Aire"]
["Variables adicionales para Estaciones Automáticas de Calidad del Aire"]
["Variables adicionales para Estaciones Automáticas de Calidad del Aire"]
["Variables adicionales para Estaciones Automáticas de Calidad del Aire"]
["Variables adicionales para Estaciones Automáticas de Calidad del Aire"]
["Variables adicionales para Estaciones Automáticas de Calidad del Aire"]
["Variables adicionales para Estaciones Automáticas de Calidad del Aire"]
["Variables adicionales para Estaciones Automáticas de Calidad del Aire"]

{"sheet":"Conteo y Equivalencias","index":1,"n_rows":1280,"n_cols":24,"rows_kept":1280,"cut":false,"hidden":true,"merged":[[1277,21,1278,21],[1277,22,1278,22],[1278,0,1278,1],[1278,2,1278,3],[1262,0,1262,3],[1264,0,1264,10],[1265,0,1265,1],[1265,2,1265,3],[1266,0,1266,1],[1266,2,1266,3],[1267,0,1267,1],[1267,2,1267,3],[1268,0,1268,3],[1269,0,1269,20],[1270,0,1270,20],[1279,0,1279,3],[1271,0,1271,1],[1271,2,1271,3],[1272,0,1272,1],[1272,2,1272,3],[1273,0,1273,1],[1273,2,1273,3],[1274,0,1274,1],[1274,2,1274,3],[1275,0,1275,1],[1275,2,1275,3],[1276,0,1276,1],[1276,2,1276,3],[1277,0,1277,1],[1277,2,1277,3],[1254,0,1254,1],[1254,2,1254,3],[1255,0,1255,1],[1255,2,1255,3],[1256,0,1256,1],[1256,2,1256,3],[1256,17,1256,18],[1257,0,1257,1],[1257,2,1257,3],[1257,17,1257,19],[1258,0,1258,1],[1258,2,1258,3],[1258,17,1258,19],[1259,0,1259,1],[1259,2,1259,3],[1259,17,1259,19],[1259,22,1261,22],[1260,0,1260,1],[1260,2,1260,3],[1260,17,1260,19],[1261,0,1261,1],[1261,2,1261,3],[1243,0,1243,3],[1245,0,1245,20],[1246,0,1246,1],[1246,2,1246,3],[1247,0,1247,1],[1247,2,1247,3],[1248,0,1248,1],[1248,2,1248,3],[1249,0,1249,1],[1249,2,1249,3],[1250,0,1250,1],[1250,2,1250,3],[1251,0,1251,1],[1251,2,1251,3],[1252,0,1252,1],[1252,2,1252,3],[1253,0,1253,1],[1253,2,1253,3],[1237,0,1237,1],[1237,2,1237,3],[1237,17,1237,19],[1238,0,1238,1],[1238,2,1238,3],[1238,17,1238,19],[1239,0,1239,1],[1239,2,1239,3],[1240,0,1240,1],[1240,2,1240,3],[1240,21,1242,21],[1240,22,1242,22],[1241,0,1241,1],[1241,2,1241,3],[1241,17,1241,19],[1242,0,1242,1],[1242,2,1242,3],[1231,0,1231,1],[1231,2,1231,3],[1231,17,1231,19],[1232,0,1232,1],[1232,2,1232,3],[1232,17,1232,19],[1233,0,1233,1],[1233,2,1233,3],[1233,17,1233,19],[1234,0,1234,1],[1234,2,1234,3],[1234,17,1234,19],[1235,0,1235,1],[1235,2,1235,3],[1235,17,1235,19],[1236,0,1236,1],[1236,2,1236,3],[1236,17,1236,19],[1225,0,1225,1],[1225,2,1225,3],[1225,17,1225,19],[1226,0,1226,1],[1226,2,1226,3],[1226,17,1226,19],[1227,0,1227,1],[1227,2,1227,3],[1227,17,1227,19],[1228,0,1228,1],[1228,2,1228,3],[1228,17,1228,19],[1229,0,1229,1],[1229,2,1229,3],[1229,17,1229,19],[1230,0,1230,1],[1230,2,1230,3],[1230,17,1230,19],[1218,0,1218,1],[1218,2,1218,3],[1219,0,1219,1],[1219,2,1219,3],[1220,0,1220,1],[1220,2,1220,3],[1221,0,1221,1],[1221,2,1221,3],[1221,17,1221,19],[1222,0,1222,1],[1222,2,1222,3],[1222,17,1222,19],[1223,0,1223,1],[1223,2,1223,3],[1223,17,1223,19],[1224,0,1224,1],[1224,2,1224,3],[1224,17,1224,19],[1209,0,1209,1],[1209,2,1209,3],[1210,0,1210,1],[1210,2,1210,3],[1211,0,1211,1],[1211,2,1211,3],[1212,0,1212,1],[1212,2,1212,3],[1213,0,1213,1],[1213,2,1213,3],[1214,0,1214,1],[1214,2,1214,3],[1215,0,1215,1],[1215,2,1215,3],[1216,0,1216,1],[1216,2,1216,3],[1217,0,1217,1],[1217,2,1217,3],[1201,0,1201,1],[1201,2,1201,3],[1202,0,1202,1],[1202,2,1202,3],[1203,0,1203,1],[1203,2,1203,3],[1204,0,1204,1],[1204,2,1204,3],[1205,0,1205,1],[1205,2,1205,3],[1206,0,1206,1],[1206,2,1206,3],[1207,0,1207,1],[1207,2,1207,3],[1208,0,1208,1],[1208,2,1208,3],[1208,17,1208,19],[1192,0,1192,1],[1192,2,1192,3],[1193,0,1193,1],[1193,2,1193,3],[1194,0,1194,1],[1194,2,1194,3],[1195,0,1195,1],[1195,2,1195,3],[1196,0,1196,1],[1196,2,1196,3],[1197,0,1197,1],[1197,2,1197,3],[1198,0,1198,1],[1198,2,1198,3],[1199,0,1199,1],[1199,2,1199,3],[1200,0,1200,1],[1200,2,1200,3],[1183,0,1183,1],[1183,2,1183,3],[1184,0,1184,1],[1184,2,1184,3],[1185,0,1185,1],[1185,2,1185,3],[1186,0,1186,1],[1186,2,1186,3],[1187,0,1187,1],[1187,2,1187,3],[1188,0,1188,1],[1188,2,1188,3],[1189,0,1189,1],[1189,2,1189,3],[1190,0,1190,1],[1190,2,1190,3],[1191,0,1191,1],[1191,2,1191,3],[1174,0,1174,1],[1174,2,1174,3],[1175,0,1175,1],[1175,2,1175,3],[1176,0,1176,1],[1176,2,1176,3],[1177,0,1177,1],[1177,2,1177,3],[1178,0,1178,1],[1178,2,1178,3],[1179,0,1179,1],[1179,2,1179,3],[1180,0,1180,1],[1180,2,1180,3],[1181,0,1181,1],[1181,2,1181,3],[1182,0,1182,1],[1182,2,1182,3],[1165,0,1165,1],[1165,2,1165,3],[1165,17,1173,17],[1165,18,1173,18],[1165,19,1173,19],[1165,20,1173,20],[1166,0,1166,1],[1166,2,1166,3],[1167,0,1167,1],[1167,2,1167,3],[1168,0,1168,1],[1168,2,1168,3],[1169,0,1169,1],[1169,2,1169,3],[1170,0,1170,1],[1170,2,1170,3],[1171,0,1171,1],[1171,2,1171,3],[1172,0,1172,1],[1172,2,1172,3],[1173,0,1173,1],[1173,2,1173,3],[1155,0,1155,1],[1155,2,1155,3],[1156,0,1156,1],[1156,2,1156,3],[1157,0,1157,1],[1157,2,1157,3],[1158,0,1158,1],[1158,2,1158,3],[1159,0,1159,1],[1159,2,1159,3],[1160,0,1160,1],[1160,2,1160,3],[1161,0,1161,3],[1162,0,1162,12],[1163,0,1163,20],[1164,0,1164,1],[1164,2,1164,3],[1145,0,1145,1],[1145,2,1145,3],[1146,0,1146,1],[1146,2,1146,3],[1147,0,1147,1],[1147,2,1147,3],[1148,0,1148,1],[1148,2,1148,3],[1149,0,1149,1],[1149,2,1149,3],[1150,0,1150,1],[1150,2,1150,3],[1151,0,1151,3],[1152,0,1152,10],[1153,0,1153,10],[1154,0,1154,1],[1154,2,1154,3],[1136,0,1136,1],[1136,2,1136,3],[1137,0,1137,1],[1137,2,1137,3],[1138,0,1138,1],[1138,2,1138,3],[1139,0,1139,1],[1139,2,1139,3],[1140,0,1140,1],[1140,2,1140,3],[1141,0,1141,1],[1141,2,1141,3],[1142,0,1142,1],[1142,2,1142,3],[1143,0,1143,1],[1143,2,1143,3],[1144,0,1144,1],[1144,2,1144,3],[1127,0,1127,1],[1127,2,1127,3],[1128,0,1128,1],[1128,2,1128,3],[1129,0,1129,1],[1129,2,1129,3],[1130,0,1130,1],[1130,2,1130,3],[1131,0,1131,1],[1131,2,1131,3],[1132,0,1132,1],[1132,2,1132,3],[1133,0,1133,1],[1133,2,1133,3],[1134,0,1134,1],[1134,2,1134,3],[1135,0,1135,1],[1135,2,1135,3],[1118,0,1118,1],[1118,2,1118,3],[1119,0,1119,1],[1119,2,1119,3],[1120,0,1120,1],[1120,2,1120,3],[1121,0,1121,1],[1121,2,1121,3],[1122,0,1122,1],[1122,2,1122,3],[1123,0,1123,1],[1123,2,1123,3],[1124,0,1124,1],[1124,2,1124,3],[1125,0,1125,1],[1125,2,1125,3],[1126,0,1126,1],[1126,2,1126,3],[1108,0,1108,1],[1108,2,1108,3],[1109,0,1109,1],[1109,2,1109,3],[1110,0,1110,3],[1111,1,1111,10],[1112,0,1112,10],[1113,0,1113,1],[1113,2,1113,3],[1114,0,1114,1],[1114,2,1114,3],[1115,0,1115,1],[1115,2,1115,3],[1116,0,1116,1],[1116,2,1116,3],[1117,0,1117,1],[1117,2,1117,3],[1099,0,1099,1],[1099,2,1099,3],[1100,0,1100,1],[1100,2,1100,3],[1101,0,1101,1],[1101,2,1101,3],[1102,0,1102,1],[1102,2,1102,3],[1103,0,1103,1],[1103,2,1103,3],[1104,0,1104,1],[1104,2,1104,3],[1105,0,1105,1],[1105,2,1105,3],[1106,0,1106,1],[1106,2,1106,3],[1107,0,1107,1],[1107,2,1107,3],[1090,0,1090,1],[1090,2,1090,3],[1091,0,1091,1],[1091,2,1091,3],[1092,0,1092,1],[1092,2,1092,3],[1093,0,1093,1],[1093,2,1093,3],[1094,0,1094,1],[1094,2,1094,3],[1095,0,1095,1],[1095,2,1095,3],[1096,0,1096,1],[1096,2,1096,3],[1097,0,1097,1],[1097,2,1097,3],[1098,0,1098,1],[1098,2,1098,3],[1081,0,1081,1],[1081,2,1081,3],[1082,0,1082,1],[1082,2,1082,3],[1083,0,1083,1],[1083,2,1083,3],[1084,0,1084,1],[1084,2,1084,3],[1085,0,1085,1],[1085,2,1085,3],[1086,0,1086,1],[1086,2,1086,3],[1087,0,1087,1],[1087,2,1087,3],[1088,0,1088,1],[1088,2,1088,3],[1089,0,1089,1],[1089,2,1089,3],[1072,0,1072,1],[1072,2,1072,3],[1073,0,1073,1],[1073,2,1073,3],[1074,0,1074,1],[1074,2,1074,3],[1075,0,1075,1],[1075,2,1075,3],[1076,0,1076,1],[1076,2,1076,3],[1077,0,1077,1],[1077,2,1077,3],[1078,0,1078,1],[1078,2,1078,3],[1079,0,1079,1],[1079,2,1079,3],[1080,0,1080,1],[1080,2,1080,3],[1061,0,1061,1],[1061,2,1061,3],[1062,0,1062,3],[1064,0,1064,10],[1065,0,1065,1],[1065,2,1065,3],[1066,0,1066,1],[1066,2,1066,3],[1067,0,1067,1],[1067,2,1067,3],[1068,0,1068,1],[1068,2,1068,3],[1069,0,1069,1],[1069,2,1069,3],[1070,0,1070,1],[1070,2,1070,3],[1071,0,1071,1],[1071,2,1071,3],[1052,0,1052,1],[1052,2,1052,3],[1053,0,1053,1],[1053,2,1053,3],[1054,0,1054,1],[1054,2,1054,3],[1055,0,1055,1],[1055,2,1055,3],[1056,0,1056,1],[1056,2,1056,3],[1057,0,1057,1],[1057,2,1057,3],[1058,0,1058,1],[1058,2,1058,3],[1059,0,1059,1],[1059,2,1059,3],[1060,0,1060,1],[1060,2,1060,3],[1043,0,1043,1],[1043,2,1043,3],[1044,0,1044,1],[1044,2,1044,3],[1045,0,1045,1],[1045,2,1045,3],[1046,0,1046,1],[1046,2,1046,3],[1047,0,1047,1],[1047,2,1047,3],[1048,0,1048,1],[1048,2,1048,3],[1049,0,1049,1],[1049,2,1049,3],[1050,0,1050,1],[1050,2,1050,3],[1051,0,1051,1],[1051,2,1051,3],[1034,0,1034,1],[1034,2,1034,3],[1035,0,1035,1],[1035,2,1035,3],[1036,0,1036,1],[1036,2,1036,3],[1037,0,1037,1],[1037,2,1037,3],[1038,0,1038,1],[1038,2,1038,3],[1039,0,1039,1],[1039,2,1039,3],[1040,0,1040,1],[1040,2,1040,3],[1041,0,1041,1],[1041,2,1041,3],[1042,0,1042,1],[1042,2,1042,3],[1023,11,1024,11],[1023,12,1024,12],[1024,0,1024,1],[1024,2,1024,3],[1025,0,1025,3],[1027,0,1027,10],[1028,0,1028,1],[1028,2,1028,3],[1029,0,1029,1],[1029,2,1029,3],[1030,0,1030,1],[1030,2,1030,3],[1031,0,1031,1],[1031,2,1031,3],[1032,0,1032,1],[1032,2,1032,3],[1033,0,1033,1],[1033,2,1033,3],[1015,0,1015,1],[1015,2,1015,3],[1016,0,1016,1],[1016,2,1016,3],[1017,0,1017,1],[1017,2,1017,3],[1018,0,1018,1],[1018,2,1018,3],[1019,0,1019,1],[1019,2,1019,3],[1020,0,1020,1],[1020,2,1020,3],[1021,0,1021,1],[1021,2,1021,3],[1022,0,1022,1],[1022,2,1022,3],[1023,0,1023,1],[1023,2,1023,3],[1006,0,1006,1],[1006,2,1006,3],[1007,0,1007,1],[1007,2,1007,3],[1008,0,1008,1],[1008,2,1008,3],[1009,0,1009,1],[1009,2,1009,3],[1010,0,1010,1],[1010,2,1010,3],[1011,0,1011,1],[1011,2,1011,3],[1012,0,1012,1],[1012,2,1012,3],[1013,0,1013,1],[1013,2,1013,3],[1014,0,1014,1],[1014,2,1014,3],[997,0,997,1],[997,2,997,3],[998,0,998,1],[998,2,998,3],[999,0,999,1],[999,2,999,3],[1000,0,1000,1],[1000,2,1000,3],[1001,0,1001,1],[1001,2,1001,3],[1002,0,1002,1],[1002,2,1002,3],[1003,0,1003,1],[1003,2,1003,3],[1004,0,1004,1],[1004,2,1004,3],[1005,0,1005,1],[1005,2,1005,3],[988,0,988,1],[988,2,988,3],[989,0,989,1],[989,2,989,3],[990,0,990,1],[990,2,990,3],[991,0,991,1],[991,2,991,3],[992,0,992,1],[992,2,992,3],[993,0,993,1],[993,2,993,3],[994,0,994,1],[994,2,994,3],[995,0,995,1],[995,2,995,3],[996,0,996,1],[996,2,996,3],[979,0,979,1],[979,2,979,3],[980,0,980,1],[980,2,980,3],[981,0,981,1],[981,2,981,3],[982,0,982,1],[982,2,982,3],[983,0,983,1],[983,2,983,3],[984,0,984,1],[984,2,984,3],[985,0,985,1],[985,2,985,3],[986,0,986,1],[986,2,986,3],[987,0,987,1],[987,2,987,3],[970,0,970,1],[970,2,970,3],[971,0,971,1],[971,2,971,3],[972,0,972,1],[972,2,972,3],[973,0,973,1],[973,2,973,3],[974,0,974,1],[974,2,974,3],[975,0,975,1],[975,2,975,3],[976,0,976,1],[976,2,976,3],[977,0,977,1],[977,2,977,3],[978,0,978,1],[978,2,978,3],[961,0,961,1],[961,2,961,3],[962,0,962,1],[962,2,962,3],[963,0,963,1],[963,2,963,3],[964,0,964,1],[964,2,964,3],[965,0,965,1],[965,2,965,3],[966,0,966,1],[966,2,966,3],[967,0,967,1],[967,2,967,3],[968,0,968,1],[968,2,968,3],[969,0,969,1],[969,2,969,3],[952,0,952,1],[952,2,952,3],[953,0,953,1],[953,2,953,3],[954,0,954,1],[954,2,954,3],[955,0,955,1],[955,2,955,3],[956,0,956,1],[956,2,956,3],[957,0,957,1],[957,2,957,3],[958,0,958,1],[958,2,958,3],[959,0,959,1],[959,2,959,3],[960,0,960,1],[960,2,960,3],[943,0,943,1],[943,2,943,3],[944,0,944,1],[944,2,944,3],[945,0,945,1],[945,2,945,3],[946,0,946,1],[946,2,946,3],[947,0,947,1],[947,2,947,3],[948,0,948,1],[948,2,948,3],[949,0,949,1],[949,2,949,3],[950,0,950,1],[950,2,950,3],[951,0,951,1],[951,2,951,3],[934,0,934,1],[934,2,934,3],[935,0,935,1],[935,2,935,3],[936,0,936,1],[936,2,936,3],[937,0,937,1],[937,2,937,3],[938,0,938,1],[938,2,938,3],[939,0,939,1],[939,2,939,3],[940,0,940,1],[940,2,940,3],[941,0,941,1],[941,2,941,3],[942,0,942,1],[942,2,942,3],[925,0,925,1],[925,2,925,3],[926,0,926,1],[926,2,926,3],[927,0,927,1],[927,2,927,3],[928,0,928,1],[928,2,928,3],[929,0,929,1],[929,2,929,3],[930,0,930,1],[930,2,930,3],[931,0,931,1],[931,2,931,3],[932,0,932,1],[932,2,932,3],[933,0,933,1],[933,2,933,3],[916,0,916,1],[916,2,916,3],[917,0,917,1],[917,2,917,3],[918,0,918,1],[918,2,918,3],[919,0,919,1],[919,2,919,3],[920,0,920,1],[920,2,920,3],[921,0,921,1],[921,2,921,3],[922,0,922,1],[922,2,922,3],[923,0,923,1],[923,2,923,3],[924,0,924,1],[924,2,924,3],[907,0,907,1],[907,2,907,3],[908,0,908,1],[908,2,908,3],[909,0,909,1],[909,2,909,3],[910,0,910,1],[910,2,910,3],[911,0,911,1],[911,2,911,3],[912,0,912,1],[912,2,912,3],[913,0,913,1],[913,2,913,3],[914,0,914,1],[914,2,914,3],[915,0,915,1],[915,2,915,3],[898,0,898,1],[898,2,898,3],[899,0,899,1],[899,2,899,3],[900,0,900,1],[900,2,900,3],[901,0,901,1],[901,2,901,3],[902,0,902,1],[902,2,902,3],[903,0,903,1],[903,2,903,3],[904,0,904,1],[904,2,904,3],[905,0,905,1],[905,2,905,3],[906,0,906,1],[906,2,906,3],[887,11,888,11],[887,12,888,12],[888,0,888,1],[888,2,888,3],[889,0,889,3],[891,0,891,10],[892,0,892,1],[892,2,892,3],[893,0,893,1],[893,2,893,3],[894,0,894,1],[894,2,894,3],[895,0,895,1],[895,2,895,3],[896,0,896,1],[896,2,896,3],[897,0,897,1],[897,2,897,3],[878,0,878,1],[878,2,878,3],[878,9,879,9],[878,10,879,10],[879,0,879,1],[879,2,879,3],[880,0,880,1],[880,2,880,3],[880,9,887,9],[880,10,887,10],[881,0,881,1],[881,2,881,3],[882,0,882,1],[882,2,882,3],[883,0,883,1],[883,2,883,3],[884,0,884,1],[884,2,884,3],[885,0,885,1],[885,2,885,3],[886,0,886,1],[886,2,886,3],[887,0,887,1],[887,2,887,3],[866,0,866,3],[868,0,868,10],[869,0,869,1],[869,2,869,3],[870,0,870,1],[870,2,870,3],[870,9,877,9],[870,10,877,10],[871,0,871,1],[871,2,871,3],[872,0,872,1],[872,2,872,3],[873,0,873,1],[873,2,873,3],[874,0,874,1],[874,2,874,3],[875,0,875,1],[875,2,875,3],[876,0,876,1],[876,2,876,3],[877,0,877,1],[877,2,877,3],[857,0,857,1],[857,2,857,3],[858,0,858,1],[858,2,858,3],[859,0,859,1],[859,2,859,3],[860,0,860,1],[860,2,860,3],[861,0,861,1],[861,2,861,3],[862,0,862,1],[862,2,862,3],[863,0,863,1],[863,2,863,3],[864,0,864,1],[864,2,864,3],[865,0,865,1],[865,2,865,3],[848,0,848,1],[848,2,848,3],[849,0,849,1],[849,2,849,3],[850,0,850,1],[850,2,850,3],[851,0,851,1],[851,2,851,3],[852,0,852,1],[852,2,852,3],[853,0,853,1],[853,2,853,3],[854,0,854,1],[854,2,854,3],[855,0,855,1],[855,2,855,3],[856,0,856,1],[856,2,856,3],[839,0,839,1],[839,2,839,3],[839,9,844,9],[839,10,844,10],[840,0,840,1],[840,2,840,3],[841,0,841,1],[841,2,841,3],[842,0,842,1],[842,2,842,3],[843,0,843,1],[843,2,843,3],[844,0,844,1],[844,2,844,3],[845,0,845,1],[845,2,845,3],[845,9,847,9],[845,10,847,10],[846,0,846,1],[846,2,846,3],[847,0,847,1],[847,2,847,3],[830,0,830,1],[830,2,830,3],[831,0,831,1],[831,2,831,3],[832,0,832,1],[832,2,832,3],[833,0,833,1],[833,2,833,3],[833,9,838,9],[833,10,838,10],[834,0,834,1],[834,2,834,3],[835,0,835,1],[835,2,835,3],[836,0,836,1],[836,2,836,3],[837,0,837,1],[837,2,837,3],[838,0,838,1],[838,2,838,3],[819,11,820,11],[819,12,820,12],[820,0,820,1],[820,2,820,3],[821,0,821,3],[823,0,823,10],[824,0,824,1],[824,2,824,3],[825,0,825,1],[825,2,825,3],[826,0,826,1],[826,2,826,3],[827,0,827,1],[827,2,827,3],[828,0,828,1],[828,2,828,3],[829,0,829,1],[829,2,829,3],[811,0,811,1],[811,2,811,3],[812,0,812,1],[812,2,812,3],[813,0,813,1],[813,2,813,3],[814,0,814,1],[814,2,814,3],[815,0,815,1],[815,2,815,3],[816,0,816,1],[816,2,816,3],[817,0,817,1],[817,2,817,3],[818,0,818,1],[818,2,818,3],[819,0,819,1],[819,2,819,3],[802,0,802,1],[802,2,802,3],[803,0,803,1],[803,2,803,3],[804,0,804,1],[804,2,804,3],[805,0,805,1],[805,2,805,3],[806,0,806,1],[806,2,806,3],[807,0,807,1],[807,2,807,3],[808,0,808,1],[808,2,808,3],[809,0,809,1],[809,2,809,3],[810,0,810,1],[810,2,810,3],[793,0,793,1],[793,2,793,3],[794,0,794,1],[794,2,794,3],[795,0,795,1],[795,2,795,3],[796,0,796,1],[796,2,796,3],[797,0,797,1],[797,2,797,3],[798,0,798,1],[798,2,798,3],[799,0,799,1],[799,2,799,3],[800,0,800,1],[800,2,800,3],[801,0,801,1],[801,2,801,3],[784,0,784,1],[784,2,784,3],[785,0,785,1],[785,2,785,3],[786,0,786,1],[786,2,786,3],[787,0,787,1],[787,2,787,3],[788,0,788,1],[788,2,788,3],[789,0,789,1],[789,2,789,3],[790,0,790,1],[790,2,790,3],[791,0,791,1]],"merged_total":2575,"flags":["merged_cut"]}
[]
["MATRIZ AGUA CONTINENTALES"]
["18. Matriz / Grupo",null,"19. Variable",null,"INICIAL","SEGUIMIENTO","RENOVACIÓN","EXTENSIÓN","Total Variables","Equivalencia en Parámetros","Parámetros Calculados"]
["Iones Principales o Minerales",null,"Alcalinidad total",null,{"$f":"COUNTIF(Alcance!E5,E$3)","v":0},{"$f":"COUNTIF(Alcance!E5,F$3)","v":0},{"$f":"COUNTIF(Alcance!E5,G$3)","v":0},{"$f":"COUNTIF(Alcance!E5,H$3)","v":0},{"$f":"SUM(E4:H4)","v":0},1,{"$f":"I4*J4","v":0}]
["Iones Principales o Minerales",null,"Conductividad a 25ºC",null,{"$f":"COUNTIF(Alcance!E6,E$3)","v":0},{"$f":"COUNTIF(Alcance!E6,F$3)","v":0},{"$f":"COUNTIF(Alcance!E6,G$3)","v":0},{"$f":"COUNTIF(Alcance!E6,H$3)","v":0},0,1,{"$f":"I5*J5","v":0}]
["Iones Principales o Minerales",null,"Cloruro",null,{"$f":"COUNTIF(Alcance!E7,E$3)","v":0},{"$f":"COUNTIF(Alcance!E7,F$3)","v":0},{"$f":"COUNTIF(Alcance!E7,G$3)","v":0},{"$f":"COUNTIF(Alcance!E7,H$3)","v":0},0,1,0]
["Iones Principales o Minerales",null,"Calcio disuelto",null,{"$f":"COUNTIF(Alcance!E8,E$3)","v":0},{"$f":"COUNTIF(Alcance!E8,F$3)","v":0},{"$f":"COUNTIF(Alcance!E8,G$3)","v":0},{"$f":"COUNTIF(Alcance!E8,H$3)","v":0},0,1,0]
["Iones Principales o Minerales",null,"Calcio total",null,{"$f":"COUNTIF(Alcance!E9,E$3)","v":0},{"$f":"COUNTIF(Alcance!E9,F$3)","v":0},{"$f":"COUNTIF(Alcance!E9,G$3)","v":0},{"$f":"COUNTIF(Alcance!E9,H$3)","v":0},0,1,0]
["Iones Principales o Minerales",null,"Magnesio disuelto",null,{"$f":"COUNTIF(Alcance!E10,E$3)","v":0},{"$f":"COUNTIF(Alcance!E10,F$3)","v":0},{"$f":"COUNTIF(Alcance!E10,G$3)","v":0},{"$f":"COUNTIF(Alcance!E10,H$3)","v":0},0,1,0]
["Iones Principales o Minerales",null,"Magnesio total",null,{"$f":"COUNTIF(Alcance!E11,E$3)","v":0},{"$f":"COUNTIF(Alcance!E11,F$3)","v":0},{"$f":"COUNTIF(Alcance!E11,G$3)","v":0},{"$f":"COUNTIF(Alcance!E11,H$3)","v":0},0,1,0]
["Iones Principales o Minerales",null,"Fluoruro",null,{"$f":"COUNTIF(Alcance!E12,E$3)","v":0},{"$f":"COUNTIF(Alcance!E12,F$3)","v":0},{"$f":"COUNTIF(Alcance!E12,G$3)","v":0},{"$f":"COUNTIF(Alcance!E12,H$3)","v":0},0,1,0]
["Iones Principales o Minerales",null,"Potasio disuelto",null,{"$f":"COUNTIF(Alcance!E13,E$3)","v":0},{"$f":"COUNTIF(Alcance!E13,F$3)","v":0},{"$f":"COUNTIF(Alcance!E13,G$3)","v":0},{"$f":"COUNTIF(Alcance!E13,H$3)","v":0},0,1,0]
["Iones Principales o Minerales",null,"Potasio total",null,{"$f":"COUNTIF(Alcance!E14,E$3)","v":0},{"$f":"COUNTIF(Alcance!E14,F$3)","v":0},{"$f":"COUNTIF(Alcance!E14,G$3)","v":0},{"$f":"COUNTIF(Alcance!E14,H$3)","v":0},0,1,0]
["Iones Principales o Minerales",null,"Sodio disuelto",null,{"$f":"COUNTIF(Alcance!E15,E$3)","v":0},{"$f":"COUNTIF(Alcance!E15,F$3)","v":0},{"$f":"COUNTIF(Alcance!E15,G$3)","v":0},{"$f":"COUNTIF(Alcance!E15,H$3)","v":0},0,1,0]
["Iones Principales o Minerales",null,"Sodio total",null,{"$f":"COUNTIF(Alcance!E16,E$3)","v":0},{"$f":"COUNTIF(Alcance!E16,F$3)","v":0},{"$f":"COUNTIF(Alcance!E16,G$3)","v":0},{"$f":"COUNTIF(Alcance!E16,H$3)","v":0},0,1,0]
["Iones Principales o Minerales",null,"Sulfato",null,{"$f":"COUNTIF(Alcance!E17,E$3)","v":0},{"$f":"COUNTIF(Alcance!E17,F$3)","v":0},{"$f":"COUNTIF(Alcance!E17,G$3)","v":0},{"$f":"COUNTIF(Alcance!E17,H$3)","v":0},0,1,0]
["Iones Principales o Minerales",null,"Dureza Total",null,{"$f":"COUNTIF(Alcance!E18,E$3)","v":0},{"$f":"COUNTIF(Alcance!E18,F$3)","v":0},{"$f":"COUNTIF(Alcance!E18,G$3)","v":0},{"$f":"COUNTIF(Alcance!E18,H$3)","v":0},0,1,0]
["Iones Principales o Minerales",null,"Dureza Cálcica",null,{"$f":"COUNTIF(Alcance!E19,E$3)","v":0},{"$f":"COUNTIF(Alcance!E19,F$3)","v":0},{"$f":"COUNTIF(Alcance!E19,G$3)","v":0},{"$f":"COUNTIF(Alcance!E19,H$3)","v":0},0,1,0]
["Iones Principales o Minerales",null,"Carbonatos, bicarbonatos e hidróxidos ",null,{"$f":"COUNTIF(Alcance!E20,E$3)","v":0},{"$f":"COUNTIF(Alcance!E20,F$3)","v":0},{"$f":"COUNTIF(Alcance!E20,G$3)","v":0},{"$f":"COUNTIF(Alcance!E20,H$3)","v":0},0,1,0]
["Nutrientes",null,"Nitrato",null,{"$f":"COUNTIF(Alcance!E21,E$3)","v":0},{"$f":"COUNTIF(Alcance!E21,F$3)","v":0},{"$f":"COUNTIF(Alcance!E21,G$3)","v":0},{"$f":"COUNTIF(Alcance!E21,H$3)","v":0},0,1,0]
["Nutrientes",null,"Nitrito",null,{"$f":"COUNTIF(Alcance!E22,E$3)","v":0},{"$f":"COUNTIF(Alcance!E22,F$3)","v":0},{"$f":"COUNTIF(Alcance!E22,G$3)","v":0},{"$f":"COUNTIF(Alcance!E22,H$3)","v":0},0,1,0]
["Nutrientes",null,"Amonio",null,{"$f":"COUNTIF(Alcance!E23,E$3)","v":0},{"$f":"COUNTIF(Alcance!E23,F$3)","v":0},{"$f":"COUNTIF(Alcance!E23,G$3)","v":0},{"$f":"COUNTIF(Alcance!E23,H$3)","v":0},0,1,0]
["Nutrientes",null,"Nitrógeno Amoniacal",null,{"$f":"COUNTIF(Alcance!E24,E$3)","v":0},{"$f":"COUNTIF(Alcance!E24,F$3)","v":0},{"$f":"COUNTIF(Alcance!E24,G$3)","v":0},{"$f":"COUNTIF(Alcance!E24,H$3)","v":0},0,1,0]
["Nutrientes",null,"Nitrogeno Organico",null,{"$f":"COUNTIF(Alcance!E25,E$3)","v":0},{"$f":"COUNTIF(Alcance!E25,F$3)","v":0},{"$f":"COUNTIF(Alcance!E25,G$3)","v":0},{"$f":"COUNTIF(Alcance!E25,H$3)","v":0},0,1,0]
["Nutrientes",null,"Nitrógeno  Kjeldahl",null,{"$f":"COUNTIF(Alcance!E26,E$3)","v":0},{"$f":"COUNTIF(Alcance!E26,F$3)","v":0},{"$f":"COUNTIF(Alcance!E26,G$3)","v":0},{"$f":"COUNTIF(Alcance!E26,H$3)","v":0},0,2,0]
["Nutrientes",null,"Fósforo reactivo total (leído como ortofosfato)",null,{"$f":"COUNTIF(Alcance!E27,E$3)","v":0},{"$f":"COUNTIF(Alcance!E27,F$3)","v":0},{"$f":"COUNTIF(Alcance!E27,G$3)","v":0},{"$f":"COUNTIF(Alcance!E27,H$3)","v":0},0,1,0]
["Nutrientes",null,"Fósforo Acido hidrolizable Total (Léido como Ortofosfato)",null,{"$f":"COUNTIF(Alcance!E28,E$3)","v":0},{"$f":"COUNTIF(Alcance!E28,F$3)","v":0},{"$f":"COUNTIF(Alcance!E28,G$3)","v":0},{"$f":"COUNTIF(Alcance!E28,H$3)","v":0},0,1,0]
["Nutrientes",null,"Fósforo Orgánico total ( a partir del cálculo del fósforo total y fósforo hidrolizable)",null,{"$f":"COUNTIF(Alcance!E29,E$3)","v":0},{"$f":"COUNTIF(Alcance!E29,F$3)","v":0},{"$f":"COUNTIF(Alcance!E29,G$3)","v":0},{"$f":"COUNTIF(Alcance!E29,H$3)","v":0},0,1,0]
["Nutrientes",null,"Fósforo Total ",null,{"$f":"COUNTIF(Alcance!E30,E$3)","v":0},{"$f":"COUNTIF(Alcance!E30,F$3)","v":0},{"$f":"COUNTIF(Alcance!E30,G$3)","v":0},{"$f":"COUNTIF(Alcance!E30,H$3)","v":0},0,1,0]
["Nutrientes",null,"Fósforo reactivo Disuelto (leído como Ortofosfatos)",null,{"$f":"COUNTIF(Alcance!E31,E$3)","v":0},{"$f":"COUNTIF(Alcance!E31,F$3)","v":0},{"$f":"COUNTIF(Alcance!E31,G$3)","v":0},{"$f":"COUNTIF(Alcance!E31,H$3)","v":0},0,1,0]
["Nutrientes",null,"Fósforo Acido Hidrolizable Disuelto (Léido como ortofosfatos)",null,{"$f":"COUNTIF(Alcance!E32,E$3)","v":0},{"$f":"COUNTIF(Alcance!E32,F$3)","v":0},{"$f":"COUNTIF(Alcance!E32,G$3)","v":0},{"$f":"COUNTIF(Alcance!E32,H$3)","v":0},0,1,0]
["Nutrientes",null,"Fósforo Orgánico Disuelto (a partir del cálculo del Fósforo Disuelto Total y Fósforo Ácido - Hidrolizable Disuelto)",null,{"$f":"COUNTIF(Alcance!E33,E$3)","v":0},{"$f":"COUNTIF(Alcance!E33,F$3)","v":0},{"$f":"COUNTIF(Alcance!E33,G$3)","v":0},{"$f":"COUNTIF(Alcance!E33,H$3)","v":0},0,1,0]
["Nutrientes",null,"Fósforo Disuelto Total (Leìdo como ortofosfatos)",null,{"$f":"COUNTIF(Alcance!E34,E$3)","v":0},{"$f":"COUNTIF(Alcance!E34,F$3)","v":0},{"$f":"COUNTIF(Alcance!E34,G$3)","v":0},{"$f":"COUNTIF(Alcance!E34,H$3)","v":0},0,1,0]
["Metales Traza",null,"Aluminio disuelto",null,{"$f":"COUNTIF(Alcance!E35,E$3)","v":0},{"$f":"COUNTIF(Alcance!E35,F$3)","v":0},{"$f":"COUNTIF(Alcance!E35,G$3)","v":0},{"$f":"COUNTIF(Alcance!E35,H$3)","v":0},0,0.5,0]
["Metales Traza",null,"Aluminio total ",null,{"$f":"COUNTIF(Alcance!E36,E$3)","v":0},{"$f":"COUNTIF(Alcance!E36,F$3)","v":0},{"$f":"COUNTIF(Alcance!E36,G$3)","v":0},{"$f":"COUNTIF(Alcance!E36,H$3)","v":0},0,0.5,0]
["Metales Traza",null,"Antimonio disuelto",null,{"$f":"COUNTIF(Alcance!E37,E$3)","v":0},{"$f":"COUNTIF(Alcance!E37,F$3)","v":0},{"$f":"COUNTIF(Alcance!E37,G$3)","v":0},{"$f":"COUNTIF(Alcance!E37,H$3)","v":0},0,0.5,0]
["Metales Traza",null,"Antimonio total",null,{"$f":"COUNTIF(Alcance!E38,E$3)","v":0},{"$f":"COUNTIF(Alcance!E38,F$3)","v":0},{"$f":"COUNTIF(Alcance!E38,G$3)","v":0},{"$f":"COUNTIF(Alcance!E38,H$3)","v":0},0,0.5,0]
["Metales Traza",null,"Arsénico disuelto",null,{"$f":"COUNTIF(Alcance!E39,E$3)","v":0},{"$f":"COUNTIF(Alcance!E39,F$3)","v":0},{"$f":"COUNTIF(Alcance!E39,G$3)","v":0},{"$f":"COUNTIF(Alcance!E39,H$3)","v":0},0,1,0]
["Metales Traza",null,"Arsénico total",null,{"$f":"COUNTIF(Alcance!E40,E$3)","v":0},{"$f":"COUNTIF(Alcance!E40,F$3)","v":0},{"$f":"COUNTIF(Alcance!E40,G$3)","v":0},{"$f":"COUNTIF(Alcance!E40,H$3)","v":0},0,1,0]
["Metales Traza",null,"Berilio disuelto",null,{"$f":"COUNTIF(Alcance!E41,E$3)","v":0},{"$f":"COUNTIF(Alcance!E41,F$3)","v":0},{"$f":"COUNTIF(Alcance!E41,G$3)","v":0},{"$f":"COUNTIF(Alcance!E41,H$3)","v":0},0,0.5,0]
["Metales Traza",null,"Berilio total",null,{"$f":"COUNTIF(Alcance!E42,E$3)","v":0},{"$f":"COUNTIF(Alcance!E42,F$3)","v":0},{"$f":"COUNTIF(Alcance!E42,G$3)","v":0},{"$f":"COUNTIF(Alcance!E42,H$3)","v":0},0,0.5,0]
["Metales Traza",null,"Boro disuelto",null,{"$f":"COUNTIF(Alcance!E43,E$3)","v":0},{"$f":"COUNTIF(Alcance!E43,F$3)","v":0},{"$f":"COUNTIF(Alcance!E43,G$3)","v":0},{"$f":"COUNTIF(Alcance!E43,H$3)","v":0},0,0.5,0]
["Metales Traza",null,"Boro total",null,{"$f":"COUNTIF(Alcance!E44,E$3)","v":0},{"$f":"COUNTIF(Alcance!E44,F$3)","v":0},{"$f":"COUNTIF(Alcance!E44,G$3)","v":0},{"$f":"COUNTIF(Alcance!E44,H$3)","v":0},0,0.5,0]
["Metales Traza",null,"Cadmio disuelto",null,{"$f":"COUNTIF(Alcance!E45,E$3)","v":0},{"$f":"COUNTIF(Alcance!E45,F$3)","v":0},{"$f":"COUNTIF(Alcance!E45,G$3)","v":0},{"$f":"COUNTIF(Alcance!E45,H$3)","v":0},0,0.5,0]
["Metales Traza",null,"Cadmio total",null,{"$f":"COUNTIF(Alcance!E46,E$3)","v":0},{"$f":"COUNTIF(Alcance!E46,F$3)","v":0},{"$f":"COUNTIF(Alcance!E46,G$3)","v":0},{"$f":"COUNTIF(Alcance!E46,H$3)","v":0},0,0.5,0]
["Metales Traza",null,"Cobalto disuelto",null,{"$f":"COUNTIF(Alcance!E47,E$3)","v":0},{"$f":"COUNTIF(Alcance!E47,F$3)","v":0},{"$f":"COUNTIF(Alcance!E47,G$3)","v":0},{"$f":"COUNTIF(Alcance!E47,H$3)","v":0},0,0.5,0]
["Metales Traza",null,"Cobalto total",null,{"$f":"COUNTIF(Alcance!E48,E$3)","v":0},{"$f":"COUNTIF(Alcance!E48,F$3)","v":0},{"$f":"COUNTIF(Alcance!E48,G$3)","v":0},{"$f":"COUNTIF(Alcance!E48,H$3)","v":0},0,0.5,0]
["Metales Traza",null,"Cobre disuelto",null,{"$f":"COUNTIF(Alcance!E49,E$3)","v":0},{"$f":"COUNTIF(Alcance!E49,F$3)","v":0},{"$f":"COUNTIF(Alcance!E49,G$3)","v":0},{"$f":"COUNTIF(Alcance!E49,H$3)","v":0},0,0.5,0]
["Metales Traza",null,"Cobre total",null,{"$f":"COUNTIF(Alcance!E50,E$3)","v":0},{"$f":"COUNTIF(Alcance!E50,F$3)","v":0},{"$f":"COUNTIF(Alcance!E50,G$3)","v":0},{"$f":"COUNTIF(Alcance!E50,H$3)","v":0},0,0.5,0]
["Metales Traza",null,"Cromo disuelto",null,{"$f":"COUNTIF(Alcance!E51,E$3)","v":0},{"$f":"COUNTIF(Alcance!E51,F$3)","v":0},{"$f":"COUNTIF(Alcance!E51,G$3)","v":0},{"$f":"COUNTIF(Alcance!E51,H$3)","v":0},0,0.5,0]
["Metales Traza",null,"Cromo total",null,{"$f":"COUNTIF(Alcance!E52,E$3)","v":0},{"$f":"COUNTIF(Alcance!E52,F$3)","v":0},{"$f":"COUNTIF(Alcance!E52,G$3)","v":0},{"$f":"COUNTIF(Alcance!E52,H$3)","v":0},0,0.5,0]
["Metales Traza",null,"Estroncio disuelto",null,{"$f":"COUNTIF(Alcance!E53,E$3)","v":0},{"$f":"COUNTIF(Alcance!E53,F$3)","v":0},{"$f":"COUNTIF(Alcance!E53,G$3)","v":0},{"$f":"COUNTIF(Alcance!E53,H$3)","v":0},0,0.5,0]
["Metales Traza",null,"Estroncio total",null,{"$f":"COUNTIF(Alcance!E54,E$3)","v":0},{"$f":"COUNTIF(Alcance!E54,F$3)","v":0},{"$f":"COUNTIF(Alcance!E54,G$3)","v":0},{"$f":"COUNTIF(Alcance!E54,H$3)","v":0},0,0.5,0]
["Metales Traza",null,"Hierro disuelto",null,{"$f":"COUNTIF(Alcance!E55,E$3)","v":0},{"$f":"COUNTIF(Alcance!E55,F$3)","v":0},{"$f":"COUNTIF(Alcance!E55,G$3)","v":0},{"$f":"COUNTIF(Alcance!E55,H$3)","v":0},0,0.5,0]
["Metales Traza",null,"Hierro total",null,{"$f":"COUNTIF(Alcance!E56,E$3)","v":0},{"$f":"COUNTIF(Alcance!E56,F$3)","v":0},{"$f":"COUNTIF(Alcance!E56,G$3)","v":0},{"$f":"COUNTIF(Alcance!E56,H$3)","v":0},0,0.5,0]
["Metales Traza",null,"Litio Disuelto",null,{"$f":"COUNTIF(Alcance!E57,E$3)","v":0},{"$f":"COUNTIF(Alcance!E57,F$3)","v":0},{"$f":"COUNTIF(Alcance!E57,G$3)","v":0},{"$f":"COUNTIF(Alcance!E57,H$3)","v":0},0,0.5,0]
["Metales Traza",null,"Litio Total",null,{"$f":"COUNTIF(Alcance!E58,E$3)","v":0},{"$f":"COUNTIF(Alcance!E58,F$3)","v":0},{"$f":"COUNTIF(Alcance!E58,G$3)","v":0},{"$f":"COUNTIF(Alcance!E58,H$3)","v":0},0,0.5,0]
["Metales Traza",null,"Manganeso disuelto",null,{"$f":"COUNTIF(Alcance!E59,E$3)","v":0},{"$f":"COUNTIF(Alcance!E59,F$3)","v":0},{"$f":"COUNTIF(Alcance!E59,G$3)","v":0},{"$f":"COUNTIF(Alcance!E59,H$3)","v":0},0,0.5,0]
["Metales Traza",null,"Manganeso total",null,{"$f":"COUNTIF(Alcance!E60,E$3)","v":0},{"$f":"COUNTIF(Alcance!E60,F$3)","v":0},{"$f":"COUNTIF(Alcance!E60,G$3)","v":0},{"$f":"COUNTIF(Alcance!E60,H$3)","v":0},0,0.5,0]
["Metales Traza",null,"Mercurio disuelto",null,{"$f":"COUNTIF(Alcance!E61,E$3)","v":0},{"$f":"COUNTIF(Alcance!E61,F$3)","v":0},{"$f":"COUNTIF(Alcance!E61,G$3)","v":0},{"$f":"COUNTIF(Alcance!E61,H$3)","v":0},0,1,0]
["Metales Traza",null,"Mercurio total",null,{"$f":"COUNTIF(Alcance!E62,E$3)","v":0},{"$f":"COUNTIF(Alcance!E62,F$3)","v":0},{"$f":"COUNTIF(Alcance!E62,G$3)","v":0},{"$f":"COUNTIF(Alcance!E62,H$3)","v":0},0,1,0]
["Metales Traza",null,"Molibdeno disuelto",null,{"$f":"COUNTIF(Alcance!E63,E$3)","v":0},{"$f":"COUNTIF(Alcance!E63,F$3)","v":0},{"$f":"COUNTIF(Alcance!E63,G$3)","v":0},{"$f":"COUNTIF(Alcance!E63,H$3)","v":0},0,0.5,0]
["Metales Traza",null,"Molibdeno total",null,{"$f":"COUNTIF(Alcance!E64,E$3)","v":0},{"$f":"COUNTIF(Alcance!E64,F$3)","v":0},{"$f":"COUNTIF(Alcance!E64,G$3)","v":0},{"$f":"COUNTIF(Alcance!E64,H$3)","v":0},0,0.5,0]
["Metales Traza",null,"Níquel disuelto",null,{"$f":"COUNTIF(Alcance!E65,E$3)","v":0},{"$f":"COUNTIF(Alcance!E65,F$3)","v":0},{"$f":"COUNTIF(Alcance!E65,G$3)","v":0},{"$f":"COUNTIF(Alcance!E65,H$3)","v":0},0,0.5,0]
["Metales Traza",null,"Níquel total",null,{"$f":"COUNTIF(Alcance!E66,E$3)","v":0},{"$f":"COUNTIF(Alcance!E66,F$3)","v":0},{"$f":"COUNTIF(Alcance!E66,G$3)","v":0},{"$f":"COUNTIF(Alcance!E66,H$3)","v":0},0,0.5,0]
["Metales Traza",null,"Plata disuelto",null,{"$f":"COUNTIF(Alcance!E67,E$3)","v":0},{"$f":"COUNTIF(Alcance!E67,F$3)","v":0},{"$f":"COUNTIF(Alcance!E67,G$3)","v":0},{"$f":"COUNTIF(Alcance!E67,H$3)","v":0},0,0.5,0]
["Metales Traza",null,"Plata total",null,{"$f":"COUNTIF(Alcance!E68,E$3)","v":0},{"$f":"COUNTIF(Alcance!E68,F$3)","v":0},{"$f":"COUNTIF(Alcance!E68,G$3)","v":0},{"$f":"COUNTIF(Alcance!E68,H$3)","v":0},0,0.5,0]
["Metales Traza",null,"Plomo disuelto",null,{"$f":"COUNTIF(Alcance!E69,E$3)","v":0},{"$f":"COUNTIF(Alcance!E69,F$3)","v":0},{"$f":"COUNTIF(Alcance!E69,G$3)","v":0},{"$f":"COUNTIF(Alcance!E69,H$3)","v":0},0,0.5,0]
["Metales Traza",null,"Plomo total",null,{"$f":"COUNTIF(Alcance!E70,E$3)","v":0},{"$f":"COUNTIF(Alcance!E70,F$3)","v":0},{"$f":"COUNTIF(Alcance!E70,G$3)","v":0},{"$f":"COUNTIF(Alcance!E70,H$3)","v":0},{"$f":"SUM(E69:H69)","v":0},0.5,0]
["Metales Traza",null,"Selenio disuelto",null,{"$f":"COUNTIF(Alcance!E71,E$3)","v":0},{"$f":"COUNTIF(Alcance!E71,F$3)","v":0},{"$f":"COUNTIF(Alcance!E71,G$3)","v":0},{"$f":"COUNTIF(Alcance!E71,H$3)","v":0},0,1,{"$f":"I70*J70","v":0}]
["Metales Traza",null,"Selenio total",null,{"$f":"COUNTIF(Alcance!E72,E$3)","v":0},{"$f":"COUNTIF(Alcance!E72,F$3)","v":0},{"$f":"COUNTIF(Alcance!E72,G$3)","v":0},{"$f":"COUNTIF(Alcance!E72,H$3)","v":0},0,1,0]
["Metales Traza",null,"Talio disuelto",null,{"$f":"COUNTIF(Alcance!E73,E$3)","v":0},{"$f":"COUNTIF(Alcance!E73,F$3)","v":0},{"$f":"COUNTIF(Alcance!E73,G$3)","v":0},{"$f":"COUNTIF(Alcance!E73,H$3)","v":0},0,0.5,0]
["Metales Traza",null,"Talio total ",null,{"$f":"COUNTIF(Alcance!E74,E$3)","v":0},{"$f":"COUNTIF(Alcance!E74,F$3)","v":0},{"$f":"COUNTIF(Alcance!E74,G$3)","v":0},{"$f":"COUNTIF(Alcance!E74,H$3)","v":0},0,0.5,0]
["Metales Traza",null,"Titanio disuelto",null,{"$f":"COUNTIF(Alcance!E75,E$3)","v":0},{"$f":"COUNTIF(Alcance!E75,F$3)","v":0},{"$f":"COUNTIF(Alcance!E75,G$3)","v":0},{"$f":"COUNTIF(Alcance!E75,H$3)","v":0},0,0.5,0]
["Metales Traza",null,"Titanio total",null,{"$f":"COUNTIF(Alcance!E76,E$3)","v":0},{"$f":"COUNTIF(Alcance!E76,F$3)","v":0},{"$f":"COUNTIF(Alcance!E76,G$3)","v":0},{"$f":"COUNTIF(Alcance!E76,H$3)","v":0},0,0.5,0]
["Metales Traza",null,"Vanadio disuelto",null,{"$f":"COUNTIF(Alcance!E77,E$3)","v":0},{"$f":"COUNTIF(Alcance!E77,F$3)","v":0},{"$f":"COUNTIF(Alcance!E77,G$3)","v":0},{"$f":"COUNTIF(Alcance!E77,H$3)","v":0},0,0.5,0]
["Metales Traza",null,"Vanadio total",null,{"$f":"COUNTIF(Alcance!E78,E$3)","v":0},{"$f":"COUNTIF(Alcance!E78,F$3)","v":0},{"$f":"COUNTIF(Alcance!E78,G$3)","v":0},{"$f":"COUNTIF(Alcance!E78,H$3)","v":0},0,0.5,0]
["Metales Traza",null,"Zinc disuelto",null,{"$f":"COUNTIF(Alcance!E79,E$3)","v":0},{"$f":"COUNTIF(Alcance!E79,F$3)","v":0},{"$f":"COUNTIF(Alcance!E79,G$3)","v":0},{"$f":"COUNTIF(Alcance!E79,H$3)","v":0},0,0.5,0]
["Metales Traza",null,"Zinc total",null,{"$f":"COUNTIF(Alcance!E80,E$3)","v":0},{"$f":"COUNTIF(Alcance!E80,F$3)","v":0},{"$f":"COUNTIF(Alcance!E80,G$3)","v":0},{"$f":"COUNTIF(Alcance!E80,H$3)","v":0},0,0.5,0]
["Metales Traza",null,"Potasio Disuelto",null,{"$f":"COUNTIF(Alcance!E81,E$3)","v":0},{"$f":"COUNTIF(Alcance!E81,F$3)","v":0},{"$f":"COUNTIF(Alcance!E81,G$3)","v":0},{"$f":"COUNTIF(Alcance!E81,H$3)","v":0},0,0.5,0]
["Metales Traza",null,"Potasio Total",null,{"$f":"COUNTIF(Alcance!E82,E$3)","v":0},{"$f":"COUNTIF(Alcance!E82,F$3)","v":0},{"$f":"COUNTIF(Alcance!E82,G$3)","v":0},{"$f":"COUNTIF(Alcance!E82,H$3)","v":0},0,0.5,0]
["Metales Traza",null,"Sodio disuelto",null,{"$f":"COUNTIF(Alcance!E83,E$3)","v":0},{"$f":"COUNTIF(Alcance!E83,F$3)","v":0},{"$f":"COUNTIF(Alcance!E83,G$3)","v":0},{"$f":"COUNTIF(Alcance!E83,H$3)","v":0},0,0.5,0]
["Metales Traza",null,"Sodio Total",null,{"$f":"COUNTIF(Alcance!E84,E$3)","v":0},{"$f":"COUNTIF(Alcance!E84,F$3)","v":0},{"$f":"COUNTIF(Alcance!E84,G$3)","v":0},{"$f":"COUNTIF(Alcance!E84,H$3)","v":0},0,0.5,0]
["Metales Traza",null,"Calcio Disuelto",null,{"$f":"COUNTIF(Alcance!E85,E$3)","v":0},{"$f":"COUNTIF(Alcance!E85,F$3)","v":0},{"$f":"COUNTIF(Alcance!E85,G$3)","v":0},{"$f":"COUNTIF(Alcance!E85,H$3)","v":0},0,0.5,0]
["Metales Traza",null,"Calcio Total",null,{"$f":"COUNTIF(Alcance!E86,E$3)","v":0},{"$f":"COUNTIF(Alcance!E86,F$3)","v":0},{"$f":"COUNTIF(Alcance!E86,G$3)","v":0},{"$f":"COUNTIF(Alcance!E86,H$3)","v":0},0,0.5,0]
["Metales Traza",null,"Magnesio Disuelto",null,{"$f":"COUNTIF(Alcance!E87,E$3)","v":0},{"$f":"COUNTIF(Alcance!E87,F$3)","v":0},{"$f":"COUNTIF(Alcance!E87,G$3)","v":0},{"$f":"COUNTIF(Alcance!E87,H$3)","v":0},0,0.5,0]
["Metales Traza",null,"Magnesio Total",null,{"$f":"COUNTIF(Alcance!E88,E$3)","v":0},{"$f":"COUNTIF(Alcance!E88,F$3)","v":0},{"$f":"COUNTIF(Alcance!E88,G$3)","v":0},{"$f":"COUNTIF(Alcance!E88,H$3)","v":0},0,0.5,0]
["Cromo VI",null,"Cromo VI",null,{"$f":"COUNTIF(Alcance!E89,E$3)","v":0},{"$f":"COUNTIF(Alcance!E89,F$3)","v":0},{"$f":"COUNTIF(Alcance!E89,G$3)","v":0},{"$f":"COUNTIF(Alcance!E89,H$3)","v":0},0,1,0]
["Bario y Estaño",null,"Bario Disuelto",null,{"$f":"COUNTIF(Alcance!E90,E$3)","v":0},{"$f":"COUNTIF(Alcance!E90,F$3)","v":0},{"$f":"COUNTIF(Alcance!E90,G$3)","v":0},{"$f":"COUNTIF(Alcance!E90,H$3)","v":0},0,0.5,0]
["Bario y Estaño",null,"Bario Total",null,{"$f":"COUNTIF(Alcance!E91,E$3)","v":0},{"$f":"COUNTIF(Alcance!E91,F$3)","v":0},{"$f":"COUNTIF(Alcance!E91,G$3)","v":0},{"$f":"COUNTIF(Alcance!E91,H$3)","v":0},0,1,0]
["Bario y Estaño",null,"Estaño Disuelto",null,{"$f":"COUNTIF(Alcance!E92,E$3)","v":0},{"$f":"COUNTIF(Alcance!E92,F$3)","v":0},{"$f":"COUNTIF(Alcance!E92,G$3)","v":0},{"$f":"COUNTIF(Alcance!E92,H$3)","v":0},0,0.5,0]
["Bario y Estaño",null,"Estaño Total",null,{"$f":"COUNTIF(Alcance!E93,E$3)","v":0},{"$f":"COUNTIF(Alcance!E93,F$3)","v":0},{"$f":"COUNTIF(Alcance!E93,G$3)","v":0},{"$f":"COUNTIF(Alcance!E93,H$3)","v":0},0,1,0]
["Silice",null,"Silice Disuelto",null,{"$f":"COUNTIF(Alcance!E94,E$3)","v":0},{"$f":"COUNTIF(Alcance!E94,F$3)","v":0},{"$f":"COUNTIF(Alcance!E94,G$3)","v":0},{"$f":"COUNTIF(Alcance!E94,H$3)","v":0},0,0.5,{"$f":"I93*J93","v":0}]
["Silice",null,"Silicie Total",null,{"$f":"COUNTIF(Alcance!E95,E$3)","v":0},{"$f":"COUNTIF(Alcance!E95,F$3)","v":0},{"$f":"COUNTIF(Alcance!E95,G$3)","v":0},{"$f":"COUNTIF(Alcance!E95,H$3)","v":0},0,1,0]
["Sólidos o Residuos",null,"Sólidos Suspendidos Totales",null,{"$f":"COUNTIF(Alcance!E96,E$3)","v":0},{"$f":"COUNTIF(Alcance!E96,F$3)","v":0},{"$f":"COUNTIF(Alcance!E96,G$3)","v":0},{"$f":"COUNTIF(Alcance!E96,H$3)","v":0},0,1,0]
["Sólidos o Residuos",null,"Sólidos Disueltos Totales",null,{"$f":"COUNTIF(Alcance!E97,E$3)","v":0},{"$f":"COUNTIF(Alcance!E97,F$3)","v":0},{"$f":"COUNTIF(Alcance!E97,G$3)","v":0},{"$f":"COUNTIF(Alcance!E97,H$3)","v":0},0,1,0]
["Sólidos o Residuos",null,"Sólidos Totales",null,{"$f":"COUNTIF(Alcance!E98,E$3)","v":0},{"$f":"COUNTIF(Alcance!E98,F$3)","v":0},{"$f":"COUNTIF(Alcance!E98,G$3)","v":0},{"$f":"COUNTIF(Alcance!E98,H$3)","v":0},0,1,0]
["Sólidos o Residuos",null,"Sólidos sedimentables",null,{"$f":"COUNTIF(Alcance!E99,E$3)","v":0},{"$f":"COUNTIF(Alcance!E99,F$3)","v":0},{"$f":"COUNTIF(Alcance!E99,G$3)","v":0},{"$f":"COUNTIF(Alcance!E99,H$3)","v":0},0,1,0]
["Sólidos o Residuos",null,"Sólidos Fijos",null,{"$f":"COUNTIF(Alcance!E100,E$3)","v":0},{"$f":"COUNTIF(Alcance!E100,F$3)","v":0},{"$f":"COUNTIF(Alcance!E100,G$3)","v":0},{"$f":"COUNTIF(Alcance!E100,H$3)","v":0},0,1,0]
["Sólidos o Residuos",null,"Sólidos Suspendidos Volátiles ",null,{"$f":"COUNTIF(Alcance!E101,E$3)","v":0},{"$f":"COUNTIF(Alcance!E101,F$3)","v":0},{"$f":"COUNTIF(Alcance!E101,G$3)","v":0},{"$f":"COUNTIF(Alcance!E101,H$3)","v":0},0,1,0]
["Sólidos o Residuos",null,"Sólidos Totales Volátiles ",null,{"$f":"COUNTIF(Alcance!E102,E$3)","v":0},{"$f":"COUNTIF(Alcance!E102,F$3)","v":0},{"$f":"COUNTIF(Alcance!E102,G$3)","v":0},{"$f":"COUNTIF(Alcance!E102,H$3)","v":0},0,1,0]
["Sólidos o Residuos",null,"Sólidos volátiles",null,{"$f":"COUNTIF(Alcance!E103,E$3)","v":0},{"$f":"COUNTIF(Alcance!E103,F$3)","v":0},{"$f":"COUNTIF(Alcance!E103,G$3)","v":0},{"$f":"COUNTIF(Alcance!E103,H$3)","v":0},0,1,0]
["Microbiológico",null,"Coliformes Termotolerantes (anteriormente Coliformes fecales)",null,{"$f":"COUNTIF(Alcance!E104,E$3)","v":0},{"$f":"COUNTIF(Alcance!E104,F$3)","v":0},{"$f":"COUNTIF(Alcance!E104,G$3)","v":0},{"$f":"COUNTIF(Alcance!E104,H$3)","v":0},0,1.5,0]
["Microbiológico",null,"Coliformes Totales",null,{"$f":"COUNTIF(Alcance!E105,E$3)","v":0},{"$f":"COUNTIF(Alcance!E105,F$3)","v":0},{"$f":"COUNTIF(Alcance!E105,G$3)","v":0},{"$f":"COUNTIF(Alcance!E105,H$3)","v":0},0,1.5,0]
["Microbiológico",null,"Escherichia coli",null,{"$f":"COUNTIF(Alcance!E106,E$3)","v":0},{"$f":"COUNTIF(Alcance!E106,F$3)","v":0},{"$f":"COUNTIF(Alcance!E106,G$3)","v":0},{"$f":"COUNTIF(Alcance!E106,H$3)","v":0},0,1.5,0]
["Microbiológico",null,"Bacterias Sulfato Reductoras",null,{"$f":"COUNTIF(Alcance!E107,E$3)","v":0},{"$f":"COUNTIF(Alcance!E107,F$3)","v":0},{"$f":"COUNTIF(Alcance!E107,G$3)","v":0},{"$f":"COUNTIF(Alcance!E107,H$3)","v":0},0,1.5,0]
["Microbiológico",null,"Clostridium Sulfito Reductor",null,{"$f":"COUNTIF(Alcance!E108,E$3)","v":0},{"$f":"COUNTIF(Alcance!E108,F$3)","v":0},{"$f":"COUNTIF(Alcance!E108,G$3)","v":0},{"$f":"COUNTIF(Alcance!E108,H$3)","v":0},0,1.5,0]
["Microbiológico",null,"Estreptococos fecal y Enterococcus",null,{"$f":"COUNTIF(Alcance!E109,E$3)","v":0},{"$f":"COUNTIF(Alcance!E109,F$3)","v":0},{"$f":"COUNTIF(Alcance!E109,G$3)","v":0},{"$f":"COUNTIF(Alcance!E109,H$3)","v":0},0,1.5,0]
["Microbiológico",null,"Hongos y Levaduras",null,{"$f":"COUNTIF(Alcance!E110,E$3)","v":0},{"$f":"COUNTIF(Alcance!E110,F$3)","v":0},{"$f":"COUNTIF(Alcance!E110,G$3)","v":0},{"$f":"COUNTIF(Alcance!E110,H$3)","v":0},0,1.5,0]
["Microbiológico",null,"Huevos de Helmintos",null,{"$f":"COUNTIF(Alcance!E111,E$3)","v":0},{"$f":"COUNTIF(Alcance!E111,F$3)","v":0},{"$f":"COUNTIF(Alcance!E111,G$3)","v":0},{"$f":"COUNTIF(Alcance!E111,H$3)","v":0},0,1.5,0]
["Microbiológico",null,"Pseudomonas aeruginosa",null,{"$f":"COUNTIF(Alcance!E112,E$3)","v":0},{"$f":"COUNTIF(Alcance!E112,F$3)","v":0},{"$f":"COUNTIF(Alcance!E112,G$3)","v":0},{"$f":"COUNTIF(Alcance!E112,H$3)","v":0},0,1.5,0]
["Microbiológico",null,"Recuento de Bacterias Heterótrofas",null,{"$f":"COUNTIF(Alcance!E113,E$3)","v":0},{"$f":"COUNTIF(Alcance!E113,F$3)","v":0},{"$f":"COUNTIF(Alcance!E113,G$3)","v":0},{"$f":"COUNTIF(Alcance!E113,H$3)","v":0},0,1.5,0]
["Microbiológico",null,"Salmonella sp",null,{"$f":"COUNTIF(Alcance!E114,E$3)","v":0},{"$f":"COUNTIF(Alcance!E114,F$3)","v":0},{"$f":"COUNTIF(Alcance!E114,G$3)","v":0},{"$f":"COUNTIF(Alcance!E114,H$3)","v":0},0,1.5,0]
["Microbiológico",null,"Giardia y Cryptosporidium",null,{"$f":"COUNTIF(Alcance!E115,E$3)","v":0},{"$f":"COUNTIF(Alcance!E115,F$3)","v":0},{"$f":"COUNTIF(Alcance!E115,G$3)","v":0},{"$f":"COUNTIF(Alcance!E115,H$3)","v":0},0,1.5,0]
["Microbiológico",null,"Mesófilos Aerobios",null,{"$f":"COUNTIF(Alcance!E116,E$3)","v":0},{"$f":"COUNTIF(Alcance!E116,F$3)","v":0},{"$f":"COUNTIF(Alcance!E116,G$3)","v":0},{"$f":"COUNTIF(Alcance!E116,H$3)","v":0},0,1.5,0]
["Demandas",null,"DBO (5 días)",null,{"$f":"COUNTIF(Alcance!E117,E$3)","v":0},{"$f":"COUNTIF(Alcance!E117,F$3)","v":0},{"$f":"COUNTIF(Alcance!E117,G$3)","v":0},{"$f":"COUNTIF(Alcance!E117,H$3)","v":0},0,1,0]
["Demandas",null,"DQO",null,{"$f":"COUNTIF(Alcance!E118,E$3)","v":0},{"$f":"COUNTIF(Alcance!E118,F$3)","v":0},{"$f":"COUNTIF(Alcance!E118,G$3)","v":0},{"$f":"COUNTIF(Alcance!E118,H$3)","v":0},0,1,0]
["Demandas",null,"COT",null,{"$f":"COUNTIF(Alcance!E119,E$3)","v":0},{"$f":"COUNTIF(Alcance!E119,F$3)","v":0},{"$f":"COUNTIF(Alcance!E119,G$3)","v":0},{"$f":"COUNTIF(Alcance!E119,H$3)","v":0},0,1,0]
["Boro (Colorimétrico)",null,"Boro",null,{"$f":"COUNTIF(Alcance!E120,E$3)","v":0},{"$f":"COUNTIF(Alcance!E120,F$3)","v":0},{"$f":"COUNTIF(Alcance!E120,G$3)","v":0},{"$f":"COUNTIF(Alcance!E120,H$3)","v":0},0,1,0]
["Sulfuro",null,"Sulfuro",null,{"$f":"COUNTIF(Alcance!E121,E$3)","v":0},{"$f":"COUNTIF(Alcance!E121,F$3)","v":0},{"$f":"COUNTIF(Alcance!E121,G$3)","v":0},{"$f":"COUNTIF(Alcance!E121,H$3)","v":0},0,1,0]
["Silicio",null,"Silicio",null,{"$f":"COUNTIF(Alcance!E122,E$3)","v":0},{"$f":"COUNTIF(Alcance!E122,F$3)","v":0},{"$f":"COUNTIF(Alcance!E122,G$3)","v":0},{"$f":"COUNTIF(Alcance!E122,H$3)","v":0},0,1,0]
["Turbidez",null,"Turbidez",null,{"$f":"COUNTIF(Alcance!E123,E$3)","v":0},{"$f":"COUNTIF(Alcance!E123,F$3)","v":0},{"$f":"COUNTIF(Alcance!E123,G$3)","v":0},{"$f":"COUNTIF(Alcance!E123,H$3)","v":0},0,1,0]
["Acidez",null,"Acidez",null,{"$f":"COUNTIF(Alcance!E124,E$3)","v":0},{"$f":"COUNTIF(Alcance!E124,F$3)","v":0},{"$f":"COUNTIF(Alcance!E124,G$3)","v":0},{"$f":"COUNTIF(Alcance!E124,H$3)","v":0},0,1,0]
["Cianuro",null,"Cianuro Total",null,{"$f":"COUNTIF(Alcance!E125,E$3)","v":0},{"$f":"COUNTIF(Alcance!E125,F$3)","v":0},{"$f":"COUNTIF(Alcance!E125,G$3)","v":0},{"$f":"COUNTIF(Alcance!E125,H$3)","v":0},0,2,0]
["Cianuro",null," Cianuro disociable en acido debil",null,{"$f":"COUNTIF(Alcance!E126,E$3)","v":0},{"$f":"COUNTIF(Alcance!E126,F$3)","v":0},{"$f":"COUNTIF(Alcance!E126,G$3)","v":0},{"$f":"COUNTIF(Alcance!E126,H$3)","v":0},0,2,0]
["Cianuro",null,"Cianuro Disuelto",null,{"$f":"COUNTIF(Alcance!E127,E$3)","v":0},{"$f":"COUNTIF(Alcance!E127,F$3)","v":0},{"$f":"COUNTIF(Alcance!E127,G$3)","v":0},{"$f":"COUNTIF(Alcance!E127,H$3)","v":0},0,2,0]
["Fenoles ",null,"Fenoles ",null,{"$f":"COUNTIF(Alcance!E128,E$3)","v":0},{"$f":"COUNTIF(Alcance!E128,F$3)","v":0},{"$f":"COUNTIF(Alcance!E128,G$3)","v":0},{"$f":"COUNTIF(Alcance!E128,H$3)","v":0},0,2,0]
["Surfactantes",null,"Surfactantes Aniónicos como SAAM",null,{"$f":"COUNTIF(Alcance!E129,E$3)","v":0},{"$f":"COUNTIF(Alcance!E129,F$3)","v":0},{"$f":"COUNTIF(Alcance!E129,G$3)","v":0},{"$f":"COUNTIF(Alcance!E129,H$3)","v":0},0,1,0]
["Color",null,"Color ( Longitud de onda simple )",null,{"$f":"COUNTIF(Alcance!E130,E$3)","v":0},{"$f":"COUNTIF(Alcance!E130,F$3)","v":0},{"$f":"COUNTIF(Alcance!E130,G$3)","v":0},{"$f":"COUNTIF(Alcance!E130,H$3)","v":0},0,1,0]
["Color",null,"Color  real (3 longitudes de onda)",null,{"$f":"COUNTIF(Alcance!E131,E$3)","v":0},{"$f":"COUNTIF(Alcance!E131,F$3)","v":0},{"$f":"COUNTIF(Alcance!E131,G$3)","v":0},{"$f":"COUNTIF(Alcance!E131,H$3)","v":0},0,1,0]
["Salinidad",null,"Salinidad",null,{"$f":"COUNTIF(Alcance!E132,E$3)","v":0},{"$f":"COUNTIF(Alcance!E132,F$3)","v":0},{"$f":"COUNTIF(Alcance!E132,G$3)","v":0},{"$f":"COUNTIF(Alcance!E132,H$3)","v":0},0,1,0]
["Grasas y Aceites",null,"Grasas y Aceites",null,{"$f":"COUNTIF(Alcance!E133,E$3)","v":0},{"$f":"COUNTIF(Alcance!E133,F$3)","v":0},{"$f":"COUNTIF(Alcance!E133,G$3)","v":0},{"$f":"COUNTIF(Alcance!E133,H$3)","v":0},0,1,0]
["Compuestos Orgánicos Volátiles",null,"Acetona ",null,{"$f":"COUNTIF(Alcance!E134,E$3)","v":0},{"$f":"COUNTIF(Alcance!E134,F$3)","v":0},{"$f":"COUNTIF(Alcance!E134,G$3)","v":0},{"$f":"COUNTIF(Alcance!E134,H$3)","v":0},0,0.5,0]
["Compuestos Orgánicos Volátiles",null,"Acetonitrilo",null,{"$f":"COUNTIF(Alcance!E135,E$3)","v":0},{"$f":"COUNTIF(Alcance!E135,F$3)","v":0},{"$f":"COUNTIF(Alcance!E135,G$3)","v":0},{"$f":"COUNTIF(Alcance!E135,H$3)","v":0},0,0.5,0]
["Compuestos Orgánicos Volátiles",null,"Acroleina ",null,{"$f":"COUNTIF(Alcance!E136,E$3)","v":0},{"$f":"COUNTIF(Alcance!E136,F$3)","v":0},{"$f":"COUNTIF(Alcance!E136,G$3)","v":0},{"$f":"COUNTIF(Alcance!E136,H$3)","v":0},0,0.5,0]
["Compuestos Orgánicos Volátiles",null,"Acrilonitrilo",null,{"$f":"COUNTIF(Alcance!E137,E$3)","v":0},{"$f":"COUNTIF(Alcance!E137,F$3)","v":0},{"$f":"COUNTIF(Alcance!E137,G$3)","v":0},{"$f":"COUNTIF(Alcance!E137,H$3)","v":0},0,0.5,0]
["Compuestos Orgánicos Volátiles",null,"Cloruro de bencilo",null,{"$f":"COUNTIF(Alcance!E138,E$3)","v":0},{"$f":"COUNTIF(Alcance!E138,F$3)","v":0},{"$f":"COUNTIF(Alcance!E138,G$3)","v":0},{"$f":"COUNTIF(Alcance!E138,H$3)","v":0},0,0.5,0]
["Compuestos Orgánicos Volátiles",null,"Bromoclorometano",null,{"$f":"COUNTIF(Alcance!E139,E$3)","v":0},{"$f":"COUNTIF(Alcance!E139,F$3)","v":0},{"$f":"COUNTIF(Alcance!E139,G$3)","v":0},{"$f":"COUNTIF(Alcance!E139,H$3)","v":0},0,0.5,0]
["Compuestos Orgánicos Volátiles",null,"Bromodiclorometano",null,{"$f":"COUNTIF(Alcance!E140,E$3)","v":0},{"$f":"COUNTIF(Alcance!E140,F$3)","v":0},{"$f":"COUNTIF(Alcance!E140,G$3)","v":0},{"$f":"COUNTIF(Alcance!E140,H$3)","v":0},0,0.5,0]
["Compuestos Orgánicos Volátiles",null,"4-Bromofluorobenceno",null,{"$f":"COUNTIF(Alcance!E141,E$3)","v":0},{"$f":"COUNTIF(Alcance!E141,F$3)","v":0},{"$f":"COUNTIF(Alcance!E141,G$3)","v":0},{"$f":"COUNTIF(Alcance!E141,H$3)","v":0},0,0.5,0]
["Compuestos Orgánicos Volátiles",null,"Bromoformo ",null,{"$f":"COUNTIF(Alcance!E142,E$3)","v":0},{"$f":"COUNTIF(Alcance!E142,F$3)","v":0},{"$f":"COUNTIF(Alcance!E142,G$3)","v":0},{"$f":"COUNTIF(Alcance!E142,H$3)","v":0},0,0.5,0]
["Compuestos Orgánicos Volátiles",null,"Bromometano ",null,{"$f":"COUNTIF(Alcance!E143,E$3)","v":0},{"$f":"COUNTIF(Alcance!E143,F$3)","v":0},{"$f":"COUNTIF(Alcance!E143,G$3)","v":0},{"$f":"COUNTIF(Alcance!E143,H$3)","v":0},0,0.5,0]
["Compuestos Orgánicos Volátiles",null,"n-Butanol",null,{"$f":"COUNTIF(Alcance!E144,E$3)","v":0},{"$f":"COUNTIF(Alcance!E144,F$3)","v":0},{"$f":"COUNTIF(Alcance!E144,G$3)","v":0},{"$f":"COUNTIF(Alcance!E144,H$3)","v":0},0,0.5,0]
["Compuestos Orgánicos Volátiles",null,"2-Butanona",null,{"$f":"COUNTIF(Alcance!E145,E$3)","v":0},{"$f":"COUNTIF(Alcance!E145,F$3)","v":0},{"$f":"COUNTIF(Alcance!E145,G$3)","v":0},{"$f":"COUNTIF(Alcance!E145,H$3)","v":0},0,0.5,0]
["Compuestos Orgánicos Volátiles",null,"Disulfuro de carbono",null,{"$f":"COUNTIF(Alcance!E146,E$3)","v":0},{"$f":"COUNTIF(Alcance!E146,F$3)","v":0},{"$f":"COUNTIF(Alcance!E146,G$3)","v":0},{"$f":"COUNTIF(Alcance!E146,H$3)","v":0},0,0.5,0]
["Compuestos Orgánicos Volátiles",null,"Tetracloruro de carbon",null,{"$f":"COUNTIF(Alcance!E147,E$3)","v":0},{"$f":"COUNTIF(Alcance!E147,F$3)","v":0},{"$f":"COUNTIF(Alcance!E147,G$3)","v":0},{"$f":"COUNTIF(Alcance!E147,H$3)","v":0},0,0.5,0]
["Compuestos Orgánicos Volátiles",null,"Clorobenceno ",null,{"$f":"COUNTIF(Alcance!E148,E$3)","v":0},{"$f":"COUNTIF(Alcance!E148,F$3)","v":0},{"$f":"COUNTIF(Alcance!E148,G$3)","v":0},{"$f":"COUNTIF(Alcance!E148,H$3)","v":0},0,0.5,0]
["Compuestos Orgánicos Volátiles",null,"Clorodibromometano",null,{"$f":"COUNTIF(Alcance!E149,E$3)","v":0},{"$f":"COUNTIF(Alcance!E149,F$3)","v":0},{"$f":"COUNTIF(Alcance!E149,G$3)","v":0},{"$f":"COUNTIF(Alcance!E149,H$3)","v":0},{"$f":"SUM(E148:H148)","v":0},0.5,0]
["Compuestos Orgánicos Volátiles",null,"Cloroetano",null,{"$f":"COUNTIF(Alcance!E150,E$3)","v":0},{"$f":"COUNTIF(Alcance!E150,F$3)","v":0},{"$f":"COUNTIF(Alcance!E150,G$3)","v":0},{"$f":"COUNTIF(Alcance!E150,H$3)","v":0},0,0.5,{"$f":"I149*J149","v":0}]
["Compuestos Orgánicos Volátiles",null,"2-Cloroetanol",null,{"$f":"COUNTIF(Alcance!E151,E$3)","v":0},{"$f":"COUNTIF(Alcance!E151,F$3)","v":0},{"$f":"COUNTIF(Alcance!E151,G$3)","v":0},{"$f":"COUNTIF(Alcance!E151,H$3)","v":0},0,0.5,0]
["Compuestos Orgánicos Volátiles",null,"2-Cloroetil vinil éter",null,{"$f":"COUNTIF(Alcance!E152,E$3)","v":0},{"$f":"COUNTIF(Alcance!E152,F$3)","v":0},{"$f":"COUNTIF(Alcance!E152,G$3)","v":0},{"$f":"COUNTIF(Alcance!E152,H$3)","v":0},0,0.5,0]
["Compuestos Orgánicos Volátiles",null,"Cloroformo ",null,{"$f":"COUNTIF(Alcance!E153,E$3)","v":0},{"$f":"COUNTIF(Alcance!E153,F$3)","v":0},{"$f":"COUNTIF(Alcance!E153,G$3)","v":0},{"$f":"COUNTIF(Alcance!E153,H$3)","v":0},0,0.5,0]
["Compuestos Orgánicos Volátiles",null,"Clorometano ",null,{"$f":"COUNTIF(Alcance!E154,E$3)","v":0},{"$f":"COUNTIF(Alcance!E154,F$3)","v":0},{"$f":"COUNTIF(Alcance!E154,G$3)","v":0},{"$f":"COUNTIF(Alcance!E154,H$3)","v":0},0,0.5,0]
["Compuestos Orgánicos Volátiles",null,"1,2-Dibromo-3-cloropropano",null,{"$f":"COUNTIF(Alcance!E155,E$3)","v":0},{"$f":"COUNTIF(Alcance!E155,F$3)","v":0},{"$f":"COUNTIF(Alcance!E155,G$3)","v":0},{"$f":"COUNTIF(Alcance!E155,H$3)","v":0},0,0.5,0]
["Compuestos Orgánicos Volátiles",null,"1,2-Dibromoetano",null,{"$f":"COUNTIF(Alcance!E156,E$3)","v":0},{"$f":"COUNTIF(Alcance!E156,F$3)","v":0},{"$f":"COUNTIF(Alcance!E156,G$3)","v":0},{"$f":"COUNTIF(Alcance!E156,H$3)","v":0},0,0.5,0]
["Compuestos Orgánicos Volátiles",null,"Dibromometano",null,{"$f":"COUNTIF(Alcance!E157,E$3)","v":0},{"$f":"COUNTIF(Alcance!E157,F$3)","v":0},{"$f":"COUNTIF(Alcance!E157,G$3)","v":0},{"$f":"COUNTIF(Alcance!E157,H$3)","v":0},0,0.5,0]
["Compuestos Orgánicos Volátiles",null,"1,2-Diclorobenceno",null,{"$f":"COUNTIF(Alcance!E158,E$3)","v":0},{"$f":"COUNTIF(Alcance!E158,F$3)","v":0},{"$f":"COUNTIF(Alcance!E158,G$3)","v":0},{"$f":"COUNTIF(Alcance!E158,H$3)","v":0},0,0.5,0]
["Compuestos Orgánicos Volátiles",null,"1,3-Diclorobenceno ",null,{"$f":"COUNTIF(Alcance!E159,E$3)","v":0},{"$f":"COUNTIF(Alcance!E159,F$3)","v":0},{"$f":"COUNTIF(Alcance!E159,G$3)","v":0},{"$f":"COUNTIF(Alcance!E159,H$3)","v":0},0,0.5,0]
["Compuestos Orgánicos Volátiles",null,"1,4-Diclorobenceno",null,{"$f":"COUNTIF(Alcance!E160,E$3)","v":0},{"$f":"COUNTIF(Alcance!E160,F$3)","v":0},{"$f":"COUNTIF(Alcance!E160,G$3)","v":0},{"$f":"COUNTIF(Alcance!E160,H$3)","v":0},0,0.5,0]
["Compuestos Orgánicos Volátiles",null,"cis-1,4-Dicloro-2-butano",null,{"$f":"COUNTIF(Alcance!E161,E$3)","v":0},{"$f":"COUNTIF(Alcance!E161,F$3)","v":0},{"$f":"COUNTIF(Alcance!E161,G$3)","v":0},{"$f":"COUNTIF(Alcance!E161,H$3)","v":0},0,0.5,0]
["Compuestos Orgánicos Volátiles",null,"trans-1,4-Dicloro-2-butano",null,{"$f":"COUNTIF(Alcance!E162,E$3)","v":0},{"$f":"COUNTIF(Alcance!E162,F$3)","v":0},{"$f":"COUNTIF(Alcance!E162,G$3)","v":0},{"$f":"COUNTIF(Alcance!E162,H$3)","v":0},0,0.5,0]
["Compuestos Orgánicos Volátiles",null,"Diclorodifluorometano",null,{"$f":"COUNTIF(Alcance!E163,E$3)","v":0},{"$f":"COUNTIF(Alcance!E163,F$3)","v":0},{"$f":"COUNTIF(Alcance!E163,G$3)","v":0},{"$f":"COUNTIF(Alcance!E163,H$3)","v":0},0,0.5,0]
["Compuestos Orgánicos Volátiles",null,"1,1-Dicloroetano",null,{"$f":"COUNTIF(Alcance!E164,E$3)","v":0},{"$f":"COUNTIF(Alcance!E164,F$3)","v":0},{"$f":"COUNTIF(Alcance!E164,G$3)","v":0},{"$f":"COUNTIF(Alcance!E164,H$3)","v":0},0,0.5,0]
["Compuestos Orgánicos Volátiles",null,"1,2-Dicloroetano",null,{"$f":"COUNTIF(Alcance!E165,E$3)","v":0},{"$f":"COUNTIF(Alcance!E165,F$3)","v":0},{"$f":"COUNTIF(Alcance!E165,G$3)","v":0},{"$f":"COUNTIF(Alcance!E165,H$3)","v":0},0,0.5,0]
["Compuestos Orgánicos Volátiles",null,"trans-1,2-Dicloroetano",null,{"$f":"COUNTIF(Alcance!E166,E$3)","v":0},{"$f":"COUNTIF(Alcance!E166,F$3)","v":0},{"$f":"COUNTIF(Alcance!E166,G$3)","v":0},{"$f":"COUNTIF(Alcance!E166,H$3)","v":0},0,0.5,0]
["Compuestos Orgánicos Volátiles",null,"1,2-Dicloropropano",null,{"$f":"COUNTIF(Alcance!E167,E$3)","v":0},{"$f":"COUNTIF(Alcance!E167,F$3)","v":0},{"$f":"COUNTIF(Alcance!E167,G$3)","v":0},{"$f":"COUNTIF(Alcance!E167,H$3)","v":0},0,0.5,0]
["Compuestos Orgánicos Volátiles",null,"1,3-Dicloro-2-propanol",null,{"$f":"COUNTIF(Alcance!E168,E$3)","v":0},{"$f":"COUNTIF(Alcance!E168,F$3)","v":0},{"$f":"COUNTIF(Alcance!E168,G$3)","v":0},{"$f":"COUNTIF(Alcance!E168,H$3)","v":0},0,0.5,0]
["Compuestos Orgánicos Volátiles",null,"Cis-1,3-Dicloropropano",null,{"$f":"COUNTIF(Alcance!E169,E$3)","v":0},{"$f":"COUNTIF(Alcance!E169,F$3)","v":0},{"$f":"COUNTIF(Alcance!E169,G$3)","v":0},{"$f":"COUNTIF(Alcance!E169,H$3)","v":0},0,0.5,0]
["Compuestos Orgánicos Volátiles",null,"Trans-1,3-Dicloropropano",null,{"$f":"COUNTIF(Alcance!E170,E$3)","v":0},{"$f":"COUNTIF(Alcance!E170,F$3)","v":0},{"$f":"COUNTIF(Alcance!E170,G$3)","v":0},{"$f":"COUNTIF(Alcance!E170,H$3)","v":0},0,0.5,0]
["Compuestos Orgánicos Volátiles",null,"Dietil Eter",null,{"$f":"COUNTIF(Alcance!E171,E$3)","v":0},{"$f":"COUNTIF(Alcance!E171,F$3)","v":0},{"$f":"COUNTIF(Alcance!E171,G$3)","v":0},{"$f":"COUNTIF(Alcance!E171,H$3)","v":0},0,0.5,0]
["Compuestos Orgánicos Volátiles",null,"Etil terc-butil éter",null,{"$f":"COUNTIF(Alcance!E172,E$3)","v":0},{"$f":"COUNTIF(Alcance!E172,F$3)","v":0},{"$f":"COUNTIF(Alcance!E172,G$3)","v":0},{"$f":"COUNTIF(Alcance!E172,H$3)","v":0},0,0.5,0]
["Compuestos Orgánicos Volátiles",null,"Hexaclorobutadieno",null,{"$f":"COUNTIF(Alcance!E173,E$3)","v":0},{"$f":"COUNTIF(Alcance!E173,F$3)","v":0},{"$f":"COUNTIF(Alcance!E173,G$3)","v":0},{"$f":"COUNTIF(Alcance!E173,H$3)","v":0},0,0.5,0]
["Compuestos Orgánicos Volátiles",null,"Hexacloroetano",null,{"$f":"COUNTIF(Alcance!E174,E$3)","v":0},{"$f":"COUNTIF(Alcance!E174,F$3)","v":0},{"$f":"COUNTIF(Alcance!E174,G$3)","v":0},{"$f":"COUNTIF(Alcance!E174,H$3)","v":0},0,0.5,0]
["Compuestos Orgánicos Volátiles",null,"Alcohol Isobutílico",null,{"$f":"COUNTIF(Alcance!E175,E$3)","v":0},{"$f":"COUNTIF(Alcance!E175,F$3)","v":0},{"$f":"COUNTIF(Alcance!E175,G$3)","v":0},{"$f":"COUNTIF(Alcance!E175,H$3)","v":0},0,0.5,0]
["Compuestos Orgánicos Volátiles",null,"Cloruro de metileno",null,{"$f":"COUNTIF(Alcance!E176,E$3)","v":0},{"$f":"COUNTIF(Alcance!E176,F$3)","v":0},{"$f":"COUNTIF(Alcance!E176,G$3)","v":0},{"$f":"COUNTIF(Alcance!E176,H$3)","v":0},0,0.5,0]
["Compuestos Orgánicos Volátiles",null,"4 - Metil - 2 - pentanona",null,{"$f":"COUNTIF(Alcance!E177,E$3)","v":0},{"$f":"COUNTIF(Alcance!E177,F$3)","v":0},{"$f":"COUNTIF(Alcance!E177,G$3)","v":0},{"$f":"COUNTIF(Alcance!E177,H$3)","v":0},0,0.5,0]
["Compuestos Orgánicos Volátiles",null,"Metil terc-butil éter",null,{"$f":"COUNTIF(Alcance!E178,E$3)","v":0},{"$f":"COUNTIF(Alcance!E178,F$3)","v":0},{"$f":"COUNTIF(Alcance!E178,G$3)","v":0},{"$f":"COUNTIF(Alcance!E178,H$3)","v":0},0,0.5,0]
["Compuestos Orgánicos Volátiles",null,"Naftaleno",null,{"$f":"COUNTIF(Alcance!E179,E$3)","v":0},{"$f":"COUNTIF(Alcance!E179,F$3)","v":0},{"$f":"COUNTIF(Alcance!E179,G$3)","v":0},{"$f":"COUNTIF(Alcance!E179,H$3)","v":0},0,0.5,0]
["Compuestos Orgánicos Volátiles",null,"Nitrobenceno",null,{"$f":"COUNTIF(Alcance!E180,E$3)","v":0},{"$f":"COUNTIF(Alcance!E180,F$3)","v":0},{"$f":"COUNTIF(Alcance!E180,G$3)","v":0},{"$f":"COUNTIF(Alcance!E180,H$3)","v":0},0,0.5,0]
["Compuestos Orgánicos Volátiles",null,"n-Nitroso-di-n-butilamina",null,{"$f":"COUNTIF(Alcance!E181,E$3)","v":0},{"$f":"COUNTIF(Alcance!E181,F$3)","v":0},{"$f":"COUNTIF(Alcance!E181,G$3)","v":0},{"$f":"COUNTIF(Alcance!E181,H$3)","v":0},0,0.5,0]
["Compuestos Orgánicos Volátiles",null,"Pentacloroetano",null,{"$f":"COUNTIF(Alcance!E182,E$3)","v":0},{"$f":"COUNTIF(Alcance!E182,F$3)","v":0},{"$f":"COUNTIF(Alcance!E182,G$3)","v":0},{"$f":"COUNTIF(Alcance!E182,H$3)","v":0},0,0.5,0]
["Compuestos Orgánicos Volátiles",null,"2-Pentanona",null,{"$f":"COUNTIF(Alcance!E183,E$3)","v":0},{"$f":"COUNTIF(Alcance!E183,F$3)","v":0},{"$f":"COUNTIF(Alcance!E183,G$3)","v":0},{"$f":"COUNTIF(Alcance!E183,H$3)","v":0},0,0.5,0]
["Compuestos Orgánicos Volátiles",null,"1-Propanol ",null,{"$f":"COUNTIF(Alcance!E184,E$3)","v":0},{"$f":"COUNTIF(Alcance!E184,F$3)","v":0},{"$f":"COUNTIF(Alcance!E184,G$3)","v":0},{"$f":"COUNTIF(Alcance!E184,H$3)","v":0},0,0.5,0]
["Compuestos Orgánicos Volátiles",null,"2-Propanol",null,{"$f":"COUNTIF(Alcance!E185,E$3)","v":0},{"$f":"COUNTIF(Alcance!E185,F$3)","v":0},{"$f":"COUNTIF(Alcance!E185,G$3)","v":0},{"$f":"COUNTIF(Alcance!E185,H$3)","v":0},0,0.5,0]
["Compuestos Orgánicos Volátiles",null,"n-Propilamina",null,{"$f":"COUNTIF(Alcance!E186,E$3)","v":0},{"$f":"COUNTIF(Alcance!E186,F$3)","v":0},{"$f":"COUNTIF(Alcance!E186,G$3)","v":0},{"$f":"COUNTIF(Alcance!E186,H$3)","v":0},0,0.5,0]
["Compuestos Orgánicos Volátiles",null,"Piridina",null,{"$f":"COUNTIF(Alcance!E187,E$3)","v":0},{"$f":"COUNTIF(Alcance!E187,F$3)","v":0},{"$f":"COUNTIF(Alcance!E187,G$3)","v":0},{"$f":"COUNTIF(Alcance!E187,H$3)","v":0},0,0.5,0]
["Compuestos Orgánicos Volátiles",null,"Estireno",null,{"$f":"COUNTIF(Alcance!E188,E$3)","v":0},{"$f":"COUNTIF(Alcance!E188,F$3)","v":0},{"$f":"COUNTIF(Alcance!E188,G$3)","v":0},{"$f":"COUNTIF(Alcance!E188,H$3)","v":0},0,0.5,0]
["Compuestos Orgánicos Volátiles",null,"1,1,1,2-Tetracloroetano",null,{"$f":"COUNTIF(Alcance!E189,E$3)","v":0},{"$f":"COUNTIF(Alcance!E189,F$3)","v":0},{"$f":"COUNTIF(Alcance!E189,G$3)","v":0},{"$f":"COUNTIF(Alcance!E189,H$3)","v":0},0,0.5,0]
["Compuestos Orgánicos Volátiles",null,"1,1,2,2-Tetracloroetano",null,{"$f":"COUNTIF(Alcance!E190,E$3)","v":0},{"$f":"COUNTIF(Alcance!E190,F$3)","v":0},{"$f":"COUNTIF(Alcance!E190,G$3)","v":0},{"$f":"COUNTIF(Alcance!E190,H$3)","v":0},0,0.5,0]
["Compuestos Orgánicos Volátiles",null,"Tetracloroetano",null,{"$f":"COUNTIF(Alcance!E191,E$3)","v":0},{"$f":"COUNTIF(Alcance!E191,F$3)","v":0},{"$f":"COUNTIF(Alcance!E191,G$3)","v":0},{"$f":"COUNTIF(Alcance!E191,H$3)","v":0},0,0.5,0]
["Compuestos Orgánicos Volátiles",null,"1,2,4-Triclorobenceno",null,{"$f":"COUNTIF(Alcance!E192,E$3)","v":0},{"$f":"COUNTIF(Alcance!E192,F$3)","v":0},{"$f":"COUNTIF(Alcance!E192,G$3)","v":0},{"$f":"COUNTIF(Alcance!E192,H$3)","v":0},0,0.5,0]
["Compuestos Orgánicos Volátiles",null,"1,1,1-Tricoloetano",null,{"$f":"COUNTIF(Alcance!E193,E$3)","v":0},{"$f":"COUNTIF(Alcance!E193,F$3)","v":0},{"$f":"COUNTIF(Alcance!E193,G$3)","v":0},{"$f":"COUNTIF(Alcance!E193,H$3)","v":0},0,0.5,0]
["Compuestos Orgánicos Volátiles",null,"1,1,2-Tricloroetano",null,{"$f":"COUNTIF(Alcance!E194,E$3)","v":0},{"$f":"COUNTIF(Alcance!E194,F$3)","v":0},{"$f":"COUNTIF(Alcance!E194,G$3)","v":0},{"$f":"COUNTIF(Alcance!E194,H$3)","v":0},0,0.5,0]
["Compuestos Orgánicos Volátiles",null,"Tricloroetano",null,{"$f":"COUNTIF(Alcance!E195,E$3)","v":0},{"$f":"COUNTIF(Alcance!E195,F$3)","v":0},{"$f":"COUNTIF(Alcance!E195,G$3)","v":0},{"$f":"COUNTIF(Alcance!E195,H$3)","v":0},0,0.5,0]
["Compuestos Orgánicos Volátiles",null,"Triclorofluorometano",null,{"$f":"COUNTIF(Alcance!E196,E$3)","v":0},{"$f":"COUNTIF(Alcance!E196,F$3)","v":0},{"$f":"COUNTIF(Alcance!E196,G$3)","v":0},{"$f":"COUNTIF(Alcance!E196,H$3)","v":0},0,0.5,0]
["Compuestos Orgánicos Volátiles",null,"1,2,3-Tricloropropano",null,{"$f":"COUNTIF(Alcance!E197,E$3)","v":0},{"$f":"COUNTIF(Alcance!E197,F$3)","v":0},{"$f":"COUNTIF(Alcance!E197,G$3)","v":0},{"$f":"COUNTIF(Alcance!E197,H$3)","v":0},0,0.5,0]
["Compuestos Orgánicos Volátiles",null,"Acetato de vinilo",null,{"$f":"COUNTIF(Alcance!E198,E$3)","v":0},{"$f":"COUNTIF(Alcance!E198,F$3)","v":0},{"$f":"COUNTIF(Alcance!E198,G$3)","v":0},{"$f":"COUNTIF(Alcance!E198,H$3)","v":0},0,0.5,0]
["Compuestos Orgánicos Volátiles",null,"Cloruro de vinilo",null,{"$f":"COUNTIF(Alcance!E199,E$3)","v":0},{"$f":"COUNTIF(Alcance!E199,F$3)","v":0},{"$f":"COUNTIF(Alcance!E199,G$3)","v":0},{"$f":"COUNTIF(Alcance!E199,H$3)","v":0},0,0.5,0]
["Compuestos Orgánicos Volátiles",null,"1,2,4-Trimetilbenceno",null,{"$f":"COUNTIF(Alcance!E200,E$3)","v":0},{"$f":"COUNTIF(Alcance!E200,F$3)","v":0},{"$f":"COUNTIF(Alcance!E200,G$3)","v":0},{"$f":"COUNTIF(Alcance!E200,H$3)","v":0},0,0.5,0]
["Compuestos Orgánicos Volátiles",null,"1,3,5-Trimetilbenceno",null,{"$f":"COUNTIF(Alcance!E201,E$3)","v":0},{"$f":"COUNTIF(Alcance!E201,F$3)","v":0},{"$f":"COUNTIF(Alcance!E201,G$3)","v":0},{"$f":"COUNTIF(Alcance!E201,H$3)","v":0},0,0.5,0]
["Compuestos Orgánicos Volátiles",null,"Diclorometano",null,{"$f":"COUNTIF(Alcance!E202,E$3)","v":0},{"$f":"COUNTIF(Alcance!E202,F$3)","v":0},{"$f":"COUNTIF(Alcance!E202,G$3)","v":0},{"$f":"COUNTIF(Alcance!E202,H$3)","v":0},0,0.5,0]
["Compuestos Orgánicos Volátiles",null,"Percloroetileno",null,{"$f":"COUNTIF(Alcance!E203,E$3)","v":0},{"$f":"COUNTIF(Alcance!E203,F$3)","v":0},{"$f":"COUNTIF(Alcance!E203,G$3)","v":0},{"$f":"COUNTIF(Alcance!E203,H$3)","v":0},0,0.5,0]
["Compuestos Orgánicos Volátiles",null,"1,1,1-Tricloroetano",null,{"$f":"COUNTIF(Alcance!E204,E$3)","v":0},{"$f":"COUNTIF(Alcance!E204,F$3)","v":0},{"$f":"COUNTIF(Alcance!E204,G$3)","v":0},{"$f":"COUNTIF(Alcance!E204,H$3)","v":0},0,0.5,0]
["Compuestos Orgánicos Volátiles",null,"Tricloroetileno",null,{"$f":"COUNTIF(Alcance!E205,E$3)","v":0},{"$f":"COUNTIF(Alcance!E205,F$3)","v":0},{"$f":"COUNTIF(Alcance!E205,G$3)","v":0},{"$f":"COUNTIF(Alcance!E205,H$3)","v":0},0,0.5,0]
["Compuestos Orgánicos Volátiles - BTEX",null,"Benceno ",null,{"$f":"COUNTIF(Alcance!E206,E$3)","v":0},{"$f":"COUNTIF(Alcance!E206,F$3)","v":0},{"$f":"COUNTIF(Alcance!E206,G$3)","v":0},{"$f":"COUNTIF(Alcance!E206,H$3)","v":0},0,0.5,0]
["Compuestos Orgánicos Volátiles - BTEX",null,"Tolueno",null,{"$f":"COUNTIF(Alcance!E207,E$3)","v":0},{"$f":"COUNTIF(Alcance!E207,F$3)","v":0},{"$f":"COUNTIF(Alcance!E207,G$3)","v":0},{"$f":"COUNTIF(Alcance!E207,H$3)","v":0},0,0.5,0]
["Compuestos Orgánicos Volátiles - BTEX",null,"Etilbenceno",null,{"$f":"COUNTIF(Alcance!E208,E$3)","v":0},{"$f":"COUNTIF(Alcance!E208,F$3)","v":0},{"$f":"COUNTIF(Alcance!E208,G$3)","v":0},{"$f":"COUNTIF(Alcance!E208,H$3)","v":0},0,0.5,0]
["Compuestos Orgánicos Volátiles - BTEX",null,"o-Xileno",null,{"$f":"COUNTIF(Alcance!E209,E$3)","v":0},{"$f":"COUNTIF(Alcance!E209,F$3)","v":0},{"$f":"COUNTIF(Alcance!E209,G$3)","v":0},{"$f":"COUNTIF(Alcance!E209,H$3)","v":0},0,0.5,0]
["Compuestos Orgánicos Volátiles - BTEX",null,"m-Xileno",null,{"$f":"COUNTIF(Alcance!E210,E$3)","v":0},{"$f":"COUNTIF(Alcance!E210,F$3)","v":0},{"$f":"COUNTIF(Alcance!E210,G$3)","v":0},{"$f":"COUNTIF(Alcance!E210,H$3)","v":0},0,0.5,0]
["Compuestos Orgánicos Volátiles - BTEX",null,"p-Xileno ",null,{"$f":"COUNTIF(Alcance!E211,E$3)","v":0},{"$f":"COUNTIF(Alcance!E211,F$3)","v":0},{"$f":"COUNTIF(Alcance!E211,G$3)","v":0},{"$f":"COUNTIF(Alcance!E211,H$3)","v":0},0,0.5,0]
["Compuestos Orgánicos Volátiles - BTEX",null,"m+p-xileno",null,{"$f":"COUNTIF(Alcance!E212,E$3)","v":0},{"$f":"COUNTIF(Alcance!E212,F$3)","v":0},{"$f":"COUNTIF(Alcance!E212,G$3)","v":0},{"$f":"COUNTIF(Alcance!E212,H$3)","v":0},0,0.5,0]
["Compuestos Orgánicos Volátiles - BTEX",null,"Xileno total",null,{"$f":"COUNTIF(Alcance!E213,E$3)","v":0},{"$f":"COUNTIF(Alcance!E213,F$3)","v":0},{"$f":"COUNTIF(Alcance!E213,G$3)","v":0},{"$f":"COUNTIF(Alcance!E213,H$3)","v":0},0,0.5,0]
["Pesticidas Organoclorados",null,"Aldrín",null,{"$f":"COUNTIF(Alcance!E214,E$3)","v":0},{"$f":"COUNTIF(Alcance!E214,F$3)","v":0},{"$f":"COUNTIF(Alcance!E214,G$3)","v":0},{"$f":"COUNTIF(Alcance!E214,H$3)","v":0},0,0.5,0]
["Pesticidas Organoclorados",null,"4,4'-DDD",null,{"$f":"COUNTIF(Alcance!E215,E$3)","v":0},{"$f":"COUNTIF(Alcance!E215,F$3)","v":0},{"$f":"COUNTIF(Alcance!E215,G$3)","v":0},{"$f":"COUNTIF(Alcance!E215,H$3)","v":0},0,0.5,0]
["Pesticidas Organoclorados",null,"4,4'-DDE",null,{"$f":"COUNTIF(Alcance!E216,E$3)","v":0},{"$f":"COUNTIF(Alcance!E216,F$3)","v":0},{"$f":"COUNTIF(Alcance!E216,G$3)","v":0},{"$f":"COUNTIF(Alcance!E216,H$3)","v":0},0,0.5,0]
["Pesticidas Organoclorados",null,"4,4'-DDT",null,{"$f":"COUNTIF(Alcance!E217,E$3)","v":0},{"$f":"COUNTIF(Alcance!E217,F$3)","v":0},{"$f":"COUNTIF(Alcance!E217,G$3)","v":0},{"$f":"COUNTIF(Alcance!E217,H$3)","v":0},0,0.5,0]
["Pesticidas Organoclorados",null,"Dieldrín",null,{"$f":"COUNTIF(Alcance!E218,E$3)","v":0},{"$f":"COUNTIF(Alcance!E218,F$3)","v":0},{"$f":"COUNTIF(Alcance!E218,G$3)","v":0},{"$f":"COUNTIF(Alcance!E218,H$3)","v":0},0,0.5,0]
["Pesticidas Organoclorados",null,"Heptacloro",null,{"$f":"COUNTIF(Alcance!E219,E$3)","v":0},{"$f":"COUNTIF(Alcance!E219,F$3)","v":0},{"$f":"COUNTIF(Alcance!E219,G$3)","v":0},{"$f":"COUNTIF(Alcance!E219,H$3)","v":0},0,0.5,0]
["Pesticidas Organoclorados",null,"Heptacloro epoxido",null,{"$f":"COUNTIF(Alcance!E220,E$3)","v":0},{"$f":"COUNTIF(Alcance!E220,F$3)","v":0},{"$f":"COUNTIF(Alcance!E220,G$3)","v":0},{"$f":"COUNTIF(Alcance!E220,H$3)","v":0},0,0.5,0]
["Pesticidas Organoclorados",null,"Heptacloro benceno",null,{"$f":"COUNTIF(Alcance!E221,E$3)","v":0},{"$f":"COUNTIF(Alcance!E221,F$3)","v":0},{"$f":"COUNTIF(Alcance!E221,G$3)","v":0},{"$f":"COUNTIF(Alcance!E221,H$3)","v":0},0,0.5,{"$f":"I220*J220","v":0}]
["Pesticidas Organoclorados",null,"Hexaclorociclopentadieno",null,{"$f":"COUNTIF(Alcance!E222,E$3)","v":0},{"$f":"COUNTIF(Alcance!E222,F$3)","v":0},{"$f":"COUNTIF(Alcance!E222,G$3)","v":0},{"$f":"COUNTIF(Alcance!E222,H$3)","v":0},0,0.5,{"$f":"I221*J221","v":0}]
["Pesticidas Organoclorados",null,"Alfa-BHC",null,{"$f":"COUNTIF(Alcance!E223,E$3)","v":0},{"$f":"COUNTIF(Alcance!E223,F$3)","v":0},{"$f":"COUNTIF(Alcance!E223,G$3)","v":0},{"$f":"COUNTIF(Alcance!E223,H$3)","v":0},0,0.5,0]
["Pesticidas Organoclorados",null,"Beta-BHC",null,{"$f":"COUNTIF(Alcance!E224,E$3)","v":0},{"$f":"COUNTIF(Alcance!E224,F$3)","v":0},{"$f":"COUNTIF(Alcance!E224,G$3)","v":0},{"$f":"COUNTIF(Alcance!E224,H$3)","v":0},0,0.5,0]
["Pesticidas Organoclorados",null,"Gama-BHC",null,{"$f":"COUNTIF(Alcance!E225,E$3)","v":0},{"$f":"COUNTIF(Alcance!E225,F$3)","v":0},{"$f":"COUNTIF(Alcance!E225,G$3)","v":0},{"$f":"COUNTIF(Alcance!E225,H$3)","v":0},0,0.5,0]
["Pesticidas Organoclorados",null,"Delta-BHC",null,{"$f":"COUNTIF(Alcance!E226,E$3)","v":0},{"$f":"COUNTIF(Alcance!E226,F$3)","v":0},{"$f":"COUNTIF(Alcance!E226,G$3)","v":0},{"$f":"COUNTIF(Alcance!E226,H$3)","v":0},0,0.5,0]
["Pesticidas Organoclorados",null,"Alfa-Clordano (Cis-clordano)",null,{"$f":"COUNTIF(Alcance!E227,E$3)","v":0},{"$f":"COUNTIF(Alcance!E227,F$3)","v":0},{"$f":"COUNTIF(Alcance!E227,G$3)","v":0},{"$f":"COUNTIF(Alcance!E227,H$3)","v":0},0,0.5,0]
["Pesticidas Organoclorados",null,"Gama-Clordano (Trans-Clordano)",null,{"$f":"COUNTIF(Alcance!E228,E$3)","v":0},{"$f":"COUNTIF(Alcance!E228,F$3)","v":0},{"$f":"COUNTIF(Alcance!E228,G$3)","v":0},{"$f":"COUNTIF(Alcance!E228,H$3)","v":0},0,0.5,0]
["Pesticidas Organoclorados",null,"Endosulfan I",null,{"$f":"COUNTIF(Alcance!E229,E$3)","v":0},{"$f":"COUNTIF(Alcance!E229,F$3)","v":0},{"$f":"COUNTIF(Alcance!E229,G$3)","v":0},{"$f":"COUNTIF(Alcance!E229,H$3)","v":0},0,0.5,0]
["Pesticidas Organoclorados",null,"Endosulfan II",null,{"$f":"COUNTIF(Alcance!E230,E$3)","v":0},{"$f":"COUNTIF(Alcance!E230,F$3)","v":0},{"$f":"COUNTIF(Alcance!E230,G$3)","v":0},{"$f":"COUNTIF(Alcance!E230,H$3)","v":0},0,0.5,0]
["Pesticidas Organoclorados",null,"Endosulfan sulfato",null,{"$f":"COUNTIF(Alcance!E231,E$3)","v":0},{"$f":"COUNTIF(Alcance!E231,F$3)","v":0},{"$f":"COUNTIF(Alcance!E231,G$3)","v":0},{"$f":"COUNTIF(Alcance!E231,H$3)","v":0},0,0.5,0]
["Pesticidas Organoclorados",null,"Endrín aldehido",null,{"$f":"COUNTIF(Alcance!E232,E$3)","v":0},{"$f":"COUNTIF(Alcance!E232,F$3)","v":0},{"$f":"COUNTIF(Alcance!E232,G$3)","v":0},{"$f":"COUNTIF(Alcance!E232,H$3)","v":0},0,0.5,0]
["Pesticidas Organoclorados",null,"Endrín cetona",null,{"$f":"COUNTIF(Alcance!E233,E$3)","v":0},{"$f":"COUNTIF(Alcance!E233,F$3)","v":0},{"$f":"COUNTIF(Alcance!E233,G$3)","v":0},{"$f":"COUNTIF(Alcance!E233,H$3)","v":0},0,0.5,0]
["Pesticidas Organoclorados",null,"Endrín",null,{"$f":"COUNTIF(Alcance!E234,E$3)","v":0},{"$f":"COUNTIF(Alcance!E234,F$3)","v":0},{"$f":"COUNTIF(Alcance!E234,G$3)","v":0},{"$f":"COUNTIF(Alcance!E234,H$3)","v":0},0,0.5,0]
["Pesticidas Organoclorados",null,"Metoxicloro",null,{"$f":"COUNTIF(Alcance!E235,E$3)","v":0},{"$f":"COUNTIF(Alcance!E235,F$3)","v":0},{"$f":"COUNTIF(Alcance!E235,G$3)","v":0},{"$f":"COUNTIF(Alcance!E235,H$3)","v":0},0,0.5,0]
["Pesticidas Organoclorados",null,"Toxafeno",null,{"$f":"COUNTIF(Alcance!E236,E$3)","v":0},{"$f":"COUNTIF(Alcance!E236,F$3)","v":0},{"$f":"COUNTIF(Alcance!E236,G$3)","v":0},{"$f":"COUNTIF(Alcance!E236,H$3)","v":0},0,0.5,0]
["Pesticidas Oganofosforados",null,"Etil-Azinfos",null,{"$f":"COUNTIF(Alcance!E237,E$3)","v":0},{"$f":"COUNTIF(Alcance!E237,F$3)","v":0},{"$f":"COUNTIF(Alcance!E237,G$3)","v":0},{"$f":"COUNTIF(Alcance!E237,H$3)","v":0},0,0.5,0]
["Pesticidas Oganofosforados",null,"Metil-Azinfos ",null,{"$f":"COUNTIF(Alcance!E238,E$3)","v":0},{"$f":"COUNTIF(Alcance!E238,F$3)","v":0},{"$f":"COUNTIF(Alcance!E238,G$3)","v":0},{"$f":"COUNTIF(Alcance!E238,H$3)","v":0},0,0.5,{"$f":"I237*J237","v":0}]
["Pesticidas Oganofosforados",null,"Clorfenvinfos",null,{"$f":"COUNTIF(Alcance!E239,E$3)","v":0},{"$f":"COUNTIF(Alcance!E239,F$3)","v":0},{"$f":"COUNTIF(Alcance!E239,G$3)","v":0},{"$f":"COUNTIF(Alcance!E239,H$3)","v":0},0,0.5,{"$f":"I238*J238","v":0}]
["Pesticidas Oganofosforados",null,"Clorpirifos",null,{"$f":"COUNTIF(Alcance!E240,E$3)","v":0},{"$f":"COUNTIF(Alcance!E240,F$3)","v":0},{"$f":"COUNTIF(Alcance!E240,G$3)","v":0},{"$f":"COUNTIF(Alcance!E240,H$3)","v":0},0,0.5,0]
["Pesticidas Oganofosforados",null,"Metil Clorpirifos",null,{"$f":"COUNTIF(Alcance!E241,E$3)","v":0},{"$f":"COUNTIF(Alcance!E241,F$3)","v":0},{"$f":"COUNTIF(Alcance!E241,G$3)","v":0},{"$f":"COUNTIF(Alcance!E241,H$3)","v":0},0,0.5,0]
["Pesticidas Oganofosforados",null,"Coumaphos",null,{"$f":"COUNTIF(Alcance!E242,E$3)","v":0},{"$f":"COUNTIF(Alcance!E242,F$3)","v":0},{"$f":"COUNTIF(Alcance!E242,G$3)","v":0},{"$f":"COUNTIF(Alcance!E242,H$3)","v":0},0,0.5,0]
["Pesticidas Oganofosforados",null,"Demeton-O",null,{"$f":"COUNTIF(Alcance!E243,E$3)","v":0},{"$f":"COUNTIF(Alcance!E243,F$3)","v":0},{"$f":"COUNTIF(Alcance!E243,G$3)","v":0},{"$f":"COUNTIF(Alcance!E243,H$3)","v":0},0,0.5,0]
["Pesticidas Oganofosforados",null,"Demeton-S",null,{"$f":"COUNTIF(Alcance!E244,E$3)","v":0},{"$f":"COUNTIF(Alcance!E244,F$3)","v":0},{"$f":"COUNTIF(Alcance!E244,G$3)","v":0},{"$f":"COUNTIF(Alcance!E244,H$3)","v":0},0,0.5,0]
["Pesticidas Oganofosforados",null,"Diazinon",null,{"$f":"COUNTIF(Alcance!E245,E$3)","v":0},{"$f":"COUNTIF(Alcance!E245,F$3)","v":0},{"$f":"COUNTIF(Alcance!E245,G$3)","v":0},{"$f":"COUNTIF(Alcance!E245,H$3)","v":0},0,0.5,0]
["Pesticidas Oganofosforados",null,"Diclorvos",null,{"$f":"COUNTIF(Alcance!E246,E$3)","v":0},{"$f":"COUNTIF(Alcance!E246,F$3)","v":0},{"$f":"COUNTIF(Alcance!E246,G$3)","v":0},{"$f":"COUNTIF(Alcance!E246,H$3)","v":0},0,0.5,0]
["Pesticidas Oganofosforados",null,"Dimetoato",null,{"$f":"COUNTIF(Alcance!E247,E$3)","v":0},{"$f":"COUNTIF(Alcance!E247,F$3)","v":0},{"$f":"COUNTIF(Alcance!E247,G$3)","v":0},{"$f":"COUNTIF(Alcance!E247,H$3)","v":0},0,0.5,0]
["Pesticidas Oganofosforados",null,"Dioxatión",null,{"$f":"COUNTIF(Alcance!E248,E$3)","v":0},{"$f":"COUNTIF(Alcance!E248,F$3)","v":0},{"$f":"COUNTIF(Alcance!E248,G$3)","v":0},{"$f":"COUNTIF(Alcance!E248,H$3)","v":0},0,0.5,0]
["Pesticidas Oganofosforados",null,"Disulfoton",null,{"$f":"COUNTIF(Alcance!E249,E$3)","v":0},{"$f":"COUNTIF(Alcance!E249,F$3)","v":0},{"$f":"COUNTIF(Alcance!E249,G$3)","v":0},{"$f":"COUNTIF(Alcance!E249,H$3)","v":0},0,0.5,0]
["Pesticidas Oganofosforados",null,"Fenitrotion",null,{"$f":"COUNTIF(Alcance!E250,E$3)","v":0},{"$f":"COUNTIF(Alcance!E250,F$3)","v":0},{"$f":"COUNTIF(Alcance!E250,G$3)","v":0},{"$f":"COUNTIF(Alcance!E250,H$3)","v":0},0,0.5,0]
["Pesticidas Oganofosforados",null,"Fention",null,{"$f":"COUNTIF(Alcance!E251,E$3)","v":0},{"$f":"COUNTIF(Alcance!E251,F$3)","v":0},{"$f":"COUNTIF(Alcance!E251,G$3)","v":0},{"$f":"COUNTIF(Alcance!E251,H$3)","v":0},0,0.5,0]
["Pesticidas Oganofosforados",null,"Malation",null,{"$f":"COUNTIF(Alcance!E252,E$3)","v":0},{"$f":"COUNTIF(Alcance!E252,F$3)","v":0},{"$f":"COUNTIF(Alcance!E252,G$3)","v":0},{"$f":"COUNTIF(Alcance!E252,H$3)","v":0},0,0.5,0]
["Pesticidas Oganofosforados",null,"Mevinphos",null,{"$f":"COUNTIF(Alcance!E253,E$3)","v":0},{"$f":"COUNTIF(Alcance!E253,F$3)","v":0},{"$f":"COUNTIF(Alcance!E253,G$3)","v":0},{"$f":"COUNTIF(Alcance!E253,H$3)","v":0},0,0.5,0]
["Pesticidas Oganofosforados",null,"Metil paration",null,{"$f":"COUNTIF(Alcance!E254,E$3)","v":0},{"$f":"COUNTIF(Alcance!E254,F$3)","v":0},{"$f":"COUNTIF(Alcance!E254,G$3)","v":0},{"$f":"COUNTIF(Alcance!E254,H$3)","v":0},0,0.5,0]
["Pesticidas Oganofosforados",null,"Etil paration",null,{"$f":"COUNTIF(Alcance!E255,E$3)","v":0},{"$f":"COUNTIF(Alcance!E255,F$3)","v":0},{"$f":"COUNTIF(Alcance!E255,G$3)","v":0},{"$f":"COUNTIF(Alcance!E255,H$3)","v":0},0,0.5,0]
["Pesticidas Oganofosforados",null,"Ronnel",null,{"$f":"COUNTIF(Alcance!E256,E$3)","v":0},{"$f":"COUNTIF(Alcance!E256,F$3)","v":0},{"$f":"COUNTIF(Alcance!E256,G$3)","v":0},{"$f":"COUNTIF(Alcance!E256,H$3)","v":0},0,0.5,0]
["Pesticidas Oganofosforados",null,"Estirofos",null,{"$f":"COUNTIF(Alcance!E257,E$3)","v":0},{"$f":"COUNTIF(Alcance!E257,F$3)","v":0},{"$f":"COUNTIF(Alcance!E257,G$3)","v":0},{"$f":"COUNTIF(Alcance!E257,H$3)","v":0},0,0.5,0]
["Pesticidas Oganofosforados",null,"Atrazina",null,{"$f":"COUNTIF(Alcance!E258,E$3)","v":0},{"$f":"COUNTIF(Alcance!E258,F$3)","v":0},{"$f":"COUNTIF(Alcance!E258,G$3)","v":0},{"$f":"COUNTIF(Alcance!E258,H$3)","v":0},0,0.5,0]
["Pesticidas Oganofosforados",null,"Simazina",null,{"$f":"COUNTIF(Alcance!E259,E$3)","v":0},{"$f":"COUNTIF(Alcance!E259,F$3)","v":0},{"$f":"COUNTIF(Alcance!E259,G$3)","v":0},{"$f":"COUNTIF(Alcance!E259,H$3)","v":0},0,0.5,0]
["Pesticidas Oganofosforados",null,"Metiocarb",null,{"$f":"COUNTIF(Alcance!E260,E$3)","v":0},{"$f":"COUNTIF(Alcance!E260,F$3)","v":0},{"$f":"COUNTIF(Alcance!E260,G$3)","v":0},{"$f":"COUNTIF(Alcance!E260,H$3)","v":0},0,0.5,0]
["Pesticidas Oganofosforados",null,"Profam",null,{"$f":"COUNTIF(Alcance!E261,E$3)","v":0},{"$f":"COUNTIF(Alcance!E261,F$3)","v":0},{"$f":"COUNTIF(Alcance!E261,G$3)","v":0},{"$f":"COUNTIF(Alcance!E261,H$3)","v":0},0,0.5,0]
["Pesticidas Oganofosforados",null,"Etion",null,{"$f":"COUNTIF(Alcance!E262,E$3)","v":0},{"$f":"COUNTIF(Alcance!E262,F$3)","v":0},{"$f":"COUNTIF(Alcance!E262,G$3)","v":0},{"$f":"COUNTIF(Alcance!E262,H$3)","v":0},0,0.5,0]
["Pesticidas Oganofosforados",null,"Etil gution",null,{"$f":"COUNTIF(Alcance!E263,E$3)","v":0},{"$f":"COUNTIF(Alcance!E263,F$3)","v":0},{"$f":"COUNTIF(Alcance!E263,G$3)","v":0},{"$f":"COUNTIF(Alcance!E263,H$3)","v":0},0,0.5,0]
["Pesticidas Oganofosforados",null,"Gution",null,{"$f":"COUNTIF(Alcance!E264,E$3)","v":0},{"$f":"COUNTIF(Alcance!E264,F$3)","v":0},{"$f":"COUNTIF(Alcance!E264,G$3)","v":0},{"$f":"COUNTIF(Alcance!E264,H$3)","v":0},0,0.5,0]
["Pesticidas Oganofosforados",null,"Clorotalonil",null,{"$f":"COUNTIF(Alcance!E265,E$3)","v":0},{"$f":"COUNTIF(Alcance!E265,F$3)","v":0},{"$f":"COUNTIF(Alcance!E265,G$3)","v":0},{"$f":"COUNTIF(Alcance!E265,H$3)","v":0},0,0.5,0]
["Pesticidas Oganofosforados",null,"Penoxalin",null,{"$f":"COUNTIF(Alcance!E266,E$3)","v":0},{"$f":"COUNTIF(Alcance!E266,F$3)","v":0},{"$f":"COUNTIF(Alcance!E266,G$3)","v":0},{"$f":"COUNTIF(Alcance!E266,H$3)","v":0},0,0.5,0]
["Pesticidas Oganofosforados",null,"Primicarb",null,{"$f":"COUNTIF(Alcance!E267,E$3)","v":0},{"$f":"COUNTIF(Alcance!E267,F$3)","v":0},{"$f":"COUNTIF(Alcance!E267,G$3)","v":0},{"$f":"COUNTIF(Alcance!E267,H$3)","v":0},0,0.5,0]
["Pesticidas Oganofosforados",null,"Propetanfos",null,{"$f":"COUNTIF(Alcance!E268,E$3)","v":0},{"$f":"COUNTIF(Alcance!E268,F$3)","v":0},{"$f":"COUNTIF(Alcance!E268,G$3)","v":0},{"$f":"COUNTIF(Alcance!E268,H$3)","v":0},0,0.5,0]
["Pesticidas Oganofosforados",null,"Terbutrin",null,{"$f":"COUNTIF(Alcance!E269,E$3)","v":0},{"$f":"COUNTIF(Alcance!E269,F$3)","v":0},{"$f":"COUNTIF(Alcance!E269,G$3)","v":0},{"$f":"COUNTIF(Alcance!E269,H$3)","v":0},0,0.5,0]
["Pesticidas Oganofosforados",null,"Trietazina",null,{"$f":"COUNTIF(Alcance!E270,E$3)","v":0},{"$f":"COUNTIF(Alcance!E270,F$3)","v":0},{"$f":"COUNTIF(Alcance!E270,G$3)","v":0},{"$f":"COUNTIF(Alcance!E270,H$3)","v":0},0,0.5,0]
["PCBs en Agua",null,"Aroclor 1016",null,{"$f":"COUNTIF(Alcance!E271,E$3)","v":0},{"$f":"COUNTIF(Alcance!E271,F$3)","v":0},{"$f":"COUNTIF(Alcance!E271,G$3)","v":0},{"$f":"COUNTIF(Alcance!E271,H$3)","v":0},0,1,0]
["PCB s en Agua",null,"Aroclor 1221",null,{"$f":"COUNTIF(Alcance!E272,E$3)","v":0},{"$f":"COUNTIF(Alcance!E272,F$3)","v":0},{"$f":"COUNTIF(Alcance!E272,G$3)","v":0},{"$f":"COUNTIF(Alcance!E272,H$3)","v":0},0,1,{"$f":"I271*J271","v":0}]
["PCB s en Agua",null,"Aroclor 1232",null,{"$f":"COUNTIF(Alcance!E273,E$3)","v":0},{"$f":"COUNTIF(Alcance!E273,F$3)","v":0},{"$f":"COUNTIF(Alcance!E273,G$3)","v":0},{"$f":"COUNTIF(Alcance!E273,H$3)","v":0},0,1,0]
["PCB s en Agua",null,"Aroclor 1242",null,{"$f":"COUNTIF(Alcance!E274,E$3)","v":0},{"$f":"COUNTIF(Alcance!E274,F$3)","v":0},{"$f":"COUNTIF(Alcance!E274,G$3)","v":0},{"$f":"COUNTIF(Alcance!E274,H$3)","v":0},0,1,0]
["PCB s en Agua",null,"Aroclor 1248",null,{"$f":"COUNTIF(Alcance!E275,E$3)","v":0},{"$f":"COUNTIF(Alcance!E275,F$3)","v":0},{"$f":"COUNTIF(Alcance!E275,G$3)","v":0},{"$f":"COUNTIF(Alcance!E275,H$3)","v":0},0,1,0]
["PCB s en Agua",null,"Aroclor 1254",null,{"$f":"COUNTIF(Alcance!E276,E$3)","v":0},{"$f":"COUNTIF(Alcance!E276,F$3)","v":0},{"$f":"COUNTIF(Alcance!E276,G$3)","v":0},{"$f":"COUNTIF(Alcance!E276,H$3)","v":0},0,1,0]
["PCB s en Agua",null,"Aroclor 1260",null,{"$f":"COUNTIF(Alcance!E277,E$3)","v":0},{"$f":"COUNTIF(Alcance!E277,F$3)","v":0},{"$f":"COUNTIF(Alcance!E277,G$3)","v":0},{"$f":"COUNTIF(Alcance!E277,H$3)","v":0},0,1,0]
["Herbicidas",null,"Pentaclorofenol",null,{"$f":"COUNTIF(Alcance!E278,E$3)","v":0},{"$f":"COUNTIF(Alcance!E278,F$3)","v":0},{"$f":"COUNTIF(Alcance!E278,G$3)","v":0},{"$f":"COUNTIF(Alcance!E278,H$3)","v":0},0,0.5,0]
["Herbicidas",null,"Acifluorfen",null,{"$f":"COUNTIF(Alcance!E279,E$3)","v":0},{"$f":"COUNTIF(Alcance!E279,F$3)","v":0},{"$f":"COUNTIF(Alcance!E279,G$3)","v":0},{"$f":"COUNTIF(Alcance!E279,H$3)","v":0},0,0.5,0]
["Herbicidas",null,"Bentazon",null,{"$f":"COUNTIF(Alcance!E280,E$3)","v":0},{"$f":"COUNTIF(Alcance!E280,F$3)","v":0},{"$f":"COUNTIF(Alcance!E280,G$3)","v":0},{"$f":"COUNTIF(Alcance!E280,H$3)","v":0},0,0.5,0]
["Herbicidas",null,"2,4-D Total",null,{"$f":"COUNTIF(Alcance!E281,E$3)","v":0},{"$f":"COUNTIF(Alcance!E281,F$3)","v":0},{"$f":"COUNTIF(Alcance!E281,G$3)","v":0},{"$f":"COUNTIF(Alcance!E281,H$3)","v":0},0,0.5,0]
["Herbicidas",null,"2,4-DB",null,{"$f":"COUNTIF(Alcance!E282,E$3)","v":0},{"$f":"COUNTIF(Alcance!E282,F$3)","v":0},{"$f":"COUNTIF(Alcance!E282,G$3)","v":0},{"$f":"COUNTIF(Alcance!E282,H$3)","v":0},0,0.5,0]
["Herbicidas",null,"Dicamba",null,{"$f":"COUNTIF(Alcance!E283,E$3)","v":0},{"$f":"COUNTIF(Alcance!E283,F$3)","v":0},{"$f":"COUNTIF(Alcance!E283,G$3)","v":0},{"$f":"COUNTIF(Alcance!E283,H$3)","v":0},0,0.5,0]
["Herbicidas",null,"Acido 3,5-diclorobenzoico",null,{"$f":"COUNTIF(Alcance!E284,E$3)","v":0},{"$f":"COUNTIF(Alcance!E284,F$3)","v":0},{"$f":"COUNTIF(Alcance!E284,G$3)","v":0},{"$f":"COUNTIF(Alcance!E284,H$3)","v":0},0,0.5,0]
["Herbicidas",null,"Dicloroprop",null,{"$f":"COUNTIF(Alcance!E285,E$3)","v":0},{"$f":"COUNTIF(Alcance!E285,F$3)","v":0},{"$f":"COUNTIF(Alcance!E285,G$3)","v":0},{"$f":"COUNTIF(Alcance!E285,H$3)","v":0},0,0.5,0]
["Herbicidas",null,"Dinoseb",null,{"$f":"COUNTIF(Alcance!E286,E$3)","v":0},{"$f":"COUNTIF(Alcance!E286,F$3)","v":0},{"$f":"COUNTIF(Alcance!E286,G$3)","v":0},{"$f":"COUNTIF(Alcance!E286,H$3)","v":0},0,0.5,0]
["Herbicidas",null,"5-Hidroxicamba",null,{"$f":"COUNTIF(Alcance!E287,E$3)","v":0},{"$f":"COUNTIF(Alcance!E287,F$3)","v":0},{"$f":"COUNTIF(Alcance!E287,G$3)","v":0},{"$f":"COUNTIF(Alcance!E287,H$3)","v":0},{"$f":"SUM(E286:H286)","v":0},0.5,0]
["Herbicidas",null,"Picloram",null,{"$f":"COUNTIF(Alcance!E288,E$3)","v":0},{"$f":"COUNTIF(Alcance!E288,F$3)","v":0},{"$f":"COUNTIF(Alcance!E288,G$3)","v":0},{"$f":"COUNTIF(Alcance!E288,H$3)","v":0},0,0.5,{"$f":"I287*J287","v":0}]
["Herbicidas",null,"Silvex",null,{"$f":"COUNTIF(Alcance!E289,E$3)","v":0},{"$f":"COUNTIF(Alcance!E289,F$3)","v":0},{"$f":"COUNTIF(Alcance!E289,G$3)","v":0},{"$f":"COUNTIF(Alcance!E289,H$3)","v":0},0,0.5,0]
["Herbicidas",null,"2,4,5-T",null,{"$f":"COUNTIF(Alcance!E290,E$3)","v":0},{"$f":"COUNTIF(Alcance!E290,F$3)","v":0},{"$f":"COUNTIF(Alcance!E290,G$3)","v":0},{"$f":"COUNTIF(Alcance!E290,H$3)","v":0},0,0.5,0]
["Herbicidas",null,"Diquat",null,{"$f":"COUNTIF(Alcance!E291,E$3)","v":0},{"$f":"COUNTIF(Alcance!E291,F$3)","v":0},{"$f":"COUNTIF(Alcance!E291,G$3)","v":0},{"$f":"COUNTIF(Alcance!E291,H$3)","v":0},0,0.5,0]
["Herbicidas",null,"Endotal",null,{"$f":"COUNTIF(Alcance!E292,E$3)","v":0},{"$f":"COUNTIF(Alcance!E292,F$3)","v":0},{"$f":"COUNTIF(Alcance!E292,G$3)","v":0},{"$f":"COUNTIF(Alcance!E292,H$3)","v":0},0,0.5,0]
["Herbicidas",null,"Glifosato",null,{"$f":"COUNTIF(Alcance!E293,E$3)","v":0},{"$f":"COUNTIF(Alcance!E293,F$3)","v":0},{"$f":"COUNTIF(Alcance!E293,G$3)","v":0},{"$f":"COUNTIF(Alcance!E293,H$3)","v":0},0,0.5,0]
["Herbicidas",null,"Paraquat",null,{"$f":"COUNTIF(Alcance!E294,E$3)","v":0},{"$f":"COUNTIF(Alcance!E294,F$3)","v":0},{"$f":"COUNTIF(Alcance!E294,G$3)","v":0},{"$f":"COUNTIF(Alcance!E294,H$3)","v":0},0,0.5,0]
["Toxafeno",null,"Toxafeno",null,{"$f":"COUNTIF(Alcance!E295,E$3)","v":0},{"$f":"COUNTIF(Alcance!E295,F$3)","v":0},{"$f":"COUNTIF(Alcance!E295,G$3)","v":0},{"$f":"COUNTIF(Alcance!E295,H$3)","v":0},0,1,0]
["Clordano",null,"Clordano Total",null,{"$f":"COUNTIF(Alcance!E296,E$3)","v":0},{"$f":"COUNTIF(Alcance!E296,F$3)","v":0},{"$f":"COUNTIF(Alcance!E296,G$3)","v":0},{"$f":"COUNTIF(Alcance!E296,H$3)","v":0},0,1,0]
["Carbamatos",null,"Aldicarb sulfona",null,{"$f":"COUNTIF(Alcance!E297,E$3)","v":0},{"$f":"COUNTIF(Alcance!E297,F$3)","v":0},{"$f":"COUNTIF(Alcance!E297,G$3)","v":0},{"$f":"COUNTIF(Alcance!E297,H$3)","v":0},0,0.5,0]
["Carbamatos",null,"Aldicarb sulfoxido",null,{"$f":"COUNTIF(Alcance!E298,E$3)","v":0},{"$f":"COUNTIF(Alcance!E298,F$3)","v":0},{"$f":"COUNTIF(Alcance!E298,G$3)","v":0},{"$f":"COUNTIF(Alcance!E298,H$3)","v":0},0,0.5,0]
["Carbamatos",null,"Carbaril (Sevin)",null,{"$f":"COUNTIF(Alcance!E299,E$3)","v":0},{"$f":"COUNTIF(Alcance!E299,F$3)","v":0},{"$f":"COUNTIF(Alcance!E299,G$3)","v":0},{"$f":"COUNTIF(Alcance!E299,H$3)","v":0},0,0.5,0]
["Carbamatos",null,"Carbofurano (Furaden)",null,{"$f":"COUNTIF(Alcance!E300,E$3)","v":0},{"$f":"COUNTIF(Alcance!E300,F$3)","v":0},{"$f":"COUNTIF(Alcance!E300,G$3)","v":0},{"$f":"COUNTIF(Alcance!E300,H$3)","v":0},0,0.5,0]
["Carbamatos",null,"Diuron",null,{"$f":"COUNTIF(Alcance!E301,E$3)","v":0},{"$f":"COUNTIF(Alcance!E301,F$3)","v":0},{"$f":"COUNTIF(Alcance!E301,G$3)","v":0},{"$f":"COUNTIF(Alcance!E301,H$3)","v":0},0,0.5,0]
["Carbamatos",null,"3-Hidroxicarbofurano",null,{"$f":"COUNTIF(Alcance!E302,E$3)","v":0},{"$f":"COUNTIF(Alcance!E302,F$3)","v":0},{"$f":"COUNTIF(Alcance!E302,G$3)","v":0},{"$f":"COUNTIF(Alcance!E302,H$3)","v":0},0,0.5,0]
["Carbamatos",null,"Metiocarb (Mesurol)",null,{"$f":"COUNTIF(Alcance!E303,E$3)","v":0},{"$f":"COUNTIF(Alcance!E303,F$3)","v":0},{"$f":"COUNTIF(Alcance!E303,G$3)","v":0},{"$f":"COUNTIF(Alcance!E303,H$3)","v":0},0,0.5,0]
["Carbamatos",null,"Metomil (Lannate)",null,{"$f":"COUNTIF(Alcance!E304,E$3)","v":0},{"$f":"COUNTIF(Alcance!E304,F$3)","v":0},{"$f":"COUNTIF(Alcance!E304,G$3)","v":0},{"$f":"COUNTIF(Alcance!E304,H$3)","v":0},0,0.5,0]
["Carbamatos",null,"Oxamil",null,{"$f":"COUNTIF(Alcance!E305,E$3)","v":0},{"$f":"COUNTIF(Alcance!E305,F$3)","v":0},{"$f":"COUNTIF(Alcance!E305,G$3)","v":0},{"$f":"COUNTIF(Alcance!E305,H$3)","v":0},0,0.5,0]
["Carbamatos",null,"Profam",null,{"$f":"COUNTIF(Alcance!E306,E$3)","v":0},{"$f":"COUNTIF(Alcance!E306,F$3)","v":0},{"$f":"COUNTIF(Alcance!E306,G$3)","v":0},{"$f":"COUNTIF(Alcance!E306,H$3)","v":0},0,0.5,0]
["Carbamatos",null,"Propoxur (Baygon)",null,{"$f":"COUNTIF(Alcance!E307,E$3)","v":0},{"$f":"COUNTIF(Alcance!E307,F$3)","v":0},{"$f":"COUNTIF(Alcance!E307,G$3)","v":0},{"$f":"COUNTIF(Alcance!E307,H$3)","v":0},0,0.5,0]
["Hidrocarburos Aromáticos Policíclicos (PAHs)",null,"Naftaleno",null,{"$f":"COUNTIF(Alcance!E308,E$3)","v":0},{"$f":"COUNTIF(Alcance!E308,F$3)","v":0},{"$f":"COUNTIF(Alcance!E308,G$3)","v":0},{"$f":"COUNTIF(Alcance!E308,H$3)","v":0},0,0.5,0]
["Hidrocarburos Aromáticos Policíclicos (PAHs)",null,"Acenafteno",null,{"$f":"COUNTIF(Alcance!E309,E$3)","v":0},{"$f":"COUNTIF(Alcance!E309,F$3)","v":0},{"$f":"COUNTIF(Alcance!E309,G$3)","v":0},{"$f":"COUNTIF(Alcance!E309,H$3)","v":0},0,0.5,0]
["Hidrocarburos Aromáticos Policíclicos (PAHs)",null,"Acenaftileno",null,{"$f":"COUNTIF(Alcance!E310,E$3)","v":0},{"$f":"COUNTIF(Alcance!E310,F$3)","v":0},{"$f":"COUNTIF(Alcance!E310,G$3)","v":0},{"$f":"COUNTIF(Alcance!E310,H$3)","v":0},0,0.5,0]
["Hidrocarburos Aromáticos Policíclicos (PAHs)",null,"Antraceno",null,{"$f":"COUNTIF(Alcance!E311,E$3)","v":0},{"$f":"COUNTIF(Alcance!E311,F$3)","v":0},{"$f":"COUNTIF(Alcance!E311,G$3)","v":0},{"$f":"COUNTIF(Alcance!E311,H$3)","v":0},0,0.5,0]
["Hidrocarburos Aromáticos Policíclicos (PAHs)",null,"Benzo (a)antraceno",null,{"$f":"COUNTIF(Alcance!E312,E$3)","v":0},{"$f":"COUNTIF(Alcance!E312,F$3)","v":0},{"$f":"COUNTIF(Alcance!E312,G$3)","v":0},{"$f":"COUNTIF(Alcance!E312,H$3)","v":0},0,0.5,0]
["Hidrocarburos Aromáticos Policíclicos (PAHs)",null,"Benzo (a)pireno",null,{"$f":"COUNTIF(Alcance!E313,E$3)","v":0},{"$f":"COUNTIF(Alcance!E313,F$3)","v":0},{"$f":"COUNTIF(Alcance!E313,G$3)","v":0},{"$f":"COUNTIF(Alcance!E313,H$3)","v":0},0,0.5,0]
["Hidrocarburos Aromáticos Policíclicos (PAHs)",null,"Benzo (b)fluoranteno",null,{"$f":"COUNTIF(Alcance!E314,E$3)","v":0},{"$f":"COUNTIF(Alcance!E314,F$3)","v":0},{"$f":"COUNTIF(Alcance!E314,G$3)","v":0},{"$f":"COUNTIF(Alcance!E314,H$3)","v":0},0,0.5,0]
["Hidrocarburos Aromáticos Policíclicos (PAHs)",null,"Benzo (j)fluoranteno",null,{"$f":"COUNTIF(Alcance!E315,E$3)","v":0},{"$f":"COUNTIF(Alcance!E315,F$3)","v":0},{"$f":"COUNTIF(Alcance!E315,G$3)","v":0},{"$f":"COUNTIF(Alcance!E315,H$3)","v":0},0,0.5,{"$f":"I314*J314","v":0}]
["Hidrocarburos Aromáticos Policíclicos (PAHs)",null,"Benzo (k)fluoranteno",null,{"$f":"COUNTIF(Alcance!E316,E$3)","v":0},{"$f":"COUNTIF(Alcance!E316,F$3)","v":0},{"$f":"COUNTIF(Alcance!E316,G$3)","v":0},{"$f":"COUNTIF(Alcance!E316,H$3)","v":0},0,0.5,{"$f":"I315*J315","v":0}]
["Hidrocarburos Aromáticos Policíclicos (PAHs)",null,"Benzo (g,h,i) perileno",null,{"$f":"COUNTIF(Alcance!E317,E$3)","v":0},{"$f":"COUNTIF(Alcance!E317,F$3)","v":0},{"$f":"COUNTIF(Alcance!E317,G$3)","v":0},{"$f":"COUNTIF(Alcance!E317,H$3)","v":0},0,0.5,{"$f":"I316*J316","v":0}]
["Hidrocarburos Aromáticos Policíclicos (PAHs)",null,"Criseno",null,{"$f":"COUNTIF(Alcance!E318,E$3)","v":0},{"$f":"COUNTIF(Alcance!E318,F$3)","v":0},{"$f":"COUNTIF(Alcance!E318,G$3)","v":0},{"$f":"COUNTIF(Alcance!E318,H$3)","v":0},0,0.5,0]
["Hidrocarburos Aromáticos Policíclicos (PAHs)",null,"Dibenz (a,h)antraceno",null,{"$f":"COUNTIF(Alcance!E319,E$3)","v":0},{"$f":"COUNTIF(Alcance!E319,F$3)","v":0},{"$f":"COUNTIF(Alcance!E319,G$3)","v":0},{"$f":"COUNTIF(Alcance!E319,H$3)","v":0},0,0.5,0]
["Hidrocarburos Aromáticos Policíclicos (PAHs)",null,"Fluoranteno",null,{"$f":"COUNTIF(Alcance!E320,E$3)","v":0},{"$f":"COUNTIF(Alcance!E320,F$3)","v":0},{"$f":"COUNTIF(Alcance!E320,G$3)","v":0},{"$f":"COUNTIF(Alcance!E320,H$3)","v":0},0,0.5,0]
["Hidrocarburos Aromáticos Policíclicos (PAHs)",null,"Fluoreno",null,{"$f":"COUNTIF(Alcance!E321,E$3)","v":0},{"$f":"COUNTIF(Alcance!E321,F$3)","v":0},{"$f":"COUNTIF(Alcance!E321,G$3)","v":0},{"$f":"COUNTIF(Alcance!E321,H$3)","v":0},0,0.5,0]
["Hidrocarburos Aromáticos Policíclicos (PAHs)",null,"Indenol (1,2,3-cd)pireno",null,{"$f":"COUNTIF(Alcance!E322,E$3)","v":0},{"$f":"COUNTIF(Alcance!E322,F$3)","v":0},{"$f":"COUNTIF(Alcance!E322,G$3)","v":0},{"$f":"COUNTIF(Alcance!E322,H$3)","v":0},0,0.5,0]
["Hidrocarburos Aromáticos Policíclicos (PAHs)",null,"3-Metilcolantreno",null,{"$f":"COUNTIF(Alcance!E323,E$3)","v":0},{"$f":"COUNTIF(Alcance!E323,F$3)","v":0},{"$f":"COUNTIF(Alcance!E323,G$3)","v":0},{"$f":"COUNTIF(Alcance!E323,H$3)","v":0},0,0.5,{"$f":"I322*J322","v":0}]
["Hidrocarburos Aromáticos Policíclicos (PAHs)",null,"Fenantreno",null,{"$f":"COUNTIF(Alcance!E324,E$3)","v":0},{"$f":"COUNTIF(Alcance!E324,F$3)","v":0},{"$f":"COUNTIF(Alcance!E324,G$3)","v":0},{"$f":"COUNTIF(Alcance!E324,H$3)","v":0},0,0.5,0]
["Hidrocarburos Aromáticos Policíclicos (PAHs)",null,"Pireno",null,{"$f":"COUNTIF(Alcance!E325,E$3)","v":0},{"$f":"COUNTIF(Alcance!E325,F$3)","v":0},{"$f":"COUNTIF(Alcance!E325,G$3)","v":0},{"$f":"COUNTIF(Alcance!E325,H$3)","v":0},0,0.5,0]
["TPH (Hidrocarburos derivados del petróleo)",null,"Hidrocarburos",null,{"$f":"COUNTIF(Alcance!E326,E$3)","v":0},{"$f":"COUNTIF(Alcance!E326,F$3)","v":0},{"$f":"COUNTIF(Alcance!E326,G$3)","v":0},{"$f":"COUNTIF(Alcance!E326,H$3)","v":0},0,1,0]
["TPH (Hidrocarburos derivados del petróleo)",null,"Hidrocarburos del Petróleo (Fracción GRO)",null,{"$f":"COUNTIF(Alcance!E327,E$3)","v":0},{"$f":"COUNTIF(Alcance!E327,F$3)","v":0},{"$f":"COUNTIF(Alcance!E327,G$3)","v":0},{"$f":"COUNTIF(Alcance!E327,H$3)","v":0},0,5,0]
["TPH (Hidrocarburos derivados del petróleo)",null,"Hidrocarburos del Petróleo (Fracción DRO)",null,{"$f":"COUNTIF(Alcance!E328,E$3)","v":0},{"$f":"COUNTIF(Alcance!E328,F$3)","v":0},{"$f":"COUNTIF(Alcance!E328,G$3)","v":0},{"$f":"COUNTIF(Alcance!E328,H$3)","v":0},0,5,0]
["Compuestos Orgánicos Halogenados Absorbibles",null,"AOX",null,{"$f":"COUNTIF(Alcance!E329,E$3)","v":0},{"$f":"COUNTIF(Alcance!E329,F$3)","v":0},{"$f":"COUNTIF(Alcance!E329,G$3)","v":0},{"$f":"COUNTIF(Alcance!E329,H$3)","v":0},0,1,0]
["Haluros Orgánicos Totales",null,"TOX ",null,{"$f":"COUNTIF(Alcance!E330,E$3)","v":0},{"$f":"COUNTIF(Alcance!E330,F$3)","v":0},{"$f":"COUNTIF(Alcance!E330,G$3)","v":0},{"$f":"COUNTIF(Alcance!E330,H$3)","v":0},0,1,0]
["Toma de muestra simple o puntual",null,"pH",null,{"$f":"COUNTIF(Alcance!E331,E$3)","v":0},{"$f":"COUNTIF(Alcance!E331,F$3)","v":0},{"$f":"COUNTIF(Alcance!E331,G$3)","v":0},{"$f":"COUNTIF(Alcance!E331,H$3)","v":0},0,2.5,{"$f":"IF(I330+I339>1,0,IF(I330>0,J330,IF(I331+I340>1,0,IF(I331>0,J330,IF(I332+I341>1,0,IF(I332>0,J330,IF(I333+I342>1,0,IF(I333>0,J330,IF(I334+I343>1,0,IF(I334>0,J330,IF(I335+I344>1,0,IF(I335>0,J330,IF(I336+I345>1,0,IF(I336>0,J330,IF(I337+I346>1,0,IF(I337>0,J330,IF(I338+I347>1,0,IF(I338>0,J330,0))))))))))))))))))","v":0}]
["Toma de muestra simple o puntual",null,"Temperatura",null,{"$f":"COUNTIF(Alcance!E332,E$3)","v":0},{"$f":"COUNTIF(Alcance!E332,F$3)","v":0},{"$f":"COUNTIF(Alcance!E332,G$3)","v":0},{"$f":"COUNTIF(Alcance!E332,H$3)","v":0},0]
["Toma de muestra simple o puntual",null,"Conductividad Eléctrica",null,{"$f":"COUNTIF(Alcance!E333,E$3)","v":0},{"$f":"COUNTIF(Alcance!E333,F$3)","v":0},{"$f":"COUNTIF(Alcance!E333,G$3)","v":0},{"$f":"COUNTIF(Alcance!E333,H$3)","v":0},0]
["Toma de muestra simple o puntual",null,"Dióxido de Carbono in situ",null,{"$f":"COUNTIF(Alcance!E334,E$3)","v":0},{"$f":"COUNTIF(Alcance!E334,F$3)","v":0},{"$f":"COUNTIF(Alcance!E334,G$3)","v":0},{"$f":"COUNTIF(Alcance!E334,H$3)","v":0},0]
["Toma de muestra simple o puntual",null,"Oxigeno Disuelto (Membarana y Luminiscencia)",null,{"$f":"COUNTIF(Alcance!E335,E$3)","v":0},{"$f":"COUNTIF(Alcance!E335,F$3)","v":0},{"$f":"COUNTIF(Alcance!E335,G$3)","v":0},{"$f":"COUNTIF(Alcance!E335,H$3)","v":0},0]
["Toma de muestra simple o puntual",null,"Cloro Residual",null,{"$f":"COUNTIF(Alcance!E336,E$3)","v":0},{"$f":"COUNTIF(Alcance!E336,F$3)","v":0},{"$f":"COUNTIF(Alcance!E336,G$3)","v":0},{"$f":"COUNTIF(Alcance!E336,H$3)","v":0},0]
["Toma de muestra simple o puntual",null,"Cloro Total",null,{"$f":"COUNTIF(Alcance!E337,E$3)","v":0},{"$f":"COUNTIF(Alcance!E337,F$3)","v":0},{"$f":"COUNTIF(Alcance!E337,G$3)","v":0},{"$f":"COUNTIF(Alcance!E337,H$3)","v":0},0]
["Toma de muestra simple o puntual",null,"Sólidos Sedimentables",null,{"$f":"COUNTIF(Alcance!E338,E$3)","v":0},{"$f":"COUNTIF(Alcance!E338,F$3)","v":0},{"$f":"COUNTIF(Alcance!E338,G$3)","v":0},{"$f":"COUNTIF(Alcance!E338,H$3)","v":0},0]
["Toma de muestra simple o puntual",null,"Caudal",null,{"$f":"COUNTIF(Alcance!E339,E$3)","v":0},{"$f":"COUNTIF(Alcance!E339,F$3)","v":0},{"$f":"COUNTIF(Alcance!E339,G$3)","v":0},{"$f":"COUNTIF(Alcance!E339,H$3)","v":0},0]
["Toma de muestra compuesta",null,"pH",null,{"$f":"COUNTIF(Alcance!E340,E$3)","v":0},{"$f":"COUNTIF(Alcance!E340,F$3)","v":0},{"$f":"COUNTIF(Alcance!E340,G$3)","v":0},{"$f":"COUNTIF(Alcance!E340,H$3)","v":0},0,5,{"$f":"IF(I339>0,J339,IF(I340>0,J339,IF(I341>0,J339,IF(I343>0,J339,IF(I346>0,J339,IF(I347>0,J339,0))))))","v":0}]
["Toma de muestra compuesta",null,"Temperatura",null,{"$f":"COUNTIF(Alcance!E341,E$3)","v":0},{"$f":"COUNTIF(Alcance!E341,F$3)","v":0},{"$f":"COUNTIF(Alcance!E341,G$3)","v":0},{"$f":"COUNTIF(Alcance!E341,H$3)","v":0},0]
["Toma de muestra compuesta",null,"Conductividad Eléctrica",null,{"$f":"COUNTIF(Alcance!E342,E$3)","v":0},{"$f":"COUNTIF(Alcance!E342,F$3)","v":0},{"$f":"COUNTIF(Alcance!E342,G$3)","v":0},{"$f":"COUNTIF(Alcance!E342,H$3)","v":0},0]
["Toma de muestra compuesta",null,"Dióxido de Carbono in situ",null,{"$f":"COUNTIF(Alcance!E343,E$3)","v":0},{"$f":"COUNTIF(Alcance!E343,F$3)","v":0},{"$f":"COUNTIF(Alcance!E343,G$3)","v":0},{"$f":"COUNTIF(Alcance!E343,H$3)","v":0},0]
["Toma de muestra compuesta",null,"Oxigeno Disuelto",null,{"$f":"COUNTIF(Alcance!E344,E$3)","v":0},{"$f":"COUNTIF(Alcance!E344,F$3)","v":0},{"$f":"COUNTIF(Alcance!E344,G$3)","v":0},{"$f":"COUNTIF(Alcance!E344,H$3)","v":0},0]
["Toma de muestra compuesta",null,"Cloro Residual",null,{"$f":"COUNTIF(Alcance!E345,E$3)","v":0},{"$f":"COUNTIF(Alcance!E345,F$3)","v":0},{"$f":"COUNTIF(Alcance!E345,G$3)","v":0},{"$f":"COUNTIF(Alcance!E345,H$3)","v":0},0]
["Toma de muestra compuesta",null,"Cloro Total",null,{"$f":"COUNTIF(Alcance!E346,E$3)","v":0},{"$f":"COUNTIF(Alcance!E346,F$3)","v":0},{"$f":"COUNTIF(Alcance!E346,G$3)","v":0},{"$f":"COUNTIF(Alcance!E346,H$3)","v":0},0]
["Toma de muestra compuesta",null,"Sólidos Sedimentables",null,{"$f":"COUNTIF(Alcance!E347,E$3)","v":0},{"$f":"COUNTIF(Alcance!E347,F$3)","v":0},{"$f":"COUNTIF(Alcance!E347,G$3)","v":0},{"$f":"COUNTIF(Alcance!E347,H$3)","v":0},0]
["Toma de muestra compuesta",null,"Caudal",null,{"$f":"COUNTIF(Alcance!E348,E$3)","v":0},{"$f":"COUNTIF(Alcance!E348,F$3)","v":0},{"$f":"COUNTIF(Alcance!E348,G$3)","v":0},{"$f":"COUNTIF(Alcance!E348,H$3)","v":0},0]
["Toma de Muestra Integrada en Cuerpo Lótico",null,"pH",null,{"$f":"COUNTIF(Alcance!E349,E$3)","v":0},{"$f":"COUNTIF(Alcance!E349,F$3)","v":0},{"$f":"COUNTIF(Alcance!E349,G$3)","v":0},{"$f":"COUNTIF(Alcance!E349,H$3)","v":0},0,5,{"$f":"IF(I348>0,J348,IF(I349>0,J348,IF(I350>0,J348,IF(I351>0,J348,IF(I352>0,J348,IF(I353>0,J348,IF(I354>0,J348,IF(I355>0,J348,IF(I356>0,J348,0)))))))))","v":0}]
["Toma de Muestra Integrada en Cuerpo Lótico",null,"Temperatura",null,{"$f":"COUNTIF(Alcance!E350,E$3)","v":0},{"$f":"COUNTIF(Alcance!E350,F$3)","v":0},{"$f":"COUNTIF(Alcance!E350,G$3)","v":0},{"$f":"COUNTIF(Alcance!E350,H$3)","v":0},0]
["Toma de Muestra Integrada en Cuerpo Lótico",null,"Conductividad Eléctrica",null,{"$f":"COUNTIF(Alcance!E351,E$3)","v":0},{"$f":"COUNTIF(Alcance!E351,F$3)","v":0},{"$f":"COUNTIF(Alcance!E351,G$3)","v":0},{"$f":"COUNTIF(Alcance!E351,H$3)","v":0},0]
["Toma de Muestra Integrada en Cuerpo Lótico",null,"Dióxido de Carbono in situ",null,{"$f":"COUNTIF(Alcance!E352,E$3)","v":0},{"$f":"COUNTIF(Alcance!E352,F$3)","v":0},{"$f":"COUNTIF(Alcance!E352,G$3)","v":0},{"$f":"COUNTIF(Alcance!E352,H$3)","v":0},0]
["Toma de Muestra Integrada en Cuerpo Lótico",null,"Oxigeno Disuelto (Membrana y Luminiscencia)",null,{"$f":"COUNTIF(Alcance!E353,E$3)","v":0},{"$f":"COUNTIF(Alcance!E353,F$3)","v":0},{"$f":"COUNTIF(Alcance!E353,G$3)","v":0},{"$f":"COUNTIF(Alcance!E353,H$3)","v":0},0]
["Toma de Muestra Integrada en Cuerpo Lótico",null,"Cloro Residual",null,{"$f":"COUNTIF(Alcance!E354,E$3)","v":0},{"$f":"COUNTIF(Alcance!E354,F$3)","v":0},{"$f":"COUNTIF(Alcance!E354,G$3)","v":0},{"$f":"COUNTIF(Alcance!E354,H$3)","v":0},0]
["Toma de Muestra Integrada en Cuerpo Lótico",null,"Cloro Total",null,{"$f":"COUNTIF(Alcance!E355,E$3)","v":0},{"$f":"COUNTIF(Alcance!E355,F$3)","v":0},{"$f":"COUNTIF(Alcance!E355,G$3)","v":0},{"$f":"COUNTIF(Alcance!E355,H$3)","v":0},0]
["Toma de Muestra Integrada en Cuerpo Lótico",null,"Sólidos Sedimentables",null,{"$f":"COUNTIF(Alcance!E356,E$3)","v":0},{"$f":"COUNTIF(Alcance!E356,F$3)","v":0},{"$f":"COUNTIF(Alcance!E356,G$3)","v":0},{"$f":"COUNTIF(Alcance!E356,H$3)","v":0},0]
["Toma de Muestra Integrada en Cuerpo Lótico",null,"Caudal",null,{"$f":"COUNTIF(Alcance!E357,E$3)","v":0},{"$f":"COUNTIF(Alcance!E357,F$3)","v":0},{"$f":"COUNTIF(Alcance!E357,G$3)","v":0},{"$f":"COUNTIF(Alcance!E357,H$3)","v":0},0]
["Toma de Muestra Integrada en Cuerpo Léntico",null,"pH",null,{"$f":"COUNTIF(Alcance!E358,E$3)","v":0},{"$f":"COUNTIF(Alcance!E358,F$3)","v":0},{"$f":"COUNTIF(Alcance!E358,G$3)","v":0},{"$f":"COUNTIF(Alcance!E358,H$3)","v":0},0,5,{"$f":"IF(I357>0,J357,IF(I358>0,J357,IF(I359>0,J357,IF(I360>0,J357,IF(I361>0,J357,IF(I362>0,J357,IF(I363>0,J357,IF(I364>0,J357,0))))))))","v":0}]
["Toma de Muestra Integrada en Cuerpo Léntico",null,"Temperatura",null,{"$f":"COUNTIF(Alcance!E359,E$3)","v":0},{"$f":"COUNTIF(Alcance!E359,F$3)","v":0},{"$f":"COUNTIF(Alcance!E359,G$3)","v":0},{"$f":"COUNTIF(Alcance!E359,H$3)","v":0},0]
["Toma de Muestra Integrada en Cuerpo Léntico",null,"Conductividad Eléctrica",null,{"$f":"COUNTIF(Alcance!E360,E$3)","v":0},{"$f":"COUNTIF(Alcance!E360,F$3)","v":0},{"$f":"COUNTIF(Alcance!E360,G$3)","v":0},{"$f":"COUNTIF(Alcance!E360,H$3)","v":0},0]
["Toma de Muestra Integrada en Cuerpo Léntico",null,"Dióxido de Carbono in situ",null,{"$f":"COUNTIF(Alcance!E361,E$3)","v":0},{"$f":"COUNTIF(Alcance!E361,F$3)","v":0},{"$f":"COUNTIF(Alcance!E361,G$3)","v":0},{"$f":"COUNTIF(Alcance!E361,H$3)","v":0},0]
["Toma de Muestra Integrada en Cuerpo Léntico",null,"Oxigeno Disuelto (Membrana y Luminiscencia)",null,{"$f":"COUNTIF(Alcance!E362,E$3)","v":0},{"$f":"COUNTIF(Alcance!E362,F$3)","v":0},{"$f":"COUNTIF(Alcance!E362,G$3)","v":0},{"$f":"COUNTIF(Alcance!E362,H$3)","v":0},{"$f":"SUM(E361:H361)","v":0}]
["Toma de Muestra Integrada en Cuerpo Léntico",null,"Cloro Residual",null,{"$f":"COUNTIF(Alcance!E363,E$3)","v":0},{"$f":"COUNTIF(Alcance!E363,F$3)","v":0},{"$f":"COUNTIF(Alcance!E363,G$3)","v":0},{"$f":"COUNTIF(Alcance!E363,H$3)","v":0},0]
["Toma de Muestra Integrada en Cuerpo Léntico",null,"Cloro Total",null,{"$f":"COUNTIF(Alcance!E364,E$3)","v":0},{"$f":"COUNTIF(Alcance!E364,F$3)","v":0},{"$f":"COUNTIF(Alcance!E364,G$3)","v":0},{"$f":"COUNTIF(Alcance!E364,H$3)","v":0},0]
["Toma de Muestra Integrada en Cuerpo Léntico",null,"Sólidos Sedimentables",null,{"$f":"COUNTIF(Alcance!E365,E$3)","v":0},{"$f":"COUNTIF(Alcance!E365,F$3)","v":0},{"$f":"COUNTIF(Alcance!E365,G$3)","v":0},{"$f":"COUNTIF(Alcance!E365,H$3)","v":0},0]
["Toma de muestra en aguas subterraneas",null,"pH",null,{"$f":"COUNTIF(Alcance!E366,E$3)","v":0},{"$f":"COUNTIF(Alcance!E366,F$3)","v":0},{"$f":"COUNTIF(Alcance!E366,G$3)","v":0},{"$f":"COUNTIF(Alcance!E366,H$3)","v":0},0,5,{"$f":"IF(I365>0,J365,IF(I366>0,J365,IF(I367>0,J365,IF(I368>0,J365,IF(I369>0,J365,IF(I370>0,J365,IF(I371>0,J365,IF(I372>0,J365,0))))))))","v":0}]
["Toma de muestra en aguas subterraneas",null,"Temperatura",null,{"$f":"COUNTIF(Alcance!E367,E$3)","v":0},{"$f":"COUNTIF(Alcance!E367,F$3)","v":0},{"$f":"COUNTIF(Alcance!E367,G$3)","v":0},{"$f":"COUNTIF(Alcance!E367,H$3)","v":0},0]
["Toma de muestra en aguas subterraneas",null,"Conductividad Eléctrica",null,{"$f":"COUNTIF(Alcance!E368,E$3)","v":0},{"$f":"COUNTIF(Alcance!E368,F$3)","v":0},{"$f":"COUNTIF(Alcance!E368,G$3)","v":0},{"$f":"COUNTIF(Alcance!E368,H$3)","v":0},0]
["Toma de muestra en aguas subterraneas",null,"Dióxido de Carbono in situ",null,{"$f":"COUNTIF(Alcance!E369,E$3)","v":0},{"$f":"COUNTIF(Alcance!E369,F$3)","v":0},{"$f":"COUNTIF(Alcance!E369,G$3)","v":0},{"$f":"COUNTIF(Alcance!E369,H$3)","v":0},0]
["Toma de muestra en aguas subterraneas",null,"Oxigeno Disuelto (Membrana y Luminiscencia)",null,{"$f":"COUNTIF(Alcance!E370,E$3)","v":0},{"$f":"COUNTIF(Alcance!E370,F$3)","v":0},{"$f":"COUNTIF(Alcance!E370,G$3)","v":0},{"$f":"COUNTIF(Alcance!E370,H$3)","v":0},0]
["Toma de muestra en aguas subterraneas",null,"Cloro Residual",null,{"$f":"COUNTIF(Alcance!E371,E$3)","v":0},{"$f":"COUNTIF(Alcance!E371,F$3)","v":0},{"$f":"COUNTIF(Alcance!E371,G$3)","v":0},{"$f":"COUNTIF(Alcance!E371,H$3)","v":0},0]
["Toma de muestra en aguas subterraneas",null,"Cloro Total",null,{"$f":"COUNTIF(Alcance!E372,E$3)","v":0},{"$f":"COUNTIF(Alcance!E372,F$3)","v":0},{"$f":"COUNTIF(Alcance!E372,G$3)","v":0},{"$f":"COUNTIF(Alcance!E372,H$3)","v":0},0]
["Toma de muestra en aguas subterraneas",null,"Sólidos Sedimentables",null,{"$f":"COUNTIF(Alcance!E373,E$3)","v":0},{"$f":"COUNTIF(Alcance!E373,F$3)","v":0},{"$f":"COUNTIF(Alcance!E373,G$3)","v":0},{"$f":"COUNTIF(Alcance!E373,H$3)","v":0},0]
["Variables adicionales en aguas continentales",null,"Especificado por el usuario",null,{"$f":"COUNTIF(Alcance!$E$374:$F$449,'Conteo y Equivalencias'!E$3)","v":0},{"$f":"COUNTIF(Alcance!$E$374:$F$449,'Conteo y Equivalencias'!F$3)","v":0},{"$f":"COUNTIF(Alcance!$E$374:$F$449,'Conteo y Equivalencias'!G$3)","v":0},{"$f":"COUNTIF(Alcance!$E$374:$F$449,'Conteo y Equivalencias'!H$3)","v":0},{"$f":"SUM(E373:H373)","v":0},1,{"$f":"I373*J373","v":0},"Total Parámetros Calculados",{"$f":"SUM(K4:K373)","v":0}]
["TOTALES",null,null,null,{"$f":"SUM(E4:E373)","v":0},{"$f":"SUM(F4:F373)","v":0},{"$f":"SUM(G4:G373)","v":0},{"$f":"SUM(H4:H373)","v":0},{"$f":"SUM(I4:I373)","v":0}]
[]
["MATRIZ AGUA MARINAS"]
["18. Matriz / Grupo",null,"19. Variable",null,"INICIAL","SEGUIMIENTO","RENOVACIÓN","EXTENSIÓN","Total Variables","Equivalencia en Parámetros","Parámetros Calculados"]
["Iones Principales o Minerales",null,"Alcalinidad total",null,{"$f":"COUNTIF(Alcance!$C454,E$377)","v":0},{"$f":"COUNTIF(Alcance!$E454,F$377)","v":0},{"$f":"COUNTIF(Alcance!$E454,G$377)","v":0},{"$f":"COUNTIF(Alcance!$E454,H$377)","v":0},{"$f":"SUM(E378:H378)","v":0},1,{"$f":"I378*J378","v":0}]
["Iones Principales o Minerales",null,"Conductividad a 25ºC",null,{"$f":"COUNTIF(Alcance!$E455,E$377)","v":0},{"$f":"COUNTIF(Alcance!$E455,F$377)","v":0},{"$f":"COUNTIF(Alcance!$E455,G$377)","v":0},{"$f":"COUNTIF(Alcance!$E455,H$377)","v":0},{"$f":"SUM(E379:H379)","v":0},1,{"$f":"I379*J379","v":0}]
["Iones Principales o Minerales",null,"Cloruro",null,{"$f":"COUNTIF(Alcance!$E456,E$377)","v":0},{"$f":"COUNTIF(Alcance!$E456,F$377)","v":0},{"$f":"COUNTIF(Alcance!$E456,G$377)","v":0},{"$f":"COUNTIF(Alcance!$E456,H$377)","v":0},{"$f":"SUM(E380:H380)","v":0},1,{"$f":"I380*J380","v":0}]
["Iones Principales o Minerales",null,"Calcio disuelto",null,{"$f":"COUNTIF(Alcance!$E457,E$377)","v":0},{"$f":"COUNTIF(Alcance!$E457,F$377)","v":0},{"$f":"COUNTIF(Alcance!$E457,G$377)","v":0},{"$f":"COUNTIF(Alcance!$E457,H$377)","v":0},0,1,0]
["Iones Principales o Minerales",null,"Calcio total",null,{"$f":"COUNTIF(Alcance!$E458,E$377)","v":0},{"$f":"COUNTIF(Alcance!$E458,F$377)","v":0},{"$f":"COUNTIF(Alcance!$E458,G$377)","v":0},{"$f":"COUNTIF(Alcance!$E458,H$377)","v":0},0,1,0]
["Iones Principales o Minerales",null,"Magnesio disuelto",null,{"$f":"COUNTIF(Alcance!$E459,E$377)","v":0},{"$f":"COUNTIF(Alcance!$E459,F$377)","v":0},{"$f":"COUNTIF(Alcance!$E459,G$377)","v":0},{"$f":"COUNTIF(Alcance!$E459,H$377)","v":0},0,1,0]
["Iones Principales o Minerales",null,"Magnesio total",null,{"$f":"COUNTIF(Alcance!$E460,E$377)","v":0},{"$f":"COUNTIF(Alcance!$E460,F$377)","v":0},{"$f":"COUNTIF(Alcance!$E460,G$377)","v":0},{"$f":"COUNTIF(Alcance!$E460,H$377)","v":0},0,1,0]
["Iones Principales o Minerales",null,"Fluoruro",null,{"$f":"COUNTIF(Alcance!$E461,E$377)","v":0},{"$f":"COUNTIF(Alcance!$E461,F$377)","v":0},{"$f":"COUNTIF(Alcance!$E461,G$377)","v":0},{"$f":"COUNTIF(Alcance!$E461,H$377)","v":0},0,1,0]
["Iones Principales o Minerales",null,"Potasio disuelto",null,{"$f":"COUNTIF(Alcance!$E462,E$377)","v":0},{"$f":"COUNTIF(Alcance!$E462,F$377)","v":0},{"$f":"COUNTIF(Alcance!$E462,G$377)","v":0},{"$f":"COUNTIF(Alcance!$E462,H$377)","v":0},0,1,0]
["Iones Principales o Minerales",null,"Potasio total",null,{"$f":"COUNTIF(Alcance!$E463,E$377)","v":0},{"$f":"COUNTIF(Alcance!$E463,F$377)","v":0},{"$f":"COUNTIF(Alcance!$E463,G$377)","v":0},{"$f":"COUNTIF(Alcance!$E463,H$377)","v":0},0,1,0]
["Iones Principales o Minerales",null,"Sodio disuelto",null,{"$f":"COUNTIF(Alcance!$E464,E$377)","v":0},{"$f":"COUNTIF(Alcance!$E464,F$377)","v":0},{"$f":"COUNTIF(Alcance!$E464,G$377)","v":0},{"$f":"COUNTIF(Alcance!$E464,H$377)","v":0},0,1,0]
["Iones Principales o Minerales",null,"Sodio total",null,{"$f":"COUNTIF(Alcance!$E465,E$377)","v":0},{"$f":"COUNTIF(Alcance!$E465,F$377)","v":0},{"$f":"COUNTIF(Alcance!$E465,G$377)","v":0},{"$f":"COUNTIF(Alcance!$E465,H$377)","v":0},0,1,0]
["Iones Principales o Minerales",null,"Sulfato",null,{"$f":"COUNTIF(Alcance!$E466,E$377)","v":0},{"$f":"COUNTIF(Alcance!$E466,F$377)","v":0},{"$f":"COUNTIF(Alcance!$E466,G$377)","v":0},{"$f":"COUNTIF(Alcance!$E466,H$377)","v":0},0,1,0]
["Iones Principales o Minerales",null,"Dureza Total",null,{"$f":"COUNTIF(Alcance!$E467,E$377)","v":0},{"$f":"COUNTIF(Alcance!$E467,F$377)","v":0},{"$f":"COUNTIF(Alcance!$E467,G$377)","v":0},{"$f":"COUNTIF(Alcance!$E467,H$377)","v":0},0,1,0]
["Iones Principales o Minerales",null,"Dureza Cálcica",null,{"$f":"COUNTIF(Alcance!$E468,E$377)","v":0},{"$f":"COUNTIF(Alcance!$E468,F$377)","v":0},{"$f":"COUNTIF(Alcance!$E468,G$377)","v":0},{"$f":"COUNTIF(Alcance!$E468,H$377)","v":0},0,1,0]
["Iones Principales o Minerales",null,"Carbonatos, bicarbonatos e hidróxidos ",null,{"$f":"COUNTIF(Alcance!$E469,E$377)","v":0},{"$f":"COUNTIF(Alcance!$E469,F$377)","v":0},{"$f":"COUNTIF(Alcance!$E469,G$377)","v":0},{"$f":"COUNTIF(Alcance!$E469,H$377)","v":0},0,1,0]
["Nutrientes",null,"Nitrato",null,{"$f":"COUNTIF(Alcance!$E470,E$377)","v":0},{"$f":"COUNTIF(Alcance!$E470,F$377)","v":0},{"$f":"COUNTIF(Alcance!$E470,G$377)","v":0},{"$f":"COUNTIF(Alcance!$E470,H$377)","v":0},0,1,0]
["Nutrientes",null,"Nitrito",null,{"$f":"COUNTIF(Alcance!$E471,E$377)","v":0},{"$f":"COUNTIF(Alcance!$E471,F$377)","v":0},{"$f":"COUNTIF(Alcance!$E471,G$377)","v":0},{"$f":"COUNTIF(Alcance!$E471,H$377)","v":0},0,1,0]
["Nutrientes",null,"Amonio",null,{"$f":"COUNTIF(Alcance!$E472,E$377)","v":0},{"$f":"COUNTIF(Alcance!$E472,F$377)","v":0},{"$f":"COUNTIF(Alcance!$E472,G$377)","v":0},{"$f":"COUNTIF(Alcance!$E472,H$377)","v":0},0,1,0]
["Nutrientes",null,"Nitrógeno Amoniacal",null,{"$f":"COUNTIF(Alcance!$E473,E$377)","v":0},{"$f":"COUNTIF(Alcance!$E473,F$377)","v":0},{"$f":"COUNTIF(Alcance!$E473,G$377)","v":0},{"$f":"COUNTIF(Alcance!$E473,H$377)","v":0},0,1,0]
["Nutrientes",null,"Nitrogeno Organico",null,{"$f":"COUNTIF(Alcance!$E474,E$377)","v":0},{"$f":"COUNTIF(Alcance!$E474,F$377)","v":0},{"$f":"COUNTIF(Alcance!$E474,G$377)","v":0},{"$f":"COUNTIF(Alcance!$E474,H$377)","v":0},0,1,0]
["Nutrientes",null,"Nitrógeno  Kjeldahl",null,{"$f":"COUNTIF(Alcance!$E475,E$377)","v":0},{"$f":"COUNTIF(Alcance!$E475,F$377)","v":0},{"$f":"COUNTIF(Alcance!$E475,G$377)","v":0},{"$f":"COUNTIF(Alcance!$E475,H$377)","v":0},0,2,0]
["Nutrientes",null,"Fósforo reactivo total (leído como ortofosfato)",null,{"$f":"COUNTIF(Alcance!$E476,E$377)","v":0},{"$f":"COUNTIF(Alcance!$E476,F$377)","v":0},{"$f":"COUNTIF(Alcance!$E476,G$377)","v":0},{"$f":"COUNTIF(Alcance!$E476,H$377)","v":0},0,1,0]
["Nutrientes",null,"Fósforo Acido hidrolizable Total (Léido como Ortofosfato)",null,{"$f":"COUNTIF(Alcance!$E477,E$377)","v":0},{"$f":"COUNTIF(Alcance!$E477,F$377)","v":0},{"$f":"COUNTIF(Alcance!$E477,G$377)","v":0},{"$f":"COUNTIF(Alcance!$E477,H$377)","v":0},0,1,0]
["Nutrientes",null,"Fósforo Orgánico total ( a partir del cálculo del fósforo total y fósforo hidrolizable)",null,{"$f":"COUNTIF(Alcance!$E478,E$377)","v":0},{"$f":"COUNTIF(Alcance!$E478,F$377)","v":0},{"$f":"COUNTIF(Alcance!$E478,G$377)","v":0},{"$f":"COUNTIF(Alcance!$E478,H$377)","v":0},0,1,0]
["Nutrientes",null,"Fósforo Total ",null,{"$f":"COUNTIF(Alcance!$E479,E$377)","v":0},{"$f":"COUNTIF(Alcance!$E479,F$377)","v":0},{"$f":"COUNTIF(Alcance!$E479,G$377)","v":0},{"$f":"COUNTIF(Alcance!$E479,H$377)","v":0},0,1,0]
["Nutrientes",null,"Fósforo reactivo Disuelto (leído como Ortofosfatos)",null,{"$f":"COUNTIF(Alcance!$E480,E$377)","v":0},{"$f":"COUNTIF(Alcance!$E480,F$377)","v":0},{"$f":"COUNTIF(Alcance!$E480,G$377)","v":0},{"$f":"COUNTIF(Alcance!$E480,H$377)","v":0},0,1,0]
["Nutrientes",null,"Fósforo Acido Hidrolizable Disuelto (Léido como ortofosfatos)",null,{"$f":"COUNTIF(Alcance!$E481,E$377)","v":0},{"$f":"COUNTIF(Alcance!$E481,F$377)","v":0},{"$f":"COUNTIF(Alcance!$E481,G$377)","v":0},{"$f":"COUNTIF(Alcance!$E481,H$377)","v":0},0,1,0]
["Nutrientes",null,"Fósforo Orgánico Disuelto (a partir del cálculo del Fósforo Disuelto Total y Fósforo Ácido - Hidrolizable Disuelto)",null,{"$f":"COUNTIF(Alcance!$E482,E$377)","v":0},{"$f":"COUNTIF(Alcance!$E482,F$377)","v":0},{"$f":"COUNTIF(Alcance!$E482,G$377)","v":0},{"$f":"COUNTIF(Alcance!$E482,H$377)","v":0},0,1,0]
["Nutrientes",null,"Fósforo Disuelto Total (Leìdo como ortofosfatos)",null,{"$f":"COUNTIF(Alcance!$E483,E$377)","v":0},{"$f":"COUNTIF(Alcance!$E483,F$377)","v":0},{"$f":"COUNTIF(Alcance!$E483,G$377)","v":0},{"$f":"COUNTIF(Alcance!$E483,H$377)","v":0},0,1,0]
["Metales Traza",null,"Aluminio disuelto",null,{"$f":"COUNTIF(Alcance!$E484,E$377)","v":0},{"$f":"COUNTIF(Alcance!$E484,F$377)","v":0},{"$f":"COUNTIF(Alcance!$E484,G$377)","v":0},{"$f":"COUNTIF(Alcance!$E484,H$377)","v":0},0,0.5,0]
["Metales Traza",null,"Aluminio total ",null,{"$f":"COUNTIF(Alcance!$E485,E$377)","v":0},{"$f":"COUNTIF(Alcance!$E485,F$377)","v":0},{"$f":"COUNTIF(Alcance!$E485,G$377)","v":0},{"$f":"COUNTIF(Alcance!$E485,H$377)","v":0},0,0.5,0]
["Metales Traza",null,"Antimonio disuelto",null,{"$f":"COUNTIF(Alcance!$E486,E$377)","v":0},{"$f":"COUNTIF(Alcance!$E486,F$377)","v":0},{"$f":"COUNTIF(Alcance!$E486,G$377)","v":0},{"$f":"COUNTIF(Alcance!$E486,H$377)","v":0},0,0.5,0]
["Metales Traza",null,"Antimonio total",null,{"$f":"COUNTIF(Alcance!$E487,E$377)","v":0},{"$f":"COUNTIF(Alcance!$E487,F$377)","v":0},{"$f":"COUNTIF(Alcance!$E487,G$377)","v":0},{"$f":"COUNTIF(Alcance!$E487,H$377)","v":0},0,0.5,0]
["Metales Traza",null,"Arsénico disuelto",null,{"$f":"COUNTIF(Alcance!$E488,E$377)","v":0},{"$f":"COUNTIF(Alcance!$E488,F$377)","v":0},{"$f":"COUNTIF(Alcance!$E488,G$377)","v":0},{"$f":"COUNTIF(Alcance!$E488,H$377)","v":0},0,1,0]
["Metales Traza",null,"Arsénico total",null,{"$f":"COUNTIF(Alcance!$E489,E$377)","v":0},{"$f":"COUNTIF(Alcance!$E489,F$377)","v":0},{"$f":"COUNTIF(Alcance!$E489,G$377)","v":0},{"$f":"COUNTIF(Alcance!$E489,H$377)","v":0},0,1,0]
["Metales Traza",null,"Berilio disuelto",null,{"$f":"COUNTIF(Alcance!$E490,E$377)","v":0},{"$f":"COUNTIF(Alcance!$E490,F$377)","v":0},{"$f":"COUNTIF(Alcance!$E490,G$377)","v":0},{"$f":"COUNTIF(Alcance!$E490,H$377)","v":0},0,0.5,0]
["Metales Traza",null,"Berilio total",null,{"$f":"COUNTIF(Alcance!$E491,E$377)","v":0},{"$f":"COUNTIF(Alcance!$E491,F$377)","v":0},{"$f":"COUNTIF(Alcance!$E491,G$377)","v":0},{"$f":"COUNTIF(Alcance!$E491,H$377)","v":0},0,0.5,0]
["Metales Traza",null,"Boro disuelto",null,{"$f":"COUNTIF(Alcance!$E492,E$377)","v":0},{"$f":"COUNTIF(Alcance!$E492,F$377)","v":0},{"$f":"COUNTIF(Alcance!$E492,G$377)","v":0},{"$f":"COUNTIF(Alcance!$E492,H$377)","v":0},0,0.5,0]
["Metales Traza",null,"Boro total",null,{"$f":"COUNTIF(Alcance!$E493,E$377)","v":0},{"$f":"COUNTIF(Alcance!$E493,F$377)","v":0},{"$f":"COUNTIF(Alcance!$E493,G$377)","v":0},{"$f":"COUNTIF(Alcance!$E493,H$377)","v":0},0,0.5,0]
["Metales Traza",null,"Cadmio disuelto",null,{"$f":"COUNTIF(Alcance!$E494,E$377)","v":0},{"$f":"COUNTIF(Alcance!$E494,F$377)","v":0},{"$f":"COUNTIF(Alcance!$E494,G$377)","v":0},{"$f":"COUNTIF(Alcance!$E494,H$377)","v":0},0,0.5,0]
["Metales Traza",null,"Cadmio total",null,{"$f":"COUNTIF(Alcance!$E495,E$377)","v":0},{"$f":"COUNTIF(Alcance!$E495,F$377)","v":0},{"$f":"COUNTIF(Alcance!$E495,G$377)","v":0},{"$f":"COUNTIF(Alcance!$E495,H$377)","v":0},0,0.5,0]
["Metales Traza",null,"Cobalto disuelto",null,{"$f":"COUNTIF(Alcance!$E496,E$377)","v":0},{"$f":"COUNTIF(Alcance!$E496,F$377)","v":0},{"$f":"COUNTIF(Alcance!$E496,G$377)","v":0},{"$f":"COUNTIF(Alcance!$E496,H$377)","v":0},0,0.5,0]
["Metales Traza",null,"Cobalto total",null,{"$f":"COUNTIF(Alcance!$E497,E$377)","v":0},{"$f":"COUNTIF(Alcance!$E497,F$377)","v":0},{"$f":"COUNTIF(Alcance!$E497,G$377)","v":0},{"$f":"COUNTIF(Alcance!$E497,H$377)","v":0},0,0.5,0]
["Metales Traza",null,"Cobre disuelto",null,{"$f":"COUNTIF(Alcance!$E498,E$377)","v":0},{"$f":"COUNTIF(Alcance!$E498,F$377)","v":0},{"$f":"COUNTIF(Alcance!$E498,G$377)","v":0},{"$f":"COUNTIF(Alcance!$E498,H$377)","v":0},0,0.5,0]
["Metales Traza",null,"Cobre total",null,{"$f":"COUNTIF(Alcance!$E499,E$377)","v":0},{"$f":"COUNTIF(Alcance!$E499,F$377)","v":0},{"$f":"COUNTIF(Alcance!$E499,G$377)","v":0},{"$f":"COUNTIF(Alcance!$E499,H$377)","v":0},0,0.5,0]
["Metales Traza",null,"Cromo disuelto",null,{"$f":"COUNTIF(Alcance!$E500,E$377)","v":0},{"$f":"COUNTIF(Alcance!$E500,F$377)","v":0},{"$f":"COUNTIF(Alcance!$E500,G$377)","v":0},{"$f":"COUNTIF(Alcance!$E500,H$377)","v":0},0,0.5,0]
["Metales Traza",null,"Cromo total",null,{"$f":"COUNTIF(Alcance!$E501,E$377)","v":0},{"$f":"COUNTIF(Alcance!$E501,F$377)","v":0},{"$f":"COUNTIF(Alcance!$E501,G$377)","v":0},{"$f":"COUNTIF(Alcance!$E501,H$377)","v":0},0,0.5,0]
["Metales Traza",null,"Estroncio disuelto",null,{"$f":"COUNTIF(Alcance!$E502,E$377)","v":0},{"$f":"COUNTIF(Alcance!$E502,F$377)","v":0},{"$f":"COUNTIF(Alcance!$E502,G$377)","v":0},{"$f":"COUNTIF(Alcance!$E502,H$377)","v":0},0,0.5,0]
["Metales Traza",null,"Estroncio total",null,{"$f":"COUNTIF(Alcance!$E503,E$377)","v":0},{"$f":"COUNTIF(Alcance!$E503,F$377)","v":0},{"$f":"COUNTIF(Alcance!$E503,G$377)","v":0},{"$f":"COUNTIF(Alcance!$E503,H$377)","v":0},0,0.5,0]
["Metales Traza",null,"Hierro disuelto",null,{"$f":"COUNTIF(Alcance!$E504,E$377)","v":0},{"$f":"COUNTIF(Alcance!$E504,F$377)","v":0},{"$f":"COUNTIF(Alcance!$E504,G$377)","v":0},{"$f":"COUNTIF(Alcance!$E504,H$377)","v":0},0,0.5,0]
["Metales Traza",null,"Hierro total",null,{"$f":"COUNTIF(Alcance!$E505,E$377)","v":0},{"$f":"COUNTIF(Alcance!$E505,F$377)","v":0},{"$f":"COUNTIF(Alcance!$E505,G$377)","v":0},{"$f":"COUNTIF(Alcance!$E505,H$377)","v":0},0,0.5,0]
["Metales Traza",null,"Litio Disuelto",null,{"$f":"COUNTIF(Alcance!$E506,E$377)","v":0},{"$f":"COUNTIF(Alcance!$E506,F$377)","v":0},{"$f":"COUNTIF(Alcance!$E506,G$377)","v":0},{"$f":"COUNTIF(Alcance!$E506,H$377)","v":0},0,0.5,0]
["Metales Traza",null,"Litio Total",null,{"$f":"COUNTIF(Alcance!$E507,E$377)","v":0},{"$f":"COUNTIF(Alcance!$E507,F$377)","v":0},{"$f":"COUNTIF(Alcance!$E507,G$377)","v":0},{"$f":"COUNTIF(Alcance!$E507,H$377)","v":0},0,0.5,0]
["Metales Traza",null,"Manganeso disuelto",null,{"$f":"COUNTIF(Alcance!$E508,E$377)","v":0},{"$f":"COUNTIF(Alcance!$E508,F$377)","v":0},{"$f":"COUNTIF(Alcance!$E508,G$377)","v":0},{"$f":"COUNTIF(Alcance!$E508,H$377)","v":0},0,0.5,0]
["Metales Traza",null,"Manganeso total",null,{"$f":"COUNTIF(Alcance!$E509,E$377)","v":0},{"$f":"COUNTIF(Alcance!$E509,F$377)","v":0},{"$f":"COUNTIF(Alcance!$E509,G$377)","v":0},{"$f":"COUNTIF(Alcance!$E509,H$377)","v":0},0,0.5,0]
["Metales Traza",null,"Mercurio disuelto",null,{"$f":"COUNTIF(Alcance!$E510,E$377)","v":0},{"$f":"COUNTIF(Alcance!$E510,F$377)","v":0},{"$f":"COUNTIF(Alcance!$E510,G$377)","v":0},{"$f":"COUNTIF(Alcance!$E510,H$377)","v":0},0,1,0]
["Metales Traza",null,"Mercurio total",null,{"$f":"COUNTIF(Alcance!$E511,E$377)","v":0},{"$f":"COUNTIF(Alcance!$E511,F$377)","v":0},{"$f":"COUNTIF(Alcance!$E511,G$377)","v":0},{"$f":"COUNTIF(Alcance!$E511,H$377)","v":0},0,1,0]
["Metales Traza",null,"Molibdeno disuelto",null,{"$f":"COUNTIF(Alcance!$E512,E$377)","v":0},{"$f":"COUNTIF(Alcance!$E512,F$377)","v":0},{"$f":"COUNTIF(Alcance!$E512,G$377)","v":0},{"$f":"COUNTIF(Alcance!$E512,H$377)","v":0},0,0.5,0]
["Metales Traza",null,"Molibdeno total",null,{"$f":"COUNTIF(Alcance!$E513,E$377)","v":0},{"$f":"COUNTIF(Alcance!$E513,F$377)","v":0},{"$f":"COUNTIF(Alcance!$E513,G$377)","v":0},{"$f":"COUNTIF(Alcance!$E513,H$377)","v":0},0,2,0]
["Metales Traza",null,"Níquel disuelto",null,{"$f":"COUNTIF(Alcance!$E514,E$377)","v":0},{"$f":"COUNTIF(Alcance!$E514,F$377)","v":0},{"$f":"COUNTIF(Alcance!$E514,G$377)","v":0},{"$f":"COUNTIF(Alcance!$E514,H$377)","v":0},0,2,0]
["Metales Traza",null,"Níquel total",null,{"$f":"COUNTIF(Alcance!$E515,E$377)","v":0},{"$f":"COUNTIF(Alcance!$E515,F$377)","v":0},{"$f":"COUNTIF(Alcance!$E515,G$377)","v":0},{"$f":"COUNTIF(Alcance!$E515,H$377)","v":0},0,0.5,0]
["Metales Traza",null,"Plata disuelto",null,{"$f":"COUNTIF(Alcance!$E516,E$377)","v":0},{"$f":"COUNTIF(Alcance!$E516,F$377)","v":0},{"$f":"COUNTIF(Alcance!$E516,G$377)","v":0},{"$f":"COUNTIF(Alcance!$E516,H$377)","v":0},0,0.5,0]
["Metales Traza",null,"Plata total",null,{"$f":"COUNTIF(Alcance!$E517,E$377)","v":0},{"$f":"COUNTIF(Alcance!$E517,F$377)","v":0},{"$f":"COUNTIF(Alcance!$E517,G$377)","v":0},{"$f":"COUNTIF(Alcance!$E517,H$377)","v":0},0,0.5,0]
["Metales Traza",null,"Plomo disuelto",null,{"$f":"COUNTIF(Alcance!$E518,E$377)","v":0},{"$f":"COUNTIF(Alcance!$E518,F$377)","v":0},{"$f":"COUNTIF(Alcance!$E518,G$377)","v":0},{"$f":"COUNTIF(Alcance!$E518,H$377)","v":0},0,0.5,0]
["Metales Traza",null,"Plomo total",null,{"$f":"COUNTIF(Alcance!$E519,E$377)","v":0},{"$f":"COUNTIF(Alcance!$E519,F$377)","v":0},{"$f":"COUNTIF(Alcance!$E519,G$377)","v":0},{"$f":"COUNTIF(Alcance!$E519,H$377)","v":0},0,0.5,0]
["Metales Traza",null,"Selenio disuelto",null,{"$f":"COUNTIF(Alcance!$E520,E$377)","v":0},{"$f":"COUNTIF(Alcance!$E520,F$377)","v":0},{"$f":"COUNTIF(Alcance!$E520,G$377)","v":0},{"$f":"COUNTIF(Alcance!$E520,H$377)","v":0},{"$f":"SUM(E444:H444)","v":0},1,{"$f":"I444*J444","v":0}]
["Metales Traza",null,"Selenio total",null,{"$f":"COUNTIF(Alcance!$E521,E$377)","v":0},{"$f":"COUNTIF(Alcance!$E521,F$377)","v":0},{"$f":"COUNTIF(Alcance!$E521,G$377)","v":0},{"$f":"COUNTIF(Alcance!$E521,H$377)","v":0},0,1,0]
["Metales Traza",null,"Talio disuelto",null,{"$f":"COUNTIF(Alcance!$E522,E$377)","v":0},{"$f":"COUNTIF(Alcance!$E522,F$377)","v":0},{"$f":"COUNTIF(Alcance!$E522,G$377)","v":0},{"$f":"COUNTIF(Alcance!$E522,H$377)","v":0},0,0.5,0]
["Metales Traza",null,"Talio total ",null,{"$f":"COUNTIF(Alcance!$E523,E$377)","v":0},{"$f":"COUNTIF(Alcance!$E523,F$377)","v":0},{"$f":"COUNTIF(Alcance!$E523,G$377)","v":0},{"$f":"COUNTIF(Alcance!$E523,H$377)","v":0},0,0.5,0]
["Metales Traza",null,"Titanio disuelto",null,{"$f":"COUNTIF(Alcance!$E524,E$377)","v":0},{"$f":"COUNTIF(Alcance!$E524,F$377)","v":0},{"$f":"COUNTIF(Alcance!$E524,G$377)","v":0},{"$f":"COUNTIF(Alcance!$E524,H$377)","v":0},0,0.5,0]
["Metales Traza",null,"Titanio total",null,{"$f":"COUNTIF(Alcance!$E525,E$377)","v":0},{"$f":"COUNTIF(Alcance!$E525,F$377)","v":0},{"$f":"COUNTIF(Alcance!$E525,G$377)","v":0},{"$f":"COUNTIF(Alcance!$E525,H$377)","v":0},0,0.5,0]
["Metales Traza",null,"Vanadio disuelto",null,{"$f":"COUNTIF(Alcance!$E526,E$377)","v":0},{"$f":"COUNTIF(Alcance!$E526,F$377)","v":0},{"$f":"COUNTIF(Alcance!$E526,G$377)","v":0},{"$f":"COUNTIF(Alcance!$E526,H$377)","v":0},0,0.5,0]
["Metales Traza",null,"Vanadio total",null,{"$f":"COUNTIF(Alcance!$E527,E$377)","v":0},{"$f":"COUNTIF(Alcance!$E527,F$377)","v":0},{"$f":"COUNTIF(Alcance!$E527,G$377)","v":0},{"$f":"COUNTIF(Alcance!$E527,H$377)","v":0},0,0.5,0]
["Metales Traza",null,"Zinc disuelto",null,{"$f":"COUNTIF(Alcance!$E528,E$377)","v":0},{"$f":"COUNTIF(Alcance!$E528,F$377)","v":0},{"$f":"COUNTIF(Alcance!$E528,G$377)","v":0},{"$f":"COUNTIF(Alcance!$E528,H$377)","v":0},0,0.5,0]
["Metales Traza",null,"Zinc total",null,{"$f":"COUNTIF(Alcance!$E529,E$377)","v":0},{"$f":"COUNTIF(Alcance!$E529,F$377)","v":0},{"$f":"COUNTIF(Alcance!$E529,G$377)","v":0},{"$f":"COUNTIF(Alcance!$E529,H$377)","v":0},0,0.5,0]
["Metales Traza",null,"Potasio Disuelto",null,{"$f":"COUNTIF(Alcance!$E530,E$377)","v":0},{"$f":"COUNTIF(Alcance!$E530,F$377)","v":0},{"$f":"COUNTIF(Alcance!$E530,G$377)","v":0},{"$f":"COUNTIF(Alcance!$E530,H$377)","v":0},0,0.5,0]
["Metales Traza",null,"Potasio Total",null,{"$f":"COUNTIF(Alcance!$E531,E$377)","v":0},{"$f":"COUNTIF(Alcance!$E531,F$377)","v":0},{"$f":"COUNTIF(Alcance!$E531,G$377)","v":0},{"$f":"COUNTIF(Alcance!$E531,H$377)","v":0},0,0.5,0]
["Metales Traza",null,"Sodio disuelto",null,{"$f":"COUNTIF(Alcance!$E532,E$377)","v":0},{"$f":"COUNTIF(Alcance!$E532,F$377)","v":0},{"$f":"COUNTIF(Alcance!$E532,G$377)","v":0},{"$f":"COUNTIF(Alcance!$E532,H$377)","v":0},0,0.5,0]
["Metales Traza",null,"Sodio Total",null,{"$f":"COUNTIF(Alcance!$E533,E$377)","v":0},{"$f":"COUNTIF(Alcance!$E533,F$377)","v":0},{"$f":"COUNTIF(Alcance!$E533,G$377)","v":0},{"$f":"COUNTIF(Alcance!$E533,H$377)","v":0},0,0.5,0]
["Metales Traza",null,"Calcio Disuelto",null,{"$f":"COUNTIF(Alcance!$E534,E$377)","v":0},{"$f":"COUNTIF(Alcance!$E534,F$377)","v":0},{"$f":"COUNTIF(Alcance!$E534,G$377)","v":0},{"$f":"COUNTIF(Alcance!$E534,H$377)","v":0},0,0.5,0]
["Metales Traza",null,"Calcio Total",null,{"$f":"COUNTIF(Alcance!$E535,E$377)","v":0},{"$f":"COUNTIF(Alcance!$E535,F$377)","v":0},{"$f":"COUNTIF(Alcance!$E535,G$377)","v":0},{"$f":"COUNTIF(Alcance!$E535,H$377)","v":0},0,0.5,0]
["Metales Traza",null,"Magnesio Disuelto",null,{"$f":"COUNTIF(Alcance!$E536,E$377)","v":0},{"$f":"COUNTIF(Alcance!$E536,F$377)","v":0},{"$f":"COUNTIF(Alcance!$E536,G$377)","v":0},{"$f":"COUNTIF(Alcance!$E536,H$377)","v":0},0,0.5,0]
["Metales Traza",null,"Magnesio Total",null,{"$f":"COUNTIF(Alcance!$E537,E$377)","v":0},{"$f":"COUNTIF(Alcance!$E537,F$377)","v":0},{"$f":"COUNTIF(Alcance!$E537,G$377)","v":0},{"$f":"COUNTIF(Alcance!$E537,H$377)","v":0},0,0.5,0]
["Cromo VI",null,"Cromo VI",null,{"$f":"COUNTIF(Alcance!$E538,E$377)","v":0},{"$f":"COUNTIF(Alcance!$E538,F$377)","v":0},{"$f":"COUNTIF(Alcance!$E538,G$377)","v":0},{"$f":"COUNTIF(Alcance!$E538,H$377)","v":0},0,1,0]
["Bario y Estaño",null,"Bario Disuelto",null,{"$f":"COUNTIF(Alcance!$E539,E$377)","v":0},{"$f":"COUNTIF(Alcance!$E539,F$377)","v":0},{"$f":"COUNTIF(Alcance!$E539,G$377)","v":0},{"$f":"COUNTIF(Alcance!$E539,H$377)","v":0},0,0.5,0]
["Bario y Estaño",null,"Bario Total",null,{"$f":"COUNTIF(Alcance!$E540,E$377)","v":0},{"$f":"COUNTIF(Alcance!$E540,F$377)","v":0},{"$f":"COUNTIF(Alcance!$E540,G$377)","v":0},{"$f":"COUNTIF(Alcance!$E540,H$377)","v":0},0,1,0]
["Bario y Estaño",null,"Estaño Disuelto",null,{"$f":"COUNTIF(Alcance!$E541,E$377)","v":0},{"$f":"COUNTIF(Alcance!$E541,F$377)","v":0},{"$f":"COUNTIF(Alcance!$E541,G$377)","v":0},{"$f":"COUNTIF(Alcance!$E541,H$377)","v":0},0,0.5,0]
["Bario y Estaño",null,"Estaño Total",null,{"$f":"COUNTIF(Alcance!$E542,E$377)","v":0},{"$f":"COUNTIF(Alcance!$E542,F$377)","v":0},{"$f":"COUNTIF(Alcance!$E542,G$377)","v":0},{"$f":"COUNTIF(Alcance!$E542,H$377)","v":0},0,1,0]
["Silice",null,"Silice Disuelto",null,{"$f":"COUNTIF(Alcance!$E543,E$377)","v":0},{"$f":"COUNTIF(Alcance!$E543,F$377)","v":0},{"$f":"COUNTIF(Alcance!$E543,G$377)","v":0},{"$f":"COUNTIF(Alcance!$E543,H$377)","v":0},0,0.5,{"$f":"I467*J467","v":0}]
["Silice",null,"Silicie Total",null,{"$f":"COUNTIF(Alcance!$E544,E$377)","v":0},{"$f":"COUNTIF(Alcance!$E544,F$377)","v":0},{"$f":"COUNTIF(Alcance!$E544,G$377)","v":0},{"$f":"COUNTIF(Alcance!$E544,H$377)","v":0},0,1,{"$f":"I468*J468","v":0}]
["Sólidos o Residuos",null,"Sólidos Suspendidos Totales",null,{"$f":"COUNTIF(Alcance!$E545,E$377)","v":0},{"$f":"COUNTIF(Alcance!$E545,F$377)","v":0},{"$f":"COUNTIF(Alcance!$E545,G$377)","v":0},{"$f":"COUNTIF(Alcance!$E545,H$377)","v":0},0,1,0]
["Sólidos o Residuos",null,"Sólidos Disueltos Totales",null,{"$f":"COUNTIF(Alcance!$E546,E$377)","v":0},{"$f":"COUNTIF(Alcance!$E546,F$377)","v":0},{"$f":"COUNTIF(Alcance!$E546,G$377)","v":0},{"$f":"COUNTIF(Alcance!$E546,H$377)","v":0},0,1,0]
["Sólidos o Residuos",null,"Sólidos Totales",null,{"$f":"COUNTIF(Alcance!$E547,E$377)","v":0},{"$f":"COUNTIF(Alcance!$E547,F$377)","v":0},{"$f":"COUNTIF(Alcance!$E547,G$377)","v":0},{"$f":"COUNTIF(Alcance!$E547,H$377)","v":0},0,1,0]
["Sólidos o Residuos",null,"Sólidos sedimentables",null,{"$f":"COUNTIF(Alcance!$E548,E$377)","v":0},{"$f":"COUNTIF(Alcance!$E548,F$377)","v":0},{"$f":"COUNTIF(Alcance!$E548,G$377)","v":0},{"$f":"COUNTIF(Alcance!$E548,H$377)","v":0},0,1,0]
["Sólidos o Residuos",null,"Sólidos Fijos",null,{"$f":"COUNTIF(Alcance!$E549,E$377)","v":0},{"$f":"COUNTIF(Alcance!$E549,F$377)","v":0},{"$f":"COUNTIF(Alcance!$E549,G$377)","v":0},{"$f":"COUNTIF(Alcance!$E549,H$377)","v":0},0,1,0]
["Sólidos o Residuos",null,"Sólidos Suspendidos Volátiles ",null,{"$f":"COUNTIF(Alcance!$E550,E$377)","v":0},{"$f":"COUNTIF(Alcance!$E550,F$377)","v":0},{"$f":"COUNTIF(Alcance!$E550,G$377)","v":0},{"$f":"COUNTIF(Alcance!$E550,H$377)","v":0},0,1,0]
["Sólidos o Residuos",null,"Sólidos Totales Volátiles ",null,{"$f":"COUNTIF(Alcance!$E551,E$377)","v":0},{"$f":"COUNTIF(Alcance!$E551,F$377)","v":0},{"$f":"COUNTIF(Alcance!$E551,G$377)","v":0},{"$f":"COUNTIF(Alcance!$E551,H$377)","v":0},0,1,0]
["Sólidos o Residuos",null,"Sólidos volátiles",null,{"$f":"COUNTIF(Alcance!$E552,E$377)","v":0},{"$f":"COUNTIF(Alcance!$E552,F$377)","v":0},{"$f":"COUNTIF(Alcance!$E552,G$377)","v":0},{"$f":"COUNTIF(Alcance!$E552,H$377)","v":0},0,1,0]
["Microbiológico",null,"Coliformes Termotolerantes (anteriormente Coliformes fecales)",null,{"$f":"COUNTIF(Alcance!$E553,E$377)","v":0},{"$f":"COUNTIF(Alcance!$E553,F$377)","v":0},{"$f":"COUNTIF(Alcance!$E553,G$377)","v":0},{"$f":"COUNTIF(Alcance!$E553,H$377)","v":0},0,1.5,0]
["Microbiológico",null,"Coliformes Totales",null,{"$f":"COUNTIF(Alcance!$E554,E$377)","v":0},{"$f":"COUNTIF(Alcance!$E554,F$377)","v":0},{"$f":"COUNTIF(Alcance!$E554,G$377)","v":0},{"$f":"COUNTIF(Alcance!$E554,H$377)","v":0},0,1.5,0]
["Microbiológico",null,"Escherichia coli",null,{"$f":"COUNTIF(Alcance!$E555,E$377)","v":0},{"$f":"COUNTIF(Alcance!$E555,F$377)","v":0},{"$f":"COUNTIF(Alcance!$E555,G$377)","v":0},{"$f":"COUNTIF(Alcance!$E555,H$377)","v":0},0,1.5,0]
["Microbiológico",null,"Bacterias Sulfato Reductoras",null,{"$f":"COUNTIF(Alcance!$E556,E$377)","v":0},{"$f":"COUNTIF(Alcance!$E556,F$377)","v":0},{"$f":"COUNTIF(Alcance!$E556,G$377)","v":0},{"$f":"COUNTIF(Alcance!$E556,H$377)","v":0},0,1.5,0]
["Microbiológico",null,"Clostridium Sulfito Reductor",null,{"$f":"COUNTIF(Alcance!$E557,E$377)","v":0},{"$f":"COUNTIF(Alcance!$E557,F$377)","v":0},{"$f":"COUNTIF(Alcance!$E557,G$377)","v":0},{"$f":"COUNTIF(Alcance!$E557,H$377)","v":0},0,1.5,0]
["Microbiológico",null,"Estreptococos fecal y Enterococcus",null,{"$f":"COUNTIF(Alcance!$E558,E$377)","v":0},{"$f":"COUNTIF(Alcance!$E558,F$377)","v":0},{"$f":"COUNTIF(Alcance!$E558,G$377)","v":0},{"$f":"COUNTIF(Alcance!$E558,H$377)","v":0},0,1.5,0]
["Microbiológico",null,"Hongos y Levaduras",null,{"$f":"COUNTIF(Alcance!$E559,E$377)","v":0},{"$f":"COUNTIF(Alcance!$E559,F$377)","v":0},{"$f":"COUNTIF(Alcance!$E559,G$377)","v":0},{"$f":"COUNTIF(Alcance!$E559,H$377)","v":0},0,1.5,0]
["Microbiológico",null,"Huevos de Helmintos",null,{"$f":"COUNTIF(Alcance!$E560,E$377)","v":0},{"$f":"COUNTIF(Alcance!$E560,F$377)","v":0},{"$f":"COUNTIF(Alcance!$E560,G$377)","v":0},{"$f":"COUNTIF(Alcance!$E560,H$377)","v":0},0,1.5,0]
["Microbiológico",null,"Pseudomonas aeruginosa",null,{"$f":"COUNTIF(Alcance!$E561,E$377)","v":0},{"$f":"COUNTIF(Alcance!$E561,F$377)","v":0},{"$f":"COUNTIF(Alcance!$E561,G$377)","v":0},{"$f":"COUNTIF(Alcance!$E561,H$377)","v":0},0,1.5,0]
["Microbiológico",null,"Recuento de Bacterias Heterótrofas",null,{"$f":"COUNTIF(Alcance!$E562,E$377)","v":0},{"$f":"COUNTIF(Alcance!$E562,F$377)","v":0},{"$f":"COUNTIF(Alcance!$E562,G$377)","v":0},{"$f":"COUNTIF(Alcance!$E562,H$377)","v":0},0,1.5,0]
["Microbiológico",null,"Salmonella sp",null,{"$f":"COUNTIF(Alcance!$E563,E$377)","v":0},{"$f":"COUNTIF(Alcance!$E563,F$377)","v":0},{"$f":"COUNTIF(Alcance!$E563,G$377)","v":0},{"$f":"COUNTIF(Alcance!$E563,H$377)","v":0},0,1.5,0]
["Microbiológico",null,"Giardia y Cryptosporidium",null,{"$f":"COUNTIF(Alcance!$E564,E$377)","v":0},{"$f":"COUNTIF(Alcance!$E564,F$377)","v":0},{"$f":"COUNTIF(Alcance!$E564,G$377)","v":0},{"$f":"COUNTIF(Alcance!$E564,H$377)","v":0},0,1.5,0]
["Microbiológico",null,"Mesófilos Aerobios",null,{"$f":"COUNTIF(Alcance!$E565,E$377)","v":0},{"$f":"COUNTIF(Alcance!$E565,F$377)","v":0},{"$f":"COUNTIF(Alcance!$E565,G$377)","v":0},{"$f":"COUNTIF(Alcance!$E565,H$377)","v":0},0,1.5,0]
["Demandas",null,"DBO (5 días)",null,{"$f":"COUNTIF(Alcance!$E566,E$377)","v":0},{"$f":"COUNTIF(Alcance!$E566,F$377)","v":0},{"$f":"COUNTIF(Alcance!$E566,G$377)","v":0},{"$f":"COUNTIF(Alcance!$E566,H$377)","v":0},0,1,0]
["Demandas",null,"DQO",null,{"$f":"COUNTIF(Alcance!$E567,E$377)","v":0},{"$f":"COUNTIF(Alcance!$E567,F$377)","v":0},{"$f":"COUNTIF(Alcance!$E567,G$377)","v":0},{"$f":"COUNTIF(Alcance!$E567,H$377)","v":0},0,1,0]
["Demandas",null,"COT",null,{"$f":"COUNTIF(Alcance!$E568,E$377)","v":0},{"$f":"COUNTIF(Alcance!$E568,F$377)","v":0},{"$f":"COUNTIF(Alcance!$E568,G$377)","v":0},{"$f":"COUNTIF(Alcance!$E568,H$377)","v":0},0,1,0]
["Boro (Colorimétrico)",null,"Boro",null,{"$f":"COUNTIF(Alcance!$E569,E$377)","v":0},{"$f":"COUNTIF(Alcance!$E569,F$377)","v":0},{"$f":"COUNTIF(Alcance!$E569,G$377)","v":0},{"$f":"COUNTIF(Alcance!$E569,H$377)","v":0},0,1,0]
["Sulfuro",null,"Sulfuro",null,{"$f":"COUNTIF(Alcance!$E570,E$377)","v":0},{"$f":"COUNTIF(Alcance!$E570,F$377)","v":0},{"$f":"COUNTIF(Alcance!$E570,G$377)","v":0},{"$f":"COUNTIF(Alcance!$E570,H$377)","v":0},0,1,0]
["Silicio",null,"Silicio",null,{"$f":"COUNTIF(Alcance!$E571,E$377)","v":0},{"$f":"COUNTIF(Alcance!$E571,F$377)","v":0},{"$f":"COUNTIF(Alcance!$E571,G$377)","v":0},{"$f":"COUNTIF(Alcance!$E571,H$377)","v":0},0,1,0]
["Turbidez",null,"Turbidez",null,{"$f":"COUNTIF(Alcance!$E572,E$377)","v":0},{"$f":"COUNTIF(Alcance!$E572,F$377)","v":0},{"$f":"COUNTIF(Alcance!$E572,G$377)","v":0},{"$f":"COUNTIF(Alcance!$E572,H$377)","v":0},0,1,0]
["Acidez",null,"Acidez",null,{"$f":"COUNTIF(Alcance!$E573,E$377)","v":0},{"$f":"COUNTIF(Alcance!$E573,F$377)","v":0},{"$f":"COUNTIF(Alcance!$E573,G$377)","v":0},{"$f":"COUNTIF(Alcance!$E573,H$377)","v":0},0,1,0]
["Cianuro",null,"Cianuro Total",null,{"$f":"COUNTIF(Alcance!$E574,E$377)","v":0},{"$f":"COUNTIF(Alcance!$E574,F$377)","v":0},{"$f":"COUNTIF(Alcance!$E574,G$377)","v":0},{"$f":"COUNTIF(Alcance!$E574,H$377)","v":0},0,2,0]
["Cianuro",null," Cianuro disociable en acido debil",null,{"$f":"COUNTIF(Alcance!$E575,E$377)","v":0},{"$f":"COUNTIF(Alcance!$E575,F$377)","v":0},{"$f":"COUNTIF(Alcance!$E575,G$377)","v":0},{"$f":"COUNTIF(Alcance!$E575,H$377)","v":0},0,2,0]
["Cianuro",null,"Cianuro Disuelto",null,{"$f":"COUNTIF(Alcance!$E576,E$377)","v":0},{"$f":"COUNTIF(Alcance!$E576,F$377)","v":0},{"$f":"COUNTIF(Alcance!$E576,G$377)","v":0},{"$f":"COUNTIF(Alcance!$E576,H$377)","v":0},0,2,0]
["Fenoles ",null,"Fenoles ",null,{"$f":"COUNTIF(Alcance!$E577,E$377)","v":0},{"$f":"COUNTIF(Alcance!$E577,F$377)","v":0},{"$f":"COUNTIF(Alcance!$E577,G$377)","v":0},{"$f":"COUNTIF(Alcance!$E577,H$377)","v":0},0,2,0]
["Surfactantes",null,"Surfactantes Aniónicos como SAAM",null,{"$f":"COUNTIF(Alcance!$E578,E$377)","v":0},{"$f":"COUNTIF(Alcance!$E578,F$377)","v":0},{"$f":"COUNTIF(Alcance!$E578,G$377)","v":0},{"$f":"COUNTIF(Alcance!$E578,H$377)","v":0},0,1,0]
["Color",null,"Color ( Longitud de onda simple )",null,{"$f":"COUNTIF(Alcance!$E579,E$377)","v":0},{"$f":"COUNTIF(Alcance!$E579,F$377)","v":0},{"$f":"COUNTIF(Alcance!$E579,G$377)","v":0},{"$f":"COUNTIF(Alcance!$E579,H$377)","v":0},0,1,0]
["Color",null,"Color  real (3 longitudes de onda)",null,{"$f":"COUNTIF(Alcance!$E580,E$377)","v":0},{"$f":"COUNTIF(Alcance!$E580,F$377)","v":0},{"$f":"COUNTIF(Alcance!$E580,G$377)","v":0},{"$f":"COUNTIF(Alcance!$E580,H$377)","v":0},0,1,0]
["Salinidad",null,"Salinidad",null,{"$f":"COUNTIF(Alcance!$E581,E$377)","v":0},{"$f":"COUNTIF(Alcance!$E581,F$377)","v":0},{"$f":"COUNTIF(Alcance!$E581,G$377)","v":0},{"$f":"COUNTIF(Alcance!$E581,H$377)","v":0},0,1,0]
["Grasas y Aceites",null,"Grasas y Aceites",null,{"$f":"COUNTIF(Alcance!$E582,E$377)","v":0},{"$f":"COUNTIF(Alcance!$E582,F$377)","v":0},{"$f":"COUNTIF(Alcance!$E582,G$377)","v":0},{"$f":"COUNTIF(Alcance!$E582,H$377)","v":0},0,1,0]
["Compuestos Orgánicos Volátiles",null,"Acetona ",null,{"$f":"COUNTIF(Alcance!$E583,E$377)","v":0},{"$f":"COUNTIF(Alcance!$E583,F$377)","v":0},{"$f":"COUNTIF(Alcance!$E583,G$377)","v":0},{"$f":"COUNTIF(Alcance!$E583,H$377)","v":0},0,0.5,0]
["Compuestos Orgánicos Volátiles",null,"Acetonitrilo",null,{"$f":"COUNTIF(Alcance!$E584,E$377)","v":0},{"$f":"COUNTIF(Alcance!$E584,F$377)","v":0},{"$f":"COUNTIF(Alcance!$E584,G$377)","v":0},{"$f":"COUNTIF(Alcance!$E584,H$377)","v":0},0,0.5,0]
["Compuestos Orgánicos Volátiles",null,"Acroleina ",null,{"$f":"COUNTIF(Alcance!$E585,E$377)","v":0},{"$f":"COUNTIF(Alcance!$E585,F$377)","v":0},{"$f":"COUNTIF(Alcance!$E585,G$377)","v":0},{"$f":"COUNTIF(Alcance!$E585,H$377)","v":0},0,0.5,0]
["Compuestos Orgánicos Volátiles",null,"Acrilonitrilo",null,{"$f":"COUNTIF(Alcance!$E586,E$377)","v":0},{"$f":"COUNTIF(Alcance!$E586,F$377)","v":0},{"$f":"COUNTIF(Alcance!$E586,G$377)","v":0},{"$f":"COUNTIF(Alcance!$E586,H$377)","v":0},0,0.5,0]
["Compuestos Orgánicos Volátiles",null,"Cloruro de bencilo",null,{"$f":"COUNTIF(Alcance!$E587,E$377)","v":0},{"$f":"COUNTIF(Alcance!$E587,F$377)","v":0},{"$f":"COUNTIF(Alcance!$E587,G$377)","v":0},{"$f":"COUNTIF(Alcance!$E587,H$377)","v":0},0,0.5,0]
["Compuestos Orgánicos Volátiles",null,"Bromoclorometano",null,{"$f":"COUNTIF(Alcance!$E588,E$377)","v":0},{"$f":"COUNTIF(Alcance!$E588,F$377)","v":0},{"$f":"COUNTIF(Alcance!$E588,G$377)","v":0},{"$f":"COUNTIF(Alcance!$E588,H$377)","v":0},0,0.5,0]
["Compuestos Orgánicos Volátiles",null,"Bromodiclorometano",null,{"$f":"COUNTIF(Alcance!$E589,E$377)","v":0},{"$f":"COUNTIF(Alcance!$E589,F$377)","v":0},{"$f":"COUNTIF(Alcance!$E589,G$377)","v":0},{"$f":"COUNTIF(Alcance!$E589,H$377)","v":0},0,0.5,0]
["Compuestos Orgánicos Volátiles",null,"4-Bromofluorobenceno",null,{"$f":"COUNTIF(Alcance!$E590,E$377)","v":0},{"$f":"COUNTIF(Alcance!$E590,F$377)","v":0},{"$f":"COUNTIF(Alcance!$E590,G$377)","v":0},{"$f":"COUNTIF(Alcance!$E590,H$377)","v":0},0,0.5,0]
["Compuestos Orgánicos Volátiles",null,"Bromoformo ",null,{"$f":"COUNTIF(Alcance!$E591,E$377)","v":0},{"$f":"COUNTIF(Alcance!$E591,F$377)","v":0},{"$f":"COUNTIF(Alcance!$E591,G$377)","v":0},{"$f":"COUNTIF(Alcance!$E591,H$377)","v":0},0,0.5,0]
["Compuestos Orgánicos Volátiles",null,"Bromometano ",null,{"$f":"COUNTIF(Alcance!$E592,E$377)","v":0},{"$f":"COUNTIF(Alcance!$E592,F$377)","v":0},{"$f":"COUNTIF(Alcance!$E592,G$377)","v":0},{"$f":"COUNTIF(Alcance!$E592,H$377)","v":0},0,0.5,0]
["Compuestos Orgánicos Volátiles",null,"n-Butanol",null,{"$f":"COUNTIF(Alcance!$E593,E$377)","v":0},{"$f":"COUNTIF(Alcance!$E593,F$377)","v":0},{"$f":"COUNTIF(Alcance!$E593,G$377)","v":0},{"$f":"COUNTIF(Alcance!$E593,H$377)","v":0},0,0.5,0]
["Compuestos Orgánicos Volátiles",null,"2-Butanona",null,{"$f":"COUNTIF(Alcance!$E594,E$377)","v":0},{"$f":"COUNTIF(Alcance!$E594,F$377)","v":0},{"$f":"COUNTIF(Alcance!$E594,G$377)","v":0},{"$f":"COUNTIF(Alcance!$E594,H$377)","v":0},0,0.5,0]
["Compuestos Orgánicos Volátiles",null,"Disulfuro de carbono",null,{"$f":"COUNTIF(Alcance!$E595,E$377)","v":0},{"$f":"COUNTIF(Alcance!$E595,F$377)","v":0},{"$f":"COUNTIF(Alcance!$E595,G$377)","v":0},{"$f":"COUNTIF(Alcance!$E595,H$377)","v":0},0,0.5,0]
["Compuestos Orgánicos Volátiles",null,"Tetracloruro de carbon",null,{"$f":"COUNTIF(Alcance!$E596,E$377)","v":0},{"$f":"COUNTIF(Alcance!$E596,F$377)","v":0},{"$f":"COUNTIF(Alcance!$E596,G$377)","v":0},{"$f":"COUNTIF(Alcance!$E596,H$377)","v":0},0,0.5,0]
["Compuestos Orgánicos Volátiles",null,"Clorobenceno ",null,{"$f":"COUNTIF(Alcance!$E597,E$377)","v":0},{"$f":"COUNTIF(Alcance!$E597,F$377)","v":0},{"$f":"COUNTIF(Alcance!$E597,G$377)","v":0},{"$f":"COUNTIF(Alcance!$E597,H$377)","v":0},0,0.5,0]
["Compuestos Orgánicos Volátiles",null,"Clorodibromometano",null,{"$f":"COUNTIF(Alcance!$E598,E$377)","v":0},{"$f":"COUNTIF(Alcance!$E598,F$377)","v":0},{"$f":"COUNTIF(Alcance!$E598,G$377)","v":0},{"$f":"COUNTIF(Alcance!$E598,H$377)","v":0},0,0.5,0]
["Compuestos Orgánicos Volátiles",null,"Cloroetano",null,{"$f":"COUNTIF(Alcance!$E599,E$377)","v":0},{"$f":"COUNTIF(Alcance!$E599,F$377)","v":0},{"$f":"COUNTIF(Alcance!$E599,G$377)","v":0},{"$f":"COUNTIF(Alcance!$E599,H$377)","v":0},{"$f":"SUM(E523:H523)","v":0},0.5,0]
["Compuestos Orgánicos Volátiles",null,"2-Cloroetanol",null,{"$f":"COUNTIF(Alcance!$E600,E$377)","v":0},{"$f":"COUNTIF(Alcance!$E600,F$377)","v":0},{"$f":"COUNTIF(Alcance!$E600,G$377)","v":0},{"$f":"COUNTIF(Alcance!$E600,H$377)","v":0},0,0.5,0]
["Compuestos Orgánicos Volátiles",null,"2-Cloroetil vinil éter",null,{"$f":"COUNTIF(Alcance!$E601,E$377)","v":0},{"$f":"COUNTIF(Alcance!$E601,F$377)","v":0},{"$f":"COUNTIF(Alcance!$E601,G$377)","v":0},{"$f":"COUNTIF(Alcance!$E601,H$377)","v":0},0,0.5,0]
["Compuestos Orgánicos Volátiles",null,"Cloroformo ",null,{"$f":"COUNTIF(Alcance!$E602,E$377)","v":0},{"$f":"COUNTIF(Alcance!$E602,F$377)","v":0},{"$f":"COUNTIF(Alcance!$E602,G$377)","v":0},{"$f":"COUNTIF(Alcance!$E602,H$377)","v":0},0,0.5,0]
["Compuestos Orgánicos Volátiles",null,"Clorometano ",null,{"$f":"COUNTIF(Alcance!$E603,E$377)","v":0},{"$f":"COUNTIF(Alcance!$E603,F$377)","v":0},{"$f":"COUNTIF(Alcance!$E603,G$377)","v":0},{"$f":"COUNTIF(Alcance!$E603,H$377)","v":0},0,0.5,0]
["Compuestos Orgánicos Volátiles",null,"1,2-Dibromo-3-cloropropano",null,{"$f":"COUNTIF(Alcance!$E604,E$377)","v":0},{"$f":"COUNTIF(Alcance!$E604,F$377)","v":0},{"$f":"COUNTIF(Alcance!$E604,G$377)","v":0},{"$f":"COUNTIF(Alcance!$E604,H$377)","v":0},0,0.5,0]
["Compuestos Orgánicos Volátiles",null,"1,2-Dibromoetano",null,{"$f":"COUNTIF(Alcance!$E605,E$377)","v":0},{"$f":"COUNTIF(Alcance!$E605,F$377)","v":0},{"$f":"COUNTIF(Alcance!$E605,G$377)","v":0},{"$f":"COUNTIF(Alcance!$E605,H$377)","v":0},0,0.5,0]
["Compuestos Orgánicos Volátiles",null,"Dibromometano",null,{"$f":"COUNTIF(Alcance!$E606,E$377)","v":0},{"$f":"COUNTIF(Alcance!$E606,F$377)","v":0},{"$f":"COUNTIF(Alcance!$E606,G$377)","v":0},{"$f":"COUNTIF(Alcance!$E606,H$377)","v":0},0,0.5,0]
["Compuestos Orgánicos Volátiles",null,"1,2-Diclorobenceno",null,{"$f":"COUNTIF(Alcance!$E607,E$377)","v":0},{"$f":"COUNTIF(Alcance!$E607,F$377)","v":0},{"$f":"COUNTIF(Alcance!$E607,G$377)","v":0},{"$f":"COUNTIF(Alcance!$E607,H$377)","v":0},0,0.5,0]
["Compuestos Orgánicos Volátiles",null,"1,3-Diclorobenceno ",null,{"$f":"COUNTIF(Alcance!$E608,E$377)","v":0},{"$f":"COUNTIF(Alcance!$E608,F$377)","v":0},{"$f":"COUNTIF(Alcance!$E608,G$377)","v":0},{"$f":"COUNTIF(Alcance!$E608,H$377)","v":0},0,0.5,0]
["Compuestos Orgánicos Volátiles",null,"1,4-Diclorobenceno",null,{"$f":"COUNTIF(Alcance!$E609,E$377)","v":0},{"$f":"COUNTIF(Alcance!$E609,F$377)","v":0},{"$f":"COUNTIF(Alcance!$E609,G$377)","v":0},{"$f":"COUNTIF(Alcance!$E609,H$377)","v":0},0,0.5,0]
["Compuestos Orgánicos Volátiles",null,"cis-1,4-Dicloro-2-butano",null,{"$f":"COUNTIF(Alcance!$E610,E$377)","v":0},{"$f":"COUNTIF(Alcance!$E610,F$377)","v":0},{"$f":"COUNTIF(Alcance!$E610,G$377)","v":0},{"$f":"COUNTIF(Alcance!$E610,H$377)","v":0},0,0.5,0]
["Compuestos Orgánicos Volátiles",null,"trans-1,4-Dicloro-2-butano",null,{"$f":"COUNTIF(Alcance!$E611,E$377)","v":0},{"$f":"COUNTIF(Alcance!$E611,F$377)","v":0},{"$f":"COUNTIF(Alcance!$E611,G$377)","v":0},{"$f":"COUNTIF(Alcance!$E611,H$377)","v":0},0,0.5,0]
["Compuestos Orgánicos Volátiles",null,"Diclorodifluorometano",null,{"$f":"COUNTIF(Alcance!$E612,E$377)","v":0},{"$f":"COUNTIF(Alcance!$E612,F$377)","v":0},{"$f":"COUNTIF(Alcance!$E612,G$377)","v":0},{"$f":"COUNTIF(Alcance!$E612,H$377)","v":0},0,0.5,0]
["Compuestos Orgánicos Volátiles",null,"1,1-Dicloroetano",null,{"$f":"COUNTIF(Alcance!$E613,E$377)","v":0},{"$f":"COUNTIF(Alcance!$E613,F$377)","v":0},{"$f":"COUNTIF(Alcance!$E613,G$377)","v":0},{"$f":"COUNTIF(Alcance!$E613,H$377)","v":0},0,0.5,0]
["Compuestos Orgánicos Volátiles",null,"1,2-Dicloroetano",null,{"$f":"COUNTIF(Alcance!$E614,E$377)","v":0},{"$f":"COUNTIF(Alcance!$E614,F$377)","v":0},{"$f":"COUNTIF(Alcance!$E614,G$377)","v":0},{"$f":"COUNTIF(Alcance!$E614,H$377)","v":0},0,0.5,0]
["Compuestos Orgánicos Volátiles",null,"trans-1,2-Dicloroetano",null,{"$f":"COUNTIF(Alcance!$E615,E$377)","v":0},{"$f":"COUNTIF(Alcance!$E615,F$377)","v":0},{"$f":"COUNTIF(Alcance!$E615,G$377)","v":0},{"$f":"COUNTIF(Alcance!$E615,H$377)","v":0},0,0.5,0]
["Compuestos Orgánicos Volátiles",null,"1,2-Dicloropropano",null,{"$f":"COUNTIF(Alcance!$E616,E$377)","v":0},{"$f":"COUNTIF(Alcance!$E616,F$377)","v":0},{"$f":"COUNTIF(Alcance!$E616,G$377)","v":0},{"$f":"COUNTIF(Alcance!$E616,H$377)","v":0},0,0.5,0]
["Compuestos Orgánicos Volátiles",null,"1,3-Dicloro-2-propanol",null,{"$f":"COUNTIF(Alcance!$E617,E$377)","v":0},{"$f":"COUNTIF(Alcance!$E617,F$377)","v":0},{"$f":"COUNTIF(Alcance!$E617,G$377)","v":0},{"$f":"COUNTIF(Alcance!$E617,H$377)","v":0},0,0.5,0]
["Compuestos Orgánicos Volátiles",null,"Cis-1,3-Dicloropropano",null,{"$f":"COUNTIF(Alcance!$E618,E$377)","v":0},{"$f":"COUNTIF(Alcance!$E618,F$377)","v":0},{"$f":"COUNTIF(Alcance!$E618,G$377)","v":0},{"$f":"COUNTIF(Alcance!$E618,H$377)","v":0},0,0.5,0]
["Compuestos Orgánicos Volátiles",null,"Trans-1,3-Dicloropropano",null,{"$f":"COUNTIF(Alcance!$E619,E$377)","v":0},{"$f":"COUNTIF(Alcance!$E619,F$377)","v":0},{"$f":"COUNTIF(Alcance!$E619,G$377)","v":0},{"$f":"COUNTIF(Alcance!$E619,H$377)","v":0},0,0.5,0]
["Compuestos Orgánicos Volátiles",null,"Dietil Eter",null,{"$f":"COUNTIF(Alcance!$E620,E$377)","v":0},{"$f":"COUNTIF(Alcance!$E620,F$377)","v":0},{"$f":"COUNTIF(Alcance!$E620,G$377)","v":0},{"$f":"COUNTIF(Alcance!$E620,H$377)","v":0},0,0.5,0]
["Compuestos Orgánicos Volátiles",null,"Etil terc-butil éter",null,{"$f":"COUNTIF(Alcance!$E621,E$377)","v":0},{"$f":"COUNTIF(Alcance!$E621,F$377)","v":0},{"$f":"COUNTIF(Alcance!$E621,G$377)","v":0},{"$f":"COUNTIF(Alcance!$E621,H$377)","v":0},0,0.5,0]
["Compuestos Orgánicos Volátiles",null,"Hexaclorobutadieno",null,{"$f":"COUNTIF(Alcance!$E622,E$377)","v":0},{"$f":"COUNTIF(Alcance!$E622,F$377)","v":0},{"$f":"COUNTIF(Alcance!$E622,G$377)","v":0},{"$f":"COUNTIF(Alcance!$E622,H$377)","v":0},0,0.5,0]
["Compuestos Orgánicos Volátiles",null,"Hexacloroetano",null,{"$f":"COUNTIF(Alcance!$E623,E$377)","v":0},{"$f":"COUNTIF(Alcance!$E623,F$377)","v":0},{"$f":"COUNTIF(Alcance!$E623,G$377)","v":0},{"$f":"COUNTIF(Alcance!$E623,H$377)","v":0},0,0.5,{"$f":"I547*J547","v":0}]
["Compuestos Orgánicos Volátiles",null,"Alcohol Isobutílico",null,{"$f":"COUNTIF(Alcance!$E624,E$377)","v":0},{"$f":"COUNTIF(Alcance!$E624,F$377)","v":0},{"$f":"COUNTIF(Alcance!$E624,G$377)","v":0},{"$f":"COUNTIF(Alcance!$E624,H$377)","v":0},0,0.5,0]
["Compuestos Orgánicos Volátiles",null,"Cloruro de metileno",null,{"$f":"COUNTIF(Alcance!$E625,E$377)","v":0},{"$f":"COUNTIF(Alcance!$E625,F$377)","v":0},{"$f":"COUNTIF(Alcance!$E625,G$377)","v":0},{"$f":"COUNTIF(Alcance!$E625,H$377)","v":0},0,0.5,0]
["Compuestos Orgánicos Volátiles",null,"4 - Metil - 2 - pentanona",null,{"$f":"COUNTIF(Alcance!$E626,E$377)","v":0},{"$f":"COUNTIF(Alcance!$E626,F$377)","v":0},{"$f":"COUNTIF(Alcance!$E626,G$377)","v":0},{"$f":"COUNTIF(Alcance!$E626,H$377)","v":0},0,0.5,0]
["Compuestos Orgánicos Volátiles",null,"Metil terc-butil éter",null,{"$f":"COUNTIF(Alcance!$E627,E$377)","v":0},{"$f":"COUNTIF(Alcance!$E627,F$377)","v":0},{"$f":"COUNTIF(Alcance!$E627,G$377)","v":0},{"$f":"COUNTIF(Alcance!$E627,H$377)","v":0},0,0.5,0]
["Compuestos Orgánicos Volátiles",null,"Naftaleno",null,{"$f":"COUNTIF(Alcance!$E628,E$377)","v":0},{"$f":"COUNTIF(Alcance!$E628,F$377)","v":0},{"$f":"COUNTIF(Alcance!$E628,G$377)","v":0},{"$f":"COUNTIF(Alcance!$E628,H$377)","v":0},0,0.5,0]
["Compuestos Orgánicos Volátiles",null,"Nitrobenceno",null,{"$f":"COUNTIF(Alcance!$E629,E$377)","v":0},{"$f":"COUNTIF(Alcance!$E629,F$377)","v":0},{"$f":"COUNTIF(Alcance!$E629,G$377)","v":0},{"$f":"COUNTIF(Alcance!$E629,H$377)","v":0},0,0.5,0]
["Compuestos Orgánicos Volátiles",null,"n-Nitroso-di-n-butilamina",null,{"$f":"COUNTIF(Alcance!$E630,E$377)","v":0},{"$f":"COUNTIF(Alcance!$E630,F$377)","v":0},{"$f":"COUNTIF(Alcance!$E630,G$377)","v":0},{"$f":"COUNTIF(Alcance!$E630,H$377)","v":0},0,0.5,0]
["Compuestos Orgánicos Volátiles",null,"Pentacloroetano",null,{"$f":"COUNTIF(Alcance!$E631,E$377)","v":0},{"$f":"COUNTIF(Alcance!$E631,F$377)","v":0},{"$f":"COUNTIF(Alcance!$E631,G$377)","v":0},{"$f":"COUNTIF(Alcance!$E631,H$377)","v":0},0,0.5,0]
["Compuestos Orgánicos Volátiles",null,"2-Pentanona",null,{"$f":"COUNTIF(Alcance!$E632,E$377)","v":0},{"$f":"COUNTIF(Alcance!$E632,F$377)","v":0},{"$f":"COUNTIF(Alcance!$E632,G$377)","v":0},{"$f":"COUNTIF(Alcance!$E632,H$377)","v":0},0,0.5,0]
["Compuestos Orgánicos Volátiles",null,"1-Propanol ",null,{"$f":"COUNTIF(Alcance!$E633,E$377)","v":0},{"$f":"COUNTIF(Alcance!$E633,F$377)","v":0},{"$f":"COUNTIF(Alcance!$E633,G$377)","v":0},{"$f":"COUNTIF(Alcance!$E633,H$377)","v":0},0,0.5,0]
["Compuestos Orgánicos Volátiles",null,"2-Propanol",null,{"$f":"COUNTIF(Alcance!$E634,E$377)","v":0},{"$f":"COUNTIF(Alcance!$E634,F$377)","v":0},{"$f":"COUNTIF(Alcance!$E634,G$377)","v":0},{"$f":"COUNTIF(Alcance!$E634,H$377)","v":0},0,0.5,0]
["Compuestos Orgánicos Volátiles",null,"n-Propilamina",null,{"$f":"COUNTIF(Alcance!$E635,E$377)","v":0},{"$f":"COUNTIF(Alcance!$E635,F$377)","v":0},{"$f":"COUNTIF(Alcance!$E635,G$377)","v":0},{"$f":"COUNTIF(Alcance!$E635,H$377)","v":0},0,0.5,0]
["Compuestos Orgánicos Volátiles",null,"Piridina",null,{"$f":"COUNTIF(Alcance!$E636,E$377)","v":0},{"$f":"COUNTIF(Alcance!$E636,F$377)","v":0},{"$f":"COUNTIF(Alcance!$E636,G$377)","v":0},{"$f":"COUNTIF(Alcance!$E636,H$377)","v":0},0,0.5,0]
["Compuestos Orgánicos Volátiles",null,"Estireno",null,{"$f":"COUNTIF(Alcance!$E637,E$377)","v":0},{"$f":"COUNTIF(Alcance!$E637,F$377)","v":0},{"$f":"COUNTIF(Alcance!$E637,G$377)","v":0},{"$f":"COUNTIF(Alcance!$E637,H$377)","v":0},0,0.5,0]
["Compuestos Orgánicos Volátiles",null,"1,1,1,2-Tetracloroetano",null,{"$f":"COUNTIF(Alcance!$E638,E$377)","v":0},{"$f":"COUNTIF(Alcance!$E638,F$377)","v":0},{"$f":"COUNTIF(Alcance!$E638,G$377)","v":0},{"$f":"COUNTIF(Alcance!$E638,H$377)","v":0},0,0.5,0]
["Compuestos Orgánicos Volátiles",null,"1,1,2,2-Tetracloroetano",null,{"$f":"COUNTIF(Alcance!$E639,E$377)","v":0},{"$f":"COUNTIF(Alcance!$E639,F$377)","v":0},{"$f":"COUNTIF(Alcance!$E639,G$377)","v":0},{"$f":"COUNTIF(Alcance!$E639,H$377)","v":0},0,0.5,0]
["Compuestos Orgánicos Volátiles",null,"Tetracloroetano",null,{"$f":"COUNTIF(Alcance!$E640,E$377)","v":0},{"$f":"COUNTIF(Alcance!$E640,F$377)","v":0},{"$f":"COUNTIF(Alcance!$E640,G$377)","v":0},{"$f":"COUNTIF(Alcance!$E640,H$377)","v":0},0,0.5,0]
["Compuestos Orgánicos Volátiles",null,"1,2,4-Triclorobenceno",null,{"$f":"COUNTIF(Alcance!$E641,E$377)","v":0},{"$f":"COUNTIF(Alcance!$E641,F$377)","v":0},{"$f":"COUNTIF(Alcance!$E641,G$377)","v":0},{"$f":"COUNTIF(Alcance!$E641,H$377)","v":0},0,0.5,0]
["Compuestos Orgánicos Volátiles",null,"1,1,1-Tricoloetano",null,{"$f":"COUNTIF(Alcance!$E642,E$377)","v":0},{"$f":"COUNTIF(Alcance!$E642,F$377)","v":0},{"$f":"COUNTIF(Alcance!$E642,G$377)","v":0},{"$f":"COUNTIF(Alcance!$E642,H$377)","v":0},0,0.5,0]
["Compuestos Orgánicos Volátiles",null,"1,1,2-Tricloroetano",null,{"$f":"COUNTIF(Alcance!$E643,E$377)","v":0},{"$f":"COUNTIF(Alcance!$E643,F$377)","v":0},{"$f":"COUNTIF(Alcance!$E643,G$377)","v":0},{"$f":"COUNTIF(Alcance!$E643,H$377)","v":0},0,0.5,0]
["Compuestos Orgánicos Volátiles",null,"Tricloroetano",null,{"$f":"COUNTIF(Alcance!$E644,E$377)","v":0},{"$f":"COUNTIF(Alcance!$E644,F$377)","v":0},{"$f":"COUNTIF(Alcance!$E644,G$377)","v":0},{"$f":"COUNTIF(Alcance!$E644,H$377)","v":0},0,0.5,0]
["Compuestos Orgánicos Volátiles",null,"Triclorofluorometano",null,{"$f":"COUNTIF(Alcance!$E645,E$377)","v":0},{"$f":"COUNTIF(Alcance!$E645,F$377)","v":0},{"$f":"COUNTIF(Alcance!$E645,G$377)","v":0},{"$f":"COUNTIF(Alcance!$E645,H$377)","v":0},0,0.5,0]
["Compuestos Orgánicos Volátiles",null,"1,2,3-Tricloropropano",null,{"$f":"COUNTIF(Alcance!$E646,E$377)","v":0},{"$f":"COUNTIF(Alcance!$E646,F$377)","v":0},{"$f":"COUNTIF(Alcance!$E646,G$377)","v":0},{"$f":"COUNTIF(Alcance!$E646,H$377)","v":0},0,0.5,0]
["Compuestos Orgánicos Volátiles",null,"Acetato de vinilo",null,{"$f":"COUNTIF(Alcance!$E647,E$377)","v":0},{"$f":"COUNTIF(Alcance!$E647,F$377)","v":0},{"$f":"COUNTIF(Alcance!$E647,G$377)","v":0},{"$f":"COUNTIF(Alcance!$E647,H$377)","v":0},0,0.5,0]
["Compuestos Orgánicos Volátiles",null,"Cloruro de vinilo",null,{"$f":"COUNTIF(Alcance!$E648,E$377)","v":0},{"$f":"COUNTIF(Alcance!$E648,F$377)","v":0},{"$f":"COUNTIF(Alcance!$E648,G$377)","v":0},{"$f":"COUNTIF(Alcance!$E648,H$377)","v":0},0,0.5,0]
["Compuestos Orgánicos Volátiles",null,"1,2,4-Trimetilbenceno",null,{"$f":"COUNTIF(Alcance!$E649,E$377)","v":0},{"$f":"COUNTIF(Alcance!$E649,F$377)","v":0},{"$f":"COUNTIF(Alcance!$E649,G$377)","v":0},{"$f":"COUNTIF(Alcance!$E649,H$377)","v":0},0,0.5,0]
["Compuestos Orgánicos Volátiles",null,"1,3,5-Trimetilbenceno",null,{"$f":"COUNTIF(Alcance!$E650,E$377)","v":0},{"$f":"COUNTIF(Alcance!$E650,F$377)","v":0},{"$f":"COUNTIF(Alcance!$E650,G$377)","v":0},{"$f":"COUNTIF(Alcance!$E650,H$377)","v":0},0,0.5,0]
["Compuestos Orgánicos Volátiles",null,"Diclorometano",null,{"$f":"COUNTIF(Alcance!$E651,E$377)","v":0},{"$f":"COUNTIF(Alcance!$E651,F$377)","v":0},{"$f":"COUNTIF(Alcance!$E651,G$377)","v":0},{"$f":"COUNTIF(Alcance!$E651,H$377)","v":0},0,0.5,0]
["Compuestos Orgánicos Volátiles",null,"Percloroetileno",null,{"$f":"COUNTIF(Alcance!$E652,E$377)","v":0},{"$f":"COUNTIF(Alcance!$E652,F$377)","v":0},{"$f":"COUNTIF(Alcance!$E652,G$377)","v":0},{"$f":"COUNTIF(Alcance!$E652,H$377)","v":0},0,0.5,0]
["Compuestos Orgánicos Volátiles",null,"1,1,1-Tricloroetano",null,{"$f":"COUNTIF(Alcance!$E653,E$377)","v":0},{"$f":"COUNTIF(Alcance!$E653,F$377)","v":0},{"$f":"COUNTIF(Alcance!$E653,G$377)","v":0},{"$f":"COUNTIF(Alcance!$E653,H$377)","v":0},0,0.5,0]
["Compuestos Orgánicos Volátiles",null,"Tricloroetileno",null,{"$f":"COUNTIF(Alcance!$E654,E$377)","v":0},{"$f":"COUNTIF(Alcance!$E654,F$377)","v":0},{"$f":"COUNTIF(Alcance!$E654,G$377)","v":0},{"$f":"COUNTIF(Alcance!$E654,H$377)","v":0},0,0.5,0]
["Compuestos Orgánicos Volátiles - BTEX",null,"Benceno ",null,{"$f":"COUNTIF(Alcance!$E655,E$377)","v":0},{"$f":"COUNTIF(Alcance!$E655,F$377)","v":0},{"$f":"COUNTIF(Alcance!$E655,G$377)","v":0},{"$f":"COUNTIF(Alcance!$E655,H$377)","v":0},0,0.5,0]
["Compuestos Orgánicos Volátiles - BTEX",null,"Tolueno",null,{"$f":"COUNTIF(Alcance!$E656,E$377)","v":0},{"$f":"COUNTIF(Alcance!$E656,F$377)","v":0},{"$f":"COUNTIF(Alcance!$E656,G$377)","v":0},{"$f":"COUNTIF(Alcance!$E656,H$377)","v":0},0,0.5,0]
["Compuestos Orgánicos Volátiles - BTEX",null,"Etilbenceno",null,{"$f":"COUNTIF(Alcance!$E657,E$377)","v":0},{"$f":"COUNTIF(Alcance!$E657,F$377)","v":0},{"$f":"COUNTIF(Alcance!$E657,G$377)","v":0},{"$f":"COUNTIF(Alcance!$E657,H$377)","v":0},0,0.5,0]
["Compuestos Orgánicos Volátiles - BTEX",null,"o-Xileno",null,{"$f":"COUNTIF(Alcance!$E658,E$377)","v":0},{"$f":"COUNTIF(Alcance!$E658,F$377)","v":0},{"$f":"COUNTIF(Alcance!$E658,G$377)","v":0},{"$f":"COUNTIF(Alcance!$E658,H$377)","v":0},0,0.5,0]
["Compuestos Orgánicos Volátiles - BTEX",null,"m-Xileno",null,{"$f":"COUNTIF(Alcance!$E659,E$377)","v":0},{"$f":"COUNTIF(Alcance!$E659,F$377)","v":0},{"$f":"COUNTIF(Alcance!$E659,G$377)","v":0},{"$f":"COUNTIF(Alcance!$E659,H$377)","v":0},0,0.5,0]
["Compuestos Orgánicos Volátiles - BTEX",null,"p-Xileno ",null,{"$f":"COUNTIF(Alcance!$E660,E$377)","v":0},{"$f":"COUNTIF(Alcance!$E660,F$377)","v":0},{"$f":"COUNTIF(Alcance!$E660,G$377)","v":0},{"$f":"COUNTIF(Alcance!$E660,H$377)","v":0},0,0.5,0]
["Compuestos Orgánicos Volátiles - BTEX",null,"m+p-xileno",null,{"$f":"COUNTIF(Alcance!$E661,E$377)","v":0},{"$f":"COUNTIF(Alcance!$E661,F$377)","v":0},{"$f":"COUNTIF(Alcance!$E661,G$377)","v":0},{"$f":"COUNTIF(Alcance!$E661,H$377)","v":0},0,0.5,0]
["Compuestos Orgánicos Volátiles - BTEX",null,"Xileno total",null,{"$f":"COUNTIF(Alcance!$E662,E$377)","v":0},{"$f":"COUNTIF(Alcance!$E662,F$377)","v":0},{"$f":"COUNTIF(Alcance!$E662,G$377)","v":0},{"$f":"COUNTIF(Alcance!$E662,H$377)","v":0},0,0.5,0]
["Pesticidas Organoclorados",null,"Aldrín",null,{"$f":"COUNTIF(Alcance!$E663,E$377)","v":0},{"$f":"COUNTIF(Alcance!$E663,F$377)","v":0},{"$f":"COUNTIF(Alcance!$E663,G$377)","v":0},{"$f":"COUNTIF(Alcance!$E663,H$377)","v":0},0,0.5,0]
["Pesticidas Organoclorados",null,"4,4'-DDD",null,{"$f":"COUNTIF(Alcance!$E664,E$377)","v":0},{"$f":"COUNTIF(Alcance!$E664,F$377)","v":0},{"$f":"COUNTIF(Alcance!$E664,G$377)","v":0},{"$f":"COUNTIF(Alcance!$E664,H$377)","v":0},0,0.5,0]
["Pesticidas Organoclorados",null,"4,4'-DDE",null,{"$f":"COUNTIF(Alcance!$E665,E$377)","v":0},{"$f":"COUNTIF(Alcance!$E665,F$377)","v":0},{"$f":"COUNTIF(Alcance!$E665,G$377)","v":0},{"$f":"COUNTIF(Alcance!$E665,H$377)","v":0},0,0.5,0]
["Pesticidas Organoclorados",null,"4,4'-DDT",null,{"$f":"COUNTIF(Alcance!$E666,E$377)","v":0},{"$f":"COUNTIF(Alcance!$E666,F$377)","v":0},{"$f":"COUNTIF(Alcance!$E666,G$377)","v":0},{"$f":"COUNTIF(Alcance!$E666,H$377)","v":0},0,0.5,0]
["Pesticidas Organoclorados",null,"Dieldrín",null,{"$f":"COUNTIF(Alcance!$E667,E$377)","v":0},{"$f":"COUNTIF(Alcance!$E667,F$377)","v":0},{"$f":"COUNTIF(Alcance!$E667,G$377)","v":0},{"$f":"COUNTIF(Alcance!$E667,H$377)","v":0},0,0.5,0]
["Pesticidas Organoclorados",null,"Heptacloro",null,{"$f":"COUNTIF(Alcance!$E668,E$377)","v":0},{"$f":"COUNTIF(Alcance!$E668,F$377)","v":0},{"$f":"COUNTIF(Alcance!$E668,G$377)","v":0},{"$f":"COUNTIF(Alcance!$E668,H$377)","v":0},0,0.5,0]
["Pesticidas Organoclorados",null,"Heptacloro epoxido",null,{"$f":"COUNTIF(Alcance!$E669,E$377)","v":0},{"$f":"COUNTIF(Alcance!$E669,F$377)","v":0},{"$f":"COUNTIF(Alcance!$E669,G$377)","v":0},{"$f":"COUNTIF(Alcance!$E669,H$377)","v":0},0,0.5,0]
["Pesticidas Organoclorados",null,"Heptacloro benceno",null,{"$f":"COUNTIF(Alcance!$E670,E$377)","v":0},{"$f":"COUNTIF(Alcance!$E670,F$377)","v":0},{"$f":"COUNTIF(Alcance!$E670,G$377)","v":0},{"$f":"COUNTIF(Alcance!$E670,H$377)","v":0},0,0.5,{"$f":"I594*J594","v":0}]
["Pesticidas Organoclorados",null,"Hexaclorociclopentadieno",null,{"$f":"COUNTIF(Alcance!$E671,E$377)","v":0},{"$f":"COUNTIF(Alcance!$E671,F$377)","v":0},{"$f":"COUNTIF(Alcance!$E671,G$377)","v":0},{"$f":"COUNTIF(Alcance!$E671,H$377)","v":0},0,0.5,{"$f":"I595*J595","v":0}]
["Pesticidas Organoclorados",null,"Alfa-BHC",null,{"$f":"COUNTIF(Alcance!$E672,E$377)","v":0},{"$f":"COUNTIF(Alcance!$E672,F$377)","v":0},{"$f":"COUNTIF(Alcance!$E672,G$377)","v":0},{"$f":"COUNTIF(Alcance!$E672,H$377)","v":0},0,0.5,{"$f":"I596*J596","v":0}]
["Pesticidas Organoclorados",null,"Beta-BHC",null,{"$f":"COUNTIF(Alcance!$E673,E$377)","v":0},{"$f":"COUNTIF(Alcance!$E673,F$377)","v":0},{"$f":"COUNTIF(Alcance!$E673,G$377)","v":0},{"$f":"COUNTIF(Alcance!$E673,H$377)","v":0},0,0.5,0]
["Pesticidas Organoclorados",null,"Gama-BHC",null,{"$f":"COUNTIF(Alcance!$E674,E$377)","v":0},{"$f":"COUNTIF(Alcance!$E674,F$377)","v":0},{"$f":"COUNTIF(Alcance!$E674,G$377)","v":0},{"$f":"COUNTIF(Alcance!$E674,H$377)","v":0},0,0.5,0]
["Pesticidas Organoclorados",null,"Delta-BHC",null,{"$f":"COUNTIF(Alcance!$E675,E$377)","v":0},{"$f":"COUNTIF(Alcance!$E675,F$377)","v":0},{"$f":"COUNTIF(Alcance!$E675,G$377)","v":0},{"$f":"COUNTIF(Alcance!$E675,H$377)","v":0},0,0.5,0]
["Pesticidas Organoclorados",null,"Alfa-Clordano (Cis-clordano)",null,{"$f":"COUNTIF(Alcance!$E676,E$377)","v":0},{"$f":"COUNTIF(Alcance!$E676,F$377)","v":0},{"$f":"COUNTIF(Alcance!$E676,G$377)","v":0},{"$f":"COUNTIF(Alcance!$E676,H$377)","v":0},0,0.5,0]
["Pesticidas Organoclorados",null,"Gama-Clordano (Trans-Clordano)",null,{"$f":"COUNTIF(Alcance!$E677,E$377)","v":0},{"$f":"COUNTIF(Alcance!$E677,F$377)","v":0},{"$f":"COUNTIF(Alcance!$E677,G$377)","v":0},{"$f":"COUNTIF(Alcance!$E677,H$377)","v":0},0,0.5,0]
["Pesticidas Organoclorados",null,"Endosulfan I",null,{"$f":"COUNTIF(Alcance!$E678,E$377)","v":0},{"$f":"COUNTIF(Alcance!$E678,F$377)","v":0},{"$f":"COUNTIF(Alcance!$E678,G$377)","v":0},{"$f":"COUNTIF(Alcance!$E678,H$377)","v":0},0,0.5,0]
["Pesticidas Organoclorados",null,"Endosulfan II",null,{"$f":"COUNTIF(Alcance!$E679,E$377)","v":0},{"$f":"COUNTIF(Alcance!$E679,F$377)","v":0},{"$f":"COUNTIF(Alcance!$E679,G$377)","v":0},{"$f":"COUNTIF(Alcance!$E679,H$377)","v":0},0,0.5,0]
["Pesticidas Organoclorados",null,"Endosulfan sulfato",null,{"$f":"COUNTIF(Alcance!$E680,E$377)","v":0},{"$f":"COUNTIF(Alcance!$E680,F$377)","v":0},{"$f":"COUNTIF(Alcance!$E680,G$377)","v":0},{"$f":"COUNTIF(Alcance!$E680,H$377)","v":0},0,0.5,0]
["Pesticidas Organoclorados",null,"Endrín aldehido",null,{"$f":"COUNTIF(Alcance!$E681,E$377)","v":0},{"$f":"COUNTIF(Alcance!$E681,F$377)","v":0},{"$f":"COUNTIF(Alcance!$E681,G$377)","v":0},{"$f":"COUNTIF(Alcance!$E681,H$377)","v":0},0,0.5,0]
["Pesticidas Organoclorados",null,"Endrín cetona",null,{"$f":"COUNTIF(Alcance!$E682,E$377)","v":0},{"$f":"COUNTIF(Alcance!$E682,F$377)","v":0},{"$f":"COUNTIF(Alcance!$E682,G$377)","v":0},{"$f":"COUNTIF(Alcance!$E682,H$377)","v":0},0,0.5,0]
["Pesticidas Organoclorados",null,"Endrín",null,{"$f":"COUNTIF(Alcance!$E683,E$377)","v":0},{"$f":"COUNTIF(Alcance!$E683,F$377)","v":0},{"$f":"COUNTIF(Alcance!$E683,G$377)","v":0},{"$f":"COUNTIF(Alcance!$E683,H$377)","v":0},0,0.5,0]
["Pesticidas Organoclorados",null,"Metoxicloro",null,{"$f":"COUNTIF(Alcance!$E684,E$377)","v":0},{"$f":"COUNTIF(Alcance!$E684,F$377)","v":0},{"$f":"COUNTIF(Alcance!$E684,G$377)","v":0},{"$f":"COUNTIF(Alcance!$E684,H$377)","v":0},0,0.5,0]
["Pesticidas Organoclorados",null,"Toxafeno",null,{"$f":"COUNTIF(Alcance!$E685,E$377)","v":0},{"$f":"COUNTIF(Alcance!$E685,F$377)","v":0},{"$f":"COUNTIF(Alcance!$E685,G$377)","v":0},{"$f":"COUNTIF(Alcance!$E685,H$377)","v":0},0,0.5,0]
["Pesticidas Oganofosforados",null,"Etil-Azinfos",null,{"$f":"COUNTIF(Alcance!$E686,E$377)","v":0},{"$f":"COUNTIF(Alcance!$E686,F$377)","v":0},{"$f":"COUNTIF(Alcance!$E686,G$377)","v":0},{"$f":"COUNTIF(Alcance!$E686,H$377)","v":0},0,0.5,0]
["Pesticidas Oganofosforados",null,"Metil-Azinfos ",null,{"$f":"COUNTIF(Alcance!$E687,E$377)","v":0},{"$f":"COUNTIF(Alcance!$E687,F$377)","v":0},{"$f":"COUNTIF(Alcance!$E687,G$377)","v":0},{"$f":"COUNTIF(Alcance!$E687,H$377)","v":0},0,0.5,{"$f":"I611*J611","v":0}]
["Pesticidas Oganofosforados",null,"Clorfenvinfos",null,{"$f":"COUNTIF(Alcance!$E688,E$377)","v":0},{"$f":"COUNTIF(Alcance!$E688,F$377)","v":0},{"$f":"COUNTIF(Alcance!$E688,G$377)","v":0},{"$f":"COUNTIF(Alcance!$E688,H$377)","v":0},0,0.5,{"$f":"I612*J612","v":0}]
["Pesticidas Oganofosforados",null,"Clorpirifos",null,{"$f":"COUNTIF(Alcance!$E689,E$377)","v":0},{"$f":"COUNTIF(Alcance!$E689,F$377)","v":0},{"$f":"COUNTIF(Alcance!$E689,G$377)","v":0},{"$f":"COUNTIF(Alcance!$E689,H$377)","v":0},0,0.5,0]
["Pesticidas Oganofosforados",null,"Metil Clorpirifos",null,{"$f":"COUNTIF(Alcance!$E690,E$377)","v":0},{"$f":"COUNTIF(Alcance!$E690,F$377)","v":0},{"$f":"COUNTIF(Alcance!$E690,G$377)","v":0},{"$f":"COUNTIF(Alcance!$E690,H$377)","v":0},0,0.5,0]
["Pesticidas Oganofosforados",null,"Coumaphos",null,{"$f":"COUNTIF(Alcance!$E691,E$377)","v":0},{"$f":"COUNTIF(Alcance!$E691,F$377)","v":0},{"$f":"COUNTIF(Alcance!$E691,G$377)","v":0},{"$f":"COUNTIF(Alcance!$E691,H$377)","v":0},0,0.5,0]
["Pesticidas Oganofosforados",null,"Demeton-O",null,{"$f":"COUNTIF(Alcance!$E692,E$377)","v":0},{"$f":"COUNTIF(Alcance!$E692,F$377)","v":0},{"$f":"COUNTIF(Alcance!$E692,G$377)","v":0},{"$f":"COUNTIF(Alcance!$E692,H$377)","v":0},0,0.5,0]
["Pesticidas Oganofosforados",null,"Demeton-S",null,{"$f":"COUNTIF(Alcance!$E693,E$377)","v":0},{"$f":"COUNTIF(Alcance!$E693,F$377)","v":0},{"$f":"COUNTIF(Alcance!$E693,G$377)","v":0},{"$f":"COUNTIF(Alcance!$E693,H$377)","v":0},0,0.5,0]
["Pesticidas Oganofosforados",null,"Diazinon",null,{"$f":"COUNTIF(Alcance!$E694,E$377)","v":0},{"$f":"COUNTIF(Alcance!$E694,F$377)","v":0},{"$f":"COUNTIF(Alcance!$E694,G$377)","v":0},{"$f":"COUNTIF(Alcance!$E694,H$377)","v":0},0,0.5,0]
["Pesticidas Oganofosforados",null,"Diclorvos",null,{"$f":"COUNTIF(Alcance!$E695,E$377)","v":0},{"$f":"COUNTIF(Alcance!$E695,F$377)","v":0},{"$f":"COUNTIF(Alcance!$E695,G$377)","v":0},{"$f":"COUNTIF(Alcance!$E695,H$377)","v":0},0,0.5,0]
["Pesticidas Oganofosforados",null,"Dimetoato",null,{"$f":"COUNTIF(Alcance!$E696,E$377)","v":0},{"$f":"COUNTIF(Alcance!$E696,F$377)","v":0},{"$f":"COUNTIF(Alcance!$E696,G$377)","v":0},{"$f":"COUNTIF(Alcance!$E696,H$377)","v":0},0,0.5,0]
["Pesticidas Oganofosforados",null,"Dioxatión",null,{"$f":"COUNTIF(Alcance!$E697,E$377)","v":0},{"$f":"COUNTIF(Alcance!$E697,F$377)","v":0},{"$f":"COUNTIF(Alcance!$E697,G$377)","v":0},{"$f":"COUNTIF(Alcance!$E697,H$377)","v":0},0,0.5,0]
["Pesticidas Oganofosforados",null,"Disulfoton",null,{"$f":"COUNTIF(Alcance!$E698,E$377)","v":0},{"$f":"COUNTIF(Alcance!$E698,F$377)","v":0},{"$f":"COUNTIF(Alcance!$E698,G$377)","v":0},{"$f":"COUNTIF(Alcance!$E698,H$377)","v":0},0,0.5,0]
["Pesticidas Oganofosforados",null,"Fenitrotion",null,{"$f":"COUNTIF(Alcance!$E699,E$377)","v":0},{"$f":"COUNTIF(Alcance!$E699,F$377)","v":0},{"$f":"COUNTIF(Alcance!$E699,G$377)","v":0},{"$f":"COUNTIF(Alcance!$E699,H$377)","v":0},0,0.5,0]
["Pesticidas Oganofosforados",null,"Fention",null,{"$f":"COUNTIF(Alcance!$E700,E$377)","v":0},{"$f":"COUNTIF(Alcance!$E700,F$377)","v":0},{"$f":"COUNTIF(Alcance!$E700,G$377)","v":0},{"$f":"COUNTIF(Alcance!$E700,H$377)","v":0},0,0.5,0]
["Pesticidas Oganofosforados",null,"Malation",null,{"$f":"COUNTIF(Alcance!$E701,E$377)","v":0},{"$f":"COUNTIF(Alcance!$E701,F$377)","v":0},{"$f":"COUNTIF(Alcance!$E701,G$377)","v":0},{"$f":"COUNTIF(Alcance!$E701,H$377)","v":0},0,0.5,0]
["Pesticidas Oganofosforados",null,"Mevinphos",null,{"$f":"COUNTIF(Alcance!$E702,E$377)","v":0},{"$f":"COUNTIF(Alcance!$E702,F$377)","v":0},{"$f":"COUNTIF(Alcance!$E702,G$377)","v":0},{"$f":"COUNTIF(Alcance!$E702,H$377)","v":0},0,0.5,0]
["Pesticidas Oganofosforados",null,"Metil paration",null,{"$f":"COUNTIF(Alcance!$E703,E$377)","v":0},{"$f":"COUNTIF(Alcance!$E703,F$377)","v":0},{"$f":"COUNTIF(Alcance!$E703,G$377)","v":0},{"$f":"COUNTIF(Alcance!$E703,H$377)","v":0},0,0.5,0]
["Pesticidas Oganofosforados",null,"Etil paration",null,{"$f":"COUNTIF(Alcance!$E704,E$377)","v":0},{"$f":"COUNTIF(Alcance!$E704,F$377)","v":0},{"$f":"COUNTIF(Alcance!$E704,G$377)","v":0},{"$f":"COUNTIF(Alcance!$E704,H$377)","v":0},0,0.5,0]
["Pesticidas Oganofosforados",null,"Ronnel",null,{"$f":"COUNTIF(Alcance!$E705,E$377)","v":0},{"$f":"COUNTIF(Alcance!$E705,F$377)","v":0},{"$f":"COUNTIF(Alcance!$E705,G$377)","v":0},{"$f":"COUNTIF(Alcance!$E705,H$377)","v":0},0,0.5,0]
["Pesticidas Oganofosforados",null,"Estirofos",null,{"$f":"COUNTIF(Alcance!$E706,E$377)","v":0},{"$f":"COUNTIF(Alcance!$E706,F$377)","v":0},{"$f":"COUNTIF(Alcance!$E706,G$377)","v":0},{"$f":"COUNTIF(Alcance!$E706,H$377)","v":0},0,0.5,0]
["Pesticidas Oganofosforados",null,"Atrazina",null,{"$f":"COUNTIF(Alcance!$E707,E$377)","v":0},{"$f":"COUNTIF(Alcance!$E707,F$377)","v":0},{"$f":"COUNTIF(Alcance!$E707,G$377)","v":0},{"$f":"COUNTIF(Alcance!$E707,H$377)","v":0},0,0.5,0]
["Pesticidas Oganofosforados",null,"Simazina",null,{"$f":"COUNTIF(Alcance!$E708,E$377)","v":0},{"$f":"COUNTIF(Alcance!$E708,F$377)","v":0},{"$f":"COUNTIF(Alcance!$E708,G$377)","v":0},{"$f":"COUNTIF(Alcance!$E708,H$377)","v":0},0,0.5,0]
["Pesticidas Oganofosforados",null,"Metiocarb",null,{"$f":"COUNTIF(Alcance!$E709,E$377)","v":0},{"$f":"COUNTIF(Alcance!$E709,F$377)","v":0},{"$f":"COUNTIF(Alcance!$E709,G$377)","v":0},{"$f":"COUNTIF(Alcance!$E709,H$377)","v":0},0,0.5,0]
["Pesticidas Oganofosforados",null,"Profam",null,{"$f":"COUNTIF(Alcance!$E710,E$377)","v":0},{"$f":"COUNTIF(Alcance!$E710,F$377)","v":0},{"$f":"COUNTIF(Alcance!$E710,G$377)","v":0},{"$f":"COUNTIF(Alcance!$E710,H$377)","v":0},0,0.5,0]
["Pesticidas Oganofosforados",null,"Etion",null,{"$f":"COUNTIF(Alcance!$E711,E$377)","v":0},{"$f":"COUNTIF(Alcance!$E711,F$377)","v":0},{"$f":"COUNTIF(Alcance!$E711,G$377)","v":0},{"$f":"COUNTIF(Alcance!$E711,H$377)","v":0},0,0.5,0]
["Pesticidas Oganofosforados",null,"Etil gution",null,{"$f":"COUNTIF(Alcance!$E712,E$377)","v":0},{"$f":"COUNTIF(Alcance!$E712,F$377)","v":0},{"$f":"COUNTIF(Alcance!$E712,G$377)","v":0},{"$f":"COUNTIF(Alcance!$E712,H$377)","v":0},0,0.5,0]
["Pesticidas Oganofosforados",null,"Gution",null,{"$f":"COUNTIF(Alcance!$E713,E$377)","v":0},{"$f":"COUNTIF(Alcance!$E713,F$377)","v":0},{"$f":"COUNTIF(Alcance!$E713,G$377)","v":0},{"$f":"COUNTIF(Alcance!$E713,H$377)","v":0},0,0.5,0]
["Pesticidas Oganofosforados",null,"Clorotalonil",null,{"$f":"COUNTIF(Alcance!$E714,E$377)","v":0},{"$f":"COUNTIF(Alcance!$E714,F$377)","v":0},{"$f":"COUNTIF(Alcance!$E714,G$377)","v":0},{"$f":"COUNTIF(Alcance!$E714,H$377)","v":0},0,0.5,0]
["Pesticidas Oganofosforados",null,"Penoxalin",null,{"$f":"COUNTIF(Alcance!$E715,E$377)","v":0},{"$f":"COUNTIF(Alcance!$E715,F$377)","v":0},{"$f":"COUNTIF(Alcance!$E715,G$377)","v":0},{"$f":"COUNTIF(Alcance!$E715,H$377)","v":0},0,0.5,0]
["Pesticidas Oganofosforados",null,"Primicarb",null,{"$f":"COUNTIF(Alcance!$E716,E$377)","v":0},{"$f":"COUNTIF(Alcance!$E716,F$377)","v":0},{"$f":"COUNTIF(Alcance!$E716,G$377)","v":0},{"$f":"COUNTIF(Alcance!$E716,H$377)","v":0},0,0.5,0]
["Pesticidas Oganofosforados",null,"Propetanfos",null,{"$f":"COUNTIF(Alcance!$E717,E$377)","v":0},{"$f":"COUNTIF(Alcance!$E717,F$377)","v":0},{"$f":"COUNTIF(Alcance!$E717,G$377)","v":0},{"$f":"COUNTIF(Alcance!$E717,H$377)","v":0},0,0.5,0]
["Pesticidas Oganofosforados",null,"Terbutrin",null,{"$f":"COUNTIF(Alcance!$E718,E$377)","v":0},{"$f":"COUNTIF(Alcance!$E718,F$377)","v":0},{"$f":"COUNTIF(Alcance!$E718,G$377)","v":0},{"$f":"COUNTIF(Alcance!$E718,H$377)","v":0},0,0.5,0]
["Pesticidas Oganofosforados",null,"Trietazina",null,{"$f":"COUNTIF(Alcance!$E719,E$377)","v":0},{"$f":"COUNTIF(Alcance!$E719,F$377)","v":0},{"$f":"COUNTIF(Alcance!$E719,G$377)","v":0},{"$f":"COUNTIF(Alcance!$E719,H$377)","v":0},0,0.5,0]
["PCBs en Agua",null,"Aroclor 1016",null,{"$f":"COUNTIF(Alcance!$E720,E$377)","v":0},{"$f":"COUNTIF(Alcance!$E720,F$377)","v":0},{"$f":"COUNTIF(Alcance!$E720,G$377)","v":0},{"$f":"COUNTIF(Alcance!$E720,H$377)","v":0},0,1,0]
["PCB s en Agua",null,"Aroclor 1221",null,{"$f":"COUNTIF(Alcance!$E721,E$377)","v":0},{"$f":"COUNTIF(Alcance!$E721,F$377)","v":0},{"$f":"COUNTIF(Alcance!$E721,G$377)","v":0},{"$f":"COUNTIF(Alcance!$E721,H$377)","v":0},0,1,{"$f":"I645*J645","v":0}]
["PCB s en Agua",null,"Aroclor 1232",null,{"$f":"COUNTIF(Alcance!$E722,E$377)","v":0},{"$f":"COUNTIF(Alcance!$E722,F$377)","v":0},{"$f":"COUNTIF(Alcance!$E722,G$377)","v":0},{"$f":"COUNTIF(Alcance!$E722,H$377)","v":0},0,1,{"$f":"I646*J646","v":0}]
["PCB s en Agua",null,"Aroclor 1242",null,{"$f":"COUNTIF(Alcance!$E723,E$377)","v":0},{"$f":"COUNTIF(Alcance!$E723,F$377)","v":0},{"$f":"COUNTIF(Alcance!$E723,G$377)","v":0},{"$f":"COUNTIF(Alcance!$E723,H$377)","v":0},0,1,0]
["PCB s en Agua",null,"Aroclor 1248",null,{"$f":"COUNTIF(Alcance!$E724,E$377)","v":0},{"$f":"COUNTIF(Alcance!$E724,F$377)","v":0},{"$f":"COUNTIF(Alcance!$E724,G$377)","v":0},{"$f":"COUNTIF(Alcance!$E724,H$377)","v":0},0,1,0]
["PCB s en Agua",null,"Aroclor 1254",null,{"$f":"COUNTIF(Alcance!$E725,E$377)","v":0},{"$f":"COUNTIF(Alcance!$E725,F$377)","v":0},{"$f":"COUNTIF(Alcance!$E725,G$377)","v":0},{"$f":"COUNTIF(Alcance!$E725,H$377)","v":0},0,1,0]
["PCB s en Agua",null,"Aroclor 1260",null,{"$f":"COUNTIF(Alcance!$E726,E$377)","v":0},{"$f":"COUNTIF(Alcance!$E726,F$377)","v":0},{"$f":"COUNTIF(Alcance!$E726,G$377)","v":0},{"$f":"COUNTIF(Alcance!$E726,H$377)","v":0},0,1,0]
["Herbicidas",null,"Pentaclorofenol",null,{"$f":"COUNTIF(Alcance!$E727,E$377)","v":0},{"$f":"COUNTIF(Alcance!$E727,F$377)","v":0},{"$f":"COUNTIF(Alcance!$E727,G$377)","v":0},{"$f":"COUNTIF(Alcance!$E727,H$377)","v":0},0,0.5,0]
["Herbicidas",null,"Acifluorfen",null,{"$f":"COUNTIF(Alcance!$E728,E$377)","v":0},{"$f":"COUNTIF(Alcance!$E728,F$377)","v":0},{"$f":"COUNTIF(Alcance!$E728,G$377)","v":0},{"$f":"COUNTIF(Alcance!$E728,H$377)","v":0},0,0.5,0]
["Herbicidas",null,"Bentazon",null,{"$f":"COUNTIF(Alcance!$E729,E$377)","v":0},{"$f":"COUNTIF(Alcance!$E729,F$377)","v":0},{"$f":"COUNTIF(Alcance!$E729,G$377)","v":0},{"$f":"COUNTIF(Alcance!$E729,H$377)","v":0},0,0.5,0]
["Herbicidas",null,"2,4-D Total",null,{"$f":"COUNTIF(Alcance!$E730,E$377)","v":0},{"$f":"COUNTIF(Alcance!$E730,F$377)","v":0},{"$f":"COUNTIF(Alcance!$E730,G$377)","v":0},{"$f":"COUNTIF(Alcance!$E730,H$377)","v":0},0,0.5,0]
["Herbicidas",null,"2,4-DB",null,{"$f":"COUNTIF(Alcance!$E731,E$377)","v":0},{"$f":"COUNTIF(Alcance!$E731,F$377)","v":0},{"$f":"COUNTIF(Alcance!$E731,G$377)","v":0},{"$f":"COUNTIF(Alcance!$E731,H$377)","v":0},0,0.5,0]
["Herbicidas",null,"Dicamba",null,{"$f":"COUNTIF(Alcance!$E732,E$377)","v":0},{"$f":"COUNTIF(Alcance!$E732,F$377)","v":0},{"$f":"COUNTIF(Alcance!$E732,G$377)","v":0},{"$f":"COUNTIF(Alcance!$E732,H$377)","v":0},0,0.5,0]
["Herbicidas",null,"Acido 3,5-diclorobenzoico",null,{"$f":"COUNTIF(Alcance!$E733,E$377)","v":0},{"$f":"COUNTIF(Alcance!$E733,F$377)","v":0},{"$f":"COUNTIF(Alcance!$E733,G$377)","v":0},{"$f":"COUNTIF(Alcance!$E733,H$377)","v":0},0,0.5,0]
["Herbicidas",null,"Dicloroprop",null,{"$f":"COUNTIF(Alcance!$E734,E$377)","v":0},{"$f":"COUNTIF(Alcance!$E734,F$377)","v":0},{"$f":"COUNTIF(Alcance!$E734,G$377)","v":0},{"$f":"COUNTIF(Alcance!$E734,H$377)","v":0},0,0.5,0]
["Herbicidas",null,"Dinoseb",null,{"$f":"COUNTIF(Alcance!$E735,E$377)","v":0},{"$f":"COUNTIF(Alcance!$E735,F$377)","v":0},{"$f":"COUNTIF(Alcance!$E735,G$377)","v":0},{"$f":"COUNTIF(Alcance!$E735,H$377)","v":0},0,0.5,0]
["Herbicidas",null,"5-Hidroxicamba",null,{"$f":"COUNTIF(Alcance!$E736,E$377)","v":0},{"$f":"COUNTIF(Alcance!$E736,F$377)","v":0},{"$f":"COUNTIF(Alcance!$E736,G$377)","v":0},{"$f":"COUNTIF(Alcance!$E736,H$377)","v":0},0,0.5,0]
["Herbicidas",null,"Picloram",null,{"$f":"COUNTIF(Alcance!$E737,E$377)","v":0},{"$f":"COUNTIF(Alcance!$E737,F$377)","v":0},{"$f":"COUNTIF(Alcance!$E737,G$377)","v":0},{"$f":"COUNTIF(Alcance!$E737,H$377)","v":0},{"$f":"SUM(E661:H661)","v":0},0.5,0]
["Herbicidas",null,"Silvex",null,{"$f":"COUNTIF(Alcance!$E738,E$377)","v":0},{"$f":"COUNTIF(Alcance!$E738,F$377)","v":0},{"$f":"COUNTIF(Alcance!$E738,G$377)","v":0},{"$f":"COUNTIF(Alcance!$E738,H$377)","v":0},0,0.5,0]
["Herbicidas",null,"2,4,5-T",null,{"$f":"COUNTIF(Alcance!$E739,E$377)","v":0},{"$f":"COUNTIF(Alcance!$E739,F$377)","v":0},{"$f":"COUNTIF(Alcance!$E739,G$377)","v":0},{"$f":"COUNTIF(Alcance!$E739,H$377)","v":0},0,0.5,0]
["Herbicidas",null,"Diquat",null,{"$f":"COUNTIF(Alcance!$E740,E$377)","v":0},{"$f":"COUNTIF(Alcance!$E740,F$377)","v":0},{"$f":"COUNTIF(Alcance!$E740,G$377)","v":0},{"$f":"COUNTIF(Alcance!$E740,H$377)","v":0},0,0.5,0]
["Herbicidas",null,"Endotal",null,{"$f":"COUNTIF(Alcance!$E741,E$377)","v":0},{"$f":"COUNTIF(Alcance!$E741,F$377)","v":0},{"$f":"COUNTIF(Alcance!$E741,G$377)","v":0},{"$f":"COUNTIF(Alcance!$E741,H$377)","v":0},0,0.5,0]
["Herbicidas",null,"Glifosato",null,{"$f":"COUNTIF(Alcance!$E742,E$377)","v":0},{"$f":"COUNTIF(Alcance!$E742,F$377)","v":0},{"$f":"COUNTIF(Alcance!$E742,G$377)","v":0},{"$f":"COUNTIF(Alcance!$E742,H$377)","v":0},0,0.5,0]
["Herbicidas",null,"Paraquat",null,{"$f":"COUNTIF(Alcance!$E743,E$377)","v":0},{"$f":"COUNTIF(Alcance!$E743,F$377)","v":0},{"$f":"COUNTIF(Alcance!$E743,G$377)","v":0},{"$f":"COUNTIF(Alcance!$E743,H$377)","v":0},0,0.5,0]
["Toxafeno",null,"Toxafeno",null,{"$f":"COUNTIF(Alcance!$E744,E$377)","v":0},{"$f":"COUNTIF(Alcance!$E744,F$377)","v":0},{"$f":"COUNTIF(Alcance!$E744,G$377)","v":0},{"$f":"COUNTIF(Alcance!$E744,H$377)","v":0},0,1,0]
["Clordano",null,"Clordano Total",null,{"$f":"COUNTIF(Alcance!$E745,E$377)","v":0},{"$f":"COUNTIF(Alcance!$E745,F$377)","v":0},{"$f":"COUNTIF(Alcance!$E745,G$377)","v":0},{"$f":"COUNTIF(Alcance!$E745,H$377)","v":0},0,1,0]
["Carbamatos",null,"Aldicarb sulfona",null,{"$f":"COUNTIF(Alcance!$E746,E$377)","v":0},{"$f":"COUNTIF(Alcance!$E746,F$377)","v":0},{"$f":"COUNTIF(Alcance!$E746,G$377)","v":0},{"$f":"COUNTIF(Alcance!$E746,H$377)","v":0},0,0.5,0]
["Carbamatos",null,"Aldicarb sulfoxido",null,{"$f":"COUNTIF(Alcance!$E747,E$377)","v":0},{"$f":"COUNTIF(Alcance!$E747,F$377)","v":0},{"$f":"COUNTIF(Alcance!$E747,G$377)","v":0},{"$f":"COUNTIF(Alcance!$E747,H$377)","v":0},0,0.5,0]
["Carbamatos",null,"Carbaril (Sevin)",null,{"$f":"COUNTIF(Alcance!$E748,E$377)","v":0},{"$f":"COUNTIF(Alcance!$E748,F$377)","v":0},{"$f":"COUNTIF(Alcance!$E748,G$377)","v":0},{"$f":"COUNTIF(Alcance!$E748,H$377)","v":0},0,0.5,0]
["Carbamatos",null,"Carbofurano (Furaden)",null,{"$f":"COUNTIF(Alcance!$E749,E$377)","v":0},{"$f":"COUNTIF(Alcance!$E749,F$377)","v":0},{"$f":"COUNTIF(Alcance!$E749,G$377)","v":0},{"$f":"COUNTIF(Alcance!$E749,H$377)","v":0},0,0.5,0]
["Carbamatos",null,"Diuron",null,{"$f":"COUNTIF(Alcance!$E750,E$377)","v":0},{"$f":"COUNTIF(Alcance!$E750,F$377)","v":0},{"$f":"COUNTIF(Alcance!$E750,G$377)","v":0},{"$f":"COUNTIF(Alcance!$E750,H$377)","v":0},0,0.5,0]
["Carbamatos",null,"3-Hidroxicarbofurano",null,{"$f":"COUNTIF(Alcance!$E751,E$377)","v":0},{"$f":"COUNTIF(Alcance!$E751,F$377)","v":0},{"$f":"COUNTIF(Alcance!$E751,G$377)","v":0},{"$f":"COUNTIF(Alcance!$E751,H$377)","v":0},0,0.5,0]
["Carbamatos",null,"Metiocarb (Mesurol)",null,{"$f":"COUNTIF(Alcance!$E752,E$377)","v":0},{"$f":"COUNTIF(Alcance!$E752,F$377)","v":0},{"$f":"COUNTIF(Alcance!$E752,G$377)","v":0},{"$f":"COUNTIF(Alcance!$E752,H$377)","v":0},0,0.5,0]
["Carbamatos",null,"Metomil (Lannate)",null,{"$f":"COUNTIF(Alcance!$E753,E$377)","v":0},{"$f":"COUNTIF(Alcance!$E753,F$377)","v":0},{"$f":"COUNTIF(Alcance!$E753,G$377)","v":0},{"$f":"COUNTIF(Alcance!$E753,H$377)","v":0},0,0.5,0]
["Carbamatos",null,"Oxamil",null,{"$f":"COUNTIF(Alcance!$E754,E$377)","v":0},{"$f":"COUNTIF(Alcance!$E754,F$377)","v":0},{"$f":"COUNTIF(Alcance!$E754,G$377)","v":0},{"$f":"COUNTIF(Alcance!$E754,H$377)","v":0},0,0.5,0]
["Carbamatos",null,"Profam",null,{"$f":"COUNTIF(Alcance!$E755,E$377)","v":0},{"$f":"COUNTIF(Alcance!$E755,F$377)","v":0},{"$f":"COUNTIF(Alcance!$E755,G$377)","v":0},{"$f":"COUNTIF(Alcance!$E755,H$377)","v":0},0,0.5,0]
["Carbamatos",null,"Propoxur (Baygon)",null,{"$f":"COUNTIF(Alcance!$E756,E$377)","v":0},{"$f":"COUNTIF(Alcance!$E756,F$377)","v":0},{"$f":"COUNTIF(Alcance!$E756,G$377)","v":0},{"$f":"COUNTIF(Alcance!$E756,H$377)","v":0},0,0.5,0]
["Hidrocarburos Aromáticos Policíclicos (PAHs)",null,"Naftaleno",null,{"$f":"COUNTIF(Alcance!$E757,E$377)","v":0},{"$f":"COUNTIF(Alcance!$E757,F$377)","v":0},{"$f":"COUNTIF(Alcance!$E757,G$377)","v":0},{"$f":"COUNTIF(Alcance!$E757,H$377)","v":0},0,0.5,0]
["Hidrocarburos Aromáticos Policíclicos (PAHs)",null,"Acenafteno",null,{"$f":"COUNTIF(Alcance!$E758,E$377)","v":0},{"$f":"COUNTIF(Alcance!$E758,F$377)","v":0},{"$f":"COUNTIF(Alcance!$E758,G$377)","v":0},{"$f":"COUNTIF(Alcance!$E758,H$377)","v":0},0,0.5,0]
["Hidrocarburos Aromáticos Policíclicos (PAHs)",null,"Acenaftileno",null,{"$f":"COUNTIF(Alcance!$E759,E$377)","v":0},{"$f":"COUNTIF(Alcance!$E759,F$377)","v":0},{"$f":"COUNTIF(Alcance!$E759,G$377)","v":0},{"$f":"COUNTIF(Alcance!$E759,H$377)","v":0},0,0.5,0]
["Hidrocarburos Aromáticos Policíclicos (PAHs)",null,"Antraceno",null,{"$f":"COUNTIF(Alcance!$E760,E$377)","v":0},{"$f":"COUNTIF(Alcance!$E760,F$377)","v":0},{"$f":"COUNTIF(Alcance!$E760,G$377)","v":0},{"$f":"COUNTIF(Alcance!$E760,H$377)","v":0},0,0.5,0]
["Hidrocarburos Aromáticos Policíclicos (PAHs)",null,"Benzo (a)antraceno",null,{"$f":"COUNTIF(Alcance!$E761,E$377)","v":0},{"$f":"COUNTIF(Alcance!$E761,F$377)","v":0},{"$f":"COUNTIF(Alcance!$E761,G$377)","v":0},{"$f":"COUNTIF(Alcance!$E761,H$377)","v":0},0,0.5,0]
["Hidrocarburos Aromáticos Policíclicos (PAHs)",null,"Benzo (a)pireno",null,{"$f":"COUNTIF(Alcance!$E762,E$377)","v":0},{"$f":"COUNTIF(Alcance!$E762,F$377)","v":0},{"$f":"COUNTIF(Alcance!$E762,G$377)","v":0},{"$f":"COUNTIF(Alcance!$E762,H$377)","v":0},0,0.5,0]
["Hidrocarburos Aromáticos Policíclicos (PAHs)",null,"Benzo (b)fluoranteno",null,{"$f":"COUNTIF(Alcance!$E763,E$377)","v":0},{"$f":"COUNTIF(Alcance!$E763,F$377)","v":0},{"$f":"COUNTIF(Alcance!$E763,G$377)","v":0},{"$f":"COUNTIF(Alcance!$E763,H$377)","v":0},0,0.5,0]
["Hidrocarburos Aromáticos Policíclicos (PAHs)",null,"Benzo (j)fluoranteno",null,{"$f":"COUNTIF(Alcance!$E764,E$377)","v":0},{"$f":"COUNTIF(Alcance!$E764,F$377)","v":0},{"$f":"COUNTIF(Alcance!$E764,G$377)","v":0},{"$f":"COUNTIF(Alcance!$E764,H$377)","v":0},0,0.5,0]
["Hidrocarburos Aromáticos Policíclicos (PAHs)",null,"Benzo (k)fluoranteno",null,{"$f":"COUNTIF(Alcance!$E765,E$377)","v":0},{"$f":"COUNTIF(Alcance!$E765,F$377)","v":0},{"$f":"COUNTIF(Alcance!$E765,G$377)","v":0},{"$f":"COUNTIF(Alcance!$E765,H$377)","v":0},0,0.5,0]
["Hidrocarburos Aromáticos Policíclicos (PAHs)",null,"Benzo (g,h,i)perileno",null,{"$f":"COUNTIF(Alcance!$E766,E$377)","v":0},{"$f":"COUNTIF(Alcance!$E766,F$377)","v":0},{"$f":"COUNTIF(Alcance!$E766,G$377)","v":0},{"$f":"COUNTIF(Alcance!$E766,H$377)","v":0},0,0.5,0]
["Hidrocarburos Aromáticos Policíclicos (PAHs)",null,"Criseno",null,{"$f":"COUNTIF(Alcance!$E767,E$377)","v":0},{"$f":"COUNTIF(Alcance!$E767,F$377)","v":0},{"$f":"COUNTIF(Alcance!$E767,G$377)","v":0},{"$f":"COUNTIF(Alcance!$E767,H$377)","v":0},0,0.5,0]
["Hidrocarburos Aromáticos Policíclicos (PAHs)",null,"Dibenz (a,h)antraceno",null,{"$f":"COUNTIF(Alcance!$E768,E$377)","v":0},{"$f":"COUNTIF(Alcance!$E768,F$377)","v":0},{"$f":"COUNTIF(Alcance!$E768,G$377)","v":0},{"$f":"COUNTIF(Alcance!$E768,H$377)","v":0},0,0.5,0]
["Hidrocarburos Aromáticos Policíclicos (PAHs)",null,"Fluoranteno",null,{"$f":"COUNTIF(Alcance!$E769,E$377)","v":0},{"$f":"COUNTIF(Alcance!$E769,F$377)","v":0},{"$f":"COUNTIF(Alcance!$E769,G$377)","v":0},{"$f":"COUNTIF(Alcance!$E769,H$377)","v":0},0,0.5,0]
["Hidrocarburos Aromáticos Policíclicos (PAHs)",null,"Fluoreno",null,{"$f":"COUNTIF(Alcance!$E770,E$377)","v":0},{"$f":"COUNTIF(Alcance!$E770,F$377)","v":0},{"$f":"COUNTIF(Alcance!$E770,G$377)","v":0},{"$f":"COUNTIF(Alcance!$E770,H$377)","v":0},0,0.5,0]
["Hidrocarburos Aromáticos Policíclicos (PAHs)",null,"Indenol (1,2,3-cd)pireno",null,{"$f":"COUNTIF(Alcance!$E771,E$377)","v":0},{"$f":"COUNTIF(Alcance!$E771,F$377)","v":0},{"$f":"COUNTIF(Alcance!$E771,G$377)","v":0},{"$f":"COUNTIF(Alcance!$E771,H$377)","v":0},0,0.5,0]
["Hidrocarburos Aromáticos Policíclicos (PAHs)",null,"3-Metilcolantreno",null,{"$f":"COUNTIF(Alcance!$E772,E$377)","v":0},{"$f":"COUNTIF(Alcance!$E772,F$377)","v":0},{"$f":"COUNTIF(Alcance!$E772,G$377)","v":0},{"$f":"COUNTIF(Alcance!$E772,H$377)","v":0},0,0.5,0]
["Hidrocarburos Aromáticos Policíclicos (PAHs)",null,"Fenantreno",null,{"$f":"COUNTIF(Alcance!$E773,E$377)","v":0},{"$f":"COUNTIF(Alcance!$E773,F$377)","v":0},{"$f":"COUNTIF(Alcance!$E773,G$377)","v":0},{"$f":"COUNTIF(Alcance!$E773,H$377)","v":0},0,0.5,0]
["Hidrocarburos Aromáticos Policíclicos (PAHs)",null,"Pireno",null,{"$f":"COUNTIF(Alcance!$E774,E$377)","v":0},{"$f":"COUNTIF(Alcance!$E774,F$377)","v":0},{"$f":"COUNTIF(Alcance!$E774,G$377)","v":0},{"$f":"COUNTIF(Alcance!$E774,H$377)","v":0},0,0.5,0]
["TPH (Hidrocarburos derivados del petróleo)",null,"Hidrocarburos",null,{"$f":"COUNTIF(Alcance!$E775,E$377)","v":0},{"$f":"COUNTIF(Alcance!$E775,F$377)","v":0},{"$f":"COUNTIF(Alcance!$E775,G$377)","v":0},{"$f":"COUNTIF(Alcance!$E775,H$377)","v":0},0,1,0]
["TPH (Hidrocarburos derivados del petróleo)",null,"Hidrocarburos del Petróleo (Fracción GRO)",null,{"$f":"COUNTIF(Alcance!$E776,E$377)","v":0},{"$f":"COUNTIF(Alcance!$E776,F$377)","v":0},{"$f":"COUNTIF(Alcance!$E776,G$377)","v":0},{"$f":"COUNTIF(Alcance!$E776,H$377)","v":0},0,5,0]
["TPH (Hidrocarburos derivados del petróleo)",null,"Hidrocarburos del Petróleo (Fracción DRO)",null,{"$f":"COUNTIF(Alcance!$E777,E$377)","v":0},{"$f":"COUNTIF(Alcance!$E777,F$377)","v":0},{"$f":"COUNTIF(Alcance!$E777,G$377)","v":0},{"$f":"COUNTIF(Alcance!$E777,H$377)","v":0},0,5,0]
["Toma de muestra simple o puntual aguas marinas",null,"pH",null,{"$f":"COUNTIF(Alcance!$E778,E$377)","v":0},{"$f":"COUNTIF(Alcance!$E778,F$377)","v":0},{"$f":"COUNTIF(Alcance!$E778,G$377)","v":0},{"$f":"COUNTIF(Alcance!$E778,H$377)","v":0},0,2.5,{"$f":"IF(I702>0,J702,IF(I703>0,J702,IF(I704>0,J702,IF(I705>0,J702,IF(I706>0,J702,IF(I707>0,J702,IF(I708>0,J702,IF(I709>0,J702,IF(I710>0,J702,0)))))))))","v":0}]
["Toma de muestra simple o puntual aguas marinas",null,"Temperatura",null,{"$f":"COUNTIF(Alcance!$E779,E$377)","v":0},{"$f":"COUNTIF(Alcance!$E779,F$377)","v":0},{"$f":"COUNTIF(Alcance!$E779,G$377)","v":0},{"$f":"COUNTIF(Alcance!$E779,H$377)","v":0},0]
["Toma de muestra simple o puntual aguas marinas",null,"Conductividad Eléctrica",null,{"$f":"COUNTIF(Alcance!$E780,E$377)","v":0},{"$f":"COUNTIF(Alcance!$E780,F$377)","v":0},{"$f":"COUNTIF(Alcance!$E780,G$377)","v":0},{"$f":"COUNTIF(Alcance!$E780,H$377)","v":0},0]
["Toma de muestra simple o puntual aguas marinas",null,"Dióxido de Carbono in situ",null,{"$f":"COUNTIF(Alcance!$E781,E$377)","v":0},{"$f":"COUNTIF(Alcance!$E781,F$377)","v":0},{"$f":"COUNTIF(Alcance!$E781,G$377)","v":0},{"$f":"COUNTIF(Alcance!$E781,H$377)","v":0},0]
["Toma de muestra simple o puntual aguas marinas",null,"Oxigeno Disuelto (Membarana y Luminiscencia)",null,{"$f":"COUNTIF(Alcance!$E782,E$377)","v":0},{"$f":"COUNTIF(Alcance!$E782,F$377)","v":0},{"$f":"COUNTIF(Alcance!$E782,G$377)","v":0},{"$f":"COUNTIF(Alcance!$E782,H$377)","v":0},0]
["Toma de muestra simple o puntual aguas marinas",null,"Cloro Residual",null,{"$f":"COUNTIF(Alcance!$E783,E$377)","v":0},{"$f":"COUNTIF(Alcance!$E783,F$377)","v":0},{"$f":"COUNTIF(Alcance!$E783,G$377)","v":0},{"$f":"COUNTIF(Alcance!$E783,H$377)","v":0},0]
["Toma de muestra simple o puntual aguas marinas",null,"Cloro Total",null,{"$f":"COUNTIF(Alcance!$E784,E$377)","v":0},{"$f":"COUNTIF(Alcance!$E784,F$377)","v":0},{"$f":"COUNTIF(Alcance!$E784,G$377)","v":0},{"$f":"COUNTIF(Alcance!$E784,H$377)","v":0},0]
["Toma de muestra simple o puntual aguas marinas",null,"Sólidos Sedimentables",null,{"$f":"COUNTIF(Alcance!$E785,E$377)","v":0},{"$f":"COUNTIF(Alcance!$E785,F$377)","v":0},{"$f":"COUNTIF(Alcance!$E785,G$377)","v":0},{"$f":"COUNTIF(Alcance!$E785,H$377)","v":0},0]
["Toma de muestra simple o puntual aguas marinas",null,"Caudal",null,{"$f":"COUNTIF(Alcance!$E786,E$377)","v":0},{"$f":"COUNTIF(Alcance!$E786,F$377)","v":0},{"$f":"COUNTIF(Alcance!$E786,G$377)","v":0},{"$f":"COUNTIF(Alcance!$E786,H$377)","v":0},0]
["Variables adicionales en aguas marinas",null,"Especificado por el usuario",null,{"$f":"COUNTIF(Alcance!$E$787:$F$834,E$377)","v":0},{"$f":"COUNTIF(Alcance!$E$787:$F$834,F$377)","v":0},{"$f":"COUNTIF(Alcance!$E$787:$F$834,G$377)","v":0},{"$f":"COUNTIF(Alcance!$E$787:$F$834,H$377)","v":0},{"$f":"SUM(E711:H711)","v":0},1,{"$f":"I711*J711","v":0},"Total Parámetros Calculados",{"$f":"SUM(K378:K711)","v":0}]
["TOTALES",null,null,null,{"$f":"SUM(E378:E711)","v":0},{"$f":"SUM(F378:F711)","v":0},{"$f":"SUM(G378:G711)","v":0},{"$f":"SUM(H378:H711)","v":0},{"$f":"SUM(I378:I711)","v":0}]
[]
["MATRIZ RESIDUOS PELIGROSOS"]
["18. Matriz / Grupo",null,"19. Variable",null,"INICIAL","SEGUIMIENTO","RENOVACIÓN","EXTENSIÓN","Total Variables","Equivalencia en Parámetros","Parámetros Calculados"]
["TCLP - Metales",null,"Antimonio",null,{"$f":"COUNTIF(Alcance!$E840,E$715)","v":0},{"$f":"COUNTIF(Alcance!$E840,F$715)","v":0},{"$f":"COUNTIF(Alcance!$E840,G$715)","v":0},{"$f":"COUNTIF(Alcance!$E840,H$715)","v":0},{"$f":"SUM(E716:H716)","v":0},1,{"$f":"I716*J716","v":0}]
["TCLP - Metales",null,"Arsénico",null,{"$f":"COUNTIF(Alcance!$E841,E$715)","v":0},{"$f":"COUNTIF(Alcance!$E841,F$715)","v":0},{"$f":"COUNTIF(Alcance!$E841,G$715)","v":0},{"$f":"COUNTIF(Alcance!$E841,H$715)","v":0},{"$f":"SUM(E717:H717)","v":0},3,{"$f":"I717*J717","v":0}]
["TCLP - Metales",null,"Bario",null,{"$f":"COUNTIF(Alcance!$E842,E$715)","v":0},{"$f":"COUNTIF(Alcance!$E842,F$715)","v":0},{"$f":"COUNTIF(Alcance!$E842,G$715)","v":0},{"$f":"COUNTIF(Alcance!$E842,H$715)","v":0},0,1,0]
["TCLP - Metales",null,"Cadmio",null,{"$f":"COUNTIF(Alcance!$E843,E$715)","v":0},{"$f":"COUNTIF(Alcance!$E843,F$715)","v":0},{"$f":"COUNTIF(Alcance!$E843,G$715)","v":0},{"$f":"COUNTIF(Alcance!$E843,H$715)","v":0},0,1,0]
["TCLP - Metales",null,"Cobre",null,{"$f":"COUNTIF(Alcance!$E844,E$715)","v":0},{"$f":"COUNTIF(Alcance!$E844,F$715)","v":0},{"$f":"COUNTIF(Alcance!$E844,G$715)","v":0},{"$f":"COUNTIF(Alcance!$E844,H$715)","v":0},0,1,0]
["TCLP - Metales",null,"Cromo",null,{"$f":"COUNTIF(Alcance!$E845,E$715)","v":0},{"$f":"COUNTIF(Alcance!$E845,F$715)","v":0},{"$f":"COUNTIF(Alcance!$E845,G$715)","v":0},{"$f":"COUNTIF(Alcance!$E845,H$715)","v":0},0,1,0]
["TCLP - Metales",null,"Mercurio",null,{"$f":"COUNTIF(Alcance!$E846,E$715)","v":0},{"$f":"COUNTIF(Alcance!$E846,F$715)","v":0},{"$f":"COUNTIF(Alcance!$E846,G$715)","v":0},{"$f":"COUNTIF(Alcance!$E846,H$715)","v":0},0,2,0]
["TCLP - Metales",null,"Molibdeno",null,{"$f":"COUNTIF(Alcance!$E847,E$715)","v":0},{"$f":"COUNTIF(Alcance!$E847,F$715)","v":0},{"$f":"COUNTIF(Alcance!$E847,G$715)","v":0},{"$f":"COUNTIF(Alcance!$E847,H$715)","v":0},0,1,0]
["TCLP - Metales",null,"Níquel",null,{"$f":"COUNTIF(Alcance!$E848,E$715)","v":0},{"$f":"COUNTIF(Alcance!$E848,F$715)","v":0},{"$f":"COUNTIF(Alcance!$E848,G$715)","v":0},{"$f":"COUNTIF(Alcance!$E848,H$715)","v":0},0,1,0]
["TCLP - Metales",null,"Plata",null,{"$f":"COUNTIF(Alcance!$E849,E$715)","v":0},{"$f":"COUNTIF(Alcance!$E849,F$715)","v":0},{"$f":"COUNTIF(Alcance!$E849,G$715)","v":0},{"$f":"COUNTIF(Alcance!$E849,H$715)","v":0},0,1,0]
["TCLP - Metales",null,"Plomo",null,{"$f":"COUNTIF(Alcance!$E850,E$715)","v":0},{"$f":"COUNTIF(Alcance!$E850,F$715)","v":0},{"$f":"COUNTIF(Alcance!$E850,G$715)","v":0},{"$f":"COUNTIF(Alcance!$E850,H$715)","v":0},0,1,0]
["TCLP - Metales",null,"Selenio",null,{"$f":"COUNTIF(Alcance!$E851,E$715)","v":0},{"$f":"COUNTIF(Alcance!$E851,F$715)","v":0},{"$f":"COUNTIF(Alcance!$E851,G$715)","v":0},{"$f":"COUNTIF(Alcance!$E851,H$715)","v":0},0,1,0]
["TCLP - Metales",null,"Vanadio",null,{"$f":"COUNTIF(Alcance!$E852,E$715)","v":0},{"$f":"COUNTIF(Alcance!$E852,F$715)","v":0},{"$f":"COUNTIF(Alcance!$E852,G$715)","v":0},{"$f":"COUNTIF(Alcance!$E852,H$715)","v":0},0,1,0]
["TCLP - Metales",null,"Zinc",null,{"$f":"COUNTIF(Alcance!$E853,E$715)","v":0},{"$f":"COUNTIF(Alcance!$E853,F$715)","v":0},{"$f":"COUNTIF(Alcance!$E853,G$715)","v":0},{"$f":"COUNTIF(Alcance!$E853,H$715)","v":0},0,1,0]
["Ecotoxicidad",null,"Toxicidad Aguda para Daphnias",null,{"$f":"COUNTIF(Alcance!$E854,E$715)","v":0},{"$f":"COUNTIF(Alcance!$E854,F$715)","v":0},{"$f":"COUNTIF(Alcance!$E854,G$715)","v":0},{"$f":"COUNTIF(Alcance!$E854,H$715)","v":0},0,2.5,0]
["Ecotoxicidad",null,"Toxicidad aguda para microalgas",null,{"$f":"COUNTIF(Alcance!$E855,E$715)","v":0},{"$f":"COUNTIF(Alcance!$E855,F$715)","v":0},{"$f":"COUNTIF(Alcance!$E855,G$715)","v":0},{"$f":"COUNTIF(Alcance!$E855,H$715)","v":0},0,2.5,0]
["Ecotoxicidad",null,"Toxicidad aguda en peces ",null,{"$f":"COUNTIF(Alcance!$E856,E$715)","v":0},{"$f":"COUNTIF(Alcance!$E856,F$715)","v":0},{"$f":"COUNTIF(Alcance!$E856,G$715)","v":0},{"$f":"COUNTIF(Alcance!$E856,H$715)","v":0},0,2.5,0]
["Cromo VI",null,"Cromo VI",null,{"$f":"COUNTIF(Alcance!$E857,E$715)","v":0},{"$f":"COUNTIF(Alcance!$E857,F$715)","v":0},{"$f":"COUNTIF(Alcance!$E857,G$715)","v":0},{"$f":"COUNTIF(Alcance!$E857,H$715)","v":0},0,1,0]
["Cianuro",null,"Cianuro",null,{"$f":"COUNTIF(Alcance!$E858,E$715)","v":0},{"$f":"COUNTIF(Alcance!$E858,F$715)","v":0},{"$f":"COUNTIF(Alcance!$E858,G$715)","v":0},{"$f":"COUNTIF(Alcance!$E858,H$715)","v":0},0,1,0]
["Reactividad",null,"Reactividad (Cianuro)",null,{"$f":"COUNTIF(Alcance!$E859,E$715)","v":0},{"$f":"COUNTIF(Alcance!$E859,F$715)","v":0},{"$f":"COUNTIF(Alcance!$E859,G$715)","v":0},{"$f":"COUNTIF(Alcance!$E859,H$715)","v":0},0,1,0]
["Reactividad",null,"Reactividad (Sulfuro)",null,{"$f":"COUNTIF(Alcance!$E860,E$715)","v":0},{"$f":"COUNTIF(Alcance!$E860,F$715)","v":0},{"$f":"COUNTIF(Alcance!$E860,G$715)","v":0},{"$f":"COUNTIF(Alcance!$E860,H$715)","v":0},0,1,0]
["Reactividad",null,"Reactividad - Prueba para Sustancias que en Contacto con Agua Desprenden Gases Inflamables",null,{"$f":"COUNTIF(Alcance!$E861,E$715)","v":0},{"$f":"COUNTIF(Alcance!$E861,F$715)","v":0},{"$f":"COUNTIF(Alcance!$E861,G$715)","v":0},{"$f":"COUNTIF(Alcance!$E861,H$715)","v":0},0,1,0]
["Reactividad",null,"Reactividad - Combustión espontánea (Sólidos)",null,{"$f":"COUNTIF(Alcance!$E862,E$715)","v":0},{"$f":"COUNTIF(Alcance!$E862,F$715)","v":0},{"$f":"COUNTIF(Alcance!$E862,G$715)","v":0},{"$f":"COUNTIF(Alcance!$E862,H$715)","v":0},0,1,0]
["Reactividad",null,"Reactividad - Combustión espontánea (Líquidos)",null,{"$f":"COUNTIF(Alcance!$E863,E$715)","v":0},{"$f":"COUNTIF(Alcance!$E863,F$715)","v":0},{"$f":"COUNTIF(Alcance!$E863,G$715)","v":0},{"$f":"COUNTIF(Alcance!$E863,H$715)","v":0},0,1,0]
["Reactividad",null,"Reactividad - Calentamiento espontáneo (Sólidos)",null,{"$f":"COUNTIF(Alcance!$E864,E$715)","v":0},{"$f":"COUNTIF(Alcance!$E864,F$715)","v":0},{"$f":"COUNTIF(Alcance!$E864,G$715)","v":0},{"$f":"COUNTIF(Alcance!$E864,H$715)","v":0},0,1,0]
["Reactividad",null,"Reactividad - Calentamiento espontáneo (Líquidos)",null,{"$f":"COUNTIF(Alcance!$E865,E$715)","v":0},{"$f":"COUNTIF(Alcance!$E865,F$715)","v":0},{"$f":"COUNTIF(Alcance!$E865,G$715)","v":0},{"$f":"COUNTIF(Alcance!$E865,H$715)","v":0},0,1,0]
["Reactividad",null,"Reactividad - Método de Prueba para Sustancias Sólidas Comburentes",null,{"$f":"COUNTIF(Alcance!$E866,E$715)","v":0},{"$f":"COUNTIF(Alcance!$E866,F$715)","v":0},{"$f":"COUNTIF(Alcance!$E866,G$715)","v":0},{"$f":"COUNTIF(Alcance!$E866,H$715)","v":0},0,1,0]
["Corrosividad",null,"Corrosividad (Medición electrométrica de pH)",null,{"$f":"COUNTIF(Alcance!$E867,E$715)","v":0},{"$f":"COUNTIF(Alcance!$E867,F$715)","v":0},{"$f":"COUNTIF(Alcance!$E867,G$715)","v":0},{"$f":"COUNTIF(Alcance!$E867,H$715)","v":0},0,1,0]
["Corrosividad",null,"Corrosividad (Reserva Ácido / Álcali)",null,{"$f":"COUNTIF(Alcance!$E868,E$715)","v":0},{"$f":"COUNTIF(Alcance!$E868,F$715)","v":0},{"$f":"COUNTIF(Alcance!$E868,G$715)","v":0},{"$f":"COUNTIF(Alcance!$E868,H$715)","v":0},0,1,0]
["Corrosividad",null,"Corrosividad (Método de Prueba Corrosión al Acero)",null,{"$f":"COUNTIF(Alcance!$E869,E$715)","v":0},{"$f":"COUNTIF(Alcance!$E869,F$715)","v":0},{"$f":"COUNTIF(Alcance!$E869,G$715)","v":0},{"$f":"COUNTIF(Alcance!$E869,H$715)","v":0},0,1,0]
["Punto de inflamación",null,"Punto de inflamabilidad (flash point) - Residuos Líquidos",null,{"$f":"COUNTIF(Alcance!$E870,E$715)","v":0},{"$f":"COUNTIF(Alcance!$E870,F$715)","v":0},{"$f":"COUNTIF(Alcance!$E870,G$715)","v":0},{"$f":"COUNTIF(Alcance!$E870,H$715)","v":0},0,1,0]
["Punto de inflamación",null,"Punto de inflamabilidad (flash point) - Residuos Sólidos",null,{"$f":"COUNTIF(Alcance!$E871,E$715)","v":0},{"$f":"COUNTIF(Alcance!$E871,F$715)","v":0},{"$f":"COUNTIF(Alcance!$E871,G$715)","v":0},{"$f":"COUNTIF(Alcance!$E871,H$715)","v":0},0,1,0]
["TCLP - Compuestos Orgánicos Semi-Volátiles",null,"1,4-Diclorobenceno",null,{"$f":"COUNTIF(Alcance!$E872,E$715)","v":0},{"$f":"COUNTIF(Alcance!$E872,F$715)","v":0},{"$f":"COUNTIF(Alcance!$E872,G$715)","v":0},{"$f":"COUNTIF(Alcance!$E872,H$715)","v":0},0,1,0]
["TCLP - Compuestos Orgánicos Semi-Volátiles",null,"Hexaclorobutadieno",null,{"$f":"COUNTIF(Alcance!$E873,E$715)","v":0},{"$f":"COUNTIF(Alcance!$E873,F$715)","v":0},{"$f":"COUNTIF(Alcance!$E873,G$715)","v":0},{"$f":"COUNTIF(Alcance!$E873,H$715)","v":0},0,1,0]
["TCLP - Compuestos Orgánicos Semi-Volátiles",null,"Hexacloroetano",null,{"$f":"COUNTIF(Alcance!$E874,E$715)","v":0},{"$f":"COUNTIF(Alcance!$E874,F$715)","v":0},{"$f":"COUNTIF(Alcance!$E874,G$715)","v":0},{"$f":"COUNTIF(Alcance!$E874,H$715)","v":0},0,1,0]
["TCLP - Compuestos Orgánicos Semi-Volátiles",null,"Nitrobenceno",null,{"$f":"COUNTIF(Alcance!$E875,E$715)","v":0},{"$f":"COUNTIF(Alcance!$E875,F$715)","v":0},{"$f":"COUNTIF(Alcance!$E875,G$715)","v":0},{"$f":"COUNTIF(Alcance!$E875,H$715)","v":0},0,1,0]
["TCLP - Compuestos Orgánicos Semi-Volátiles",null,"Piridina",null,{"$f":"COUNTIF(Alcance!$E876,E$715)","v":0},{"$f":"COUNTIF(Alcance!$E876,F$715)","v":0},{"$f":"COUNTIF(Alcance!$E876,G$715)","v":0},{"$f":"COUNTIF(Alcance!$E876,H$715)","v":0},0,1,0]
["TCLP - Compuestos Orgánicos Semi-Volátiles",null,"2,4-Dinitrotolueno",null,{"$f":"COUNTIF(Alcance!$E877,E$715)","v":0},{"$f":"COUNTIF(Alcance!$E877,F$715)","v":0},{"$f":"COUNTIF(Alcance!$E877,G$715)","v":0},{"$f":"COUNTIF(Alcance!$E877,H$715)","v":0},0,1,0]
["TCLP - Compuestos Orgánicos Semi-Volátiles",null,"Hexanoclorobenceno",null,{"$f":"COUNTIF(Alcance!$E878,E$715)","v":0},{"$f":"COUNTIF(Alcance!$E878,F$715)","v":0},{"$f":"COUNTIF(Alcance!$E878,G$715)","v":0},{"$f":"COUNTIF(Alcance!$E878,H$715)","v":0},0,1,0]
["TCLP - Compuestos Orgánicos Semi-Volátiles",null,"o-Cresol",null,{"$f":"COUNTIF(Alcance!$E879,E$715)","v":0},{"$f":"COUNTIF(Alcance!$E879,F$715)","v":0},{"$f":"COUNTIF(Alcance!$E879,G$715)","v":0},{"$f":"COUNTIF(Alcance!$E879,H$715)","v":0},0,1,0]
["TCLP - Compuestos Orgánicos Semi-Volátiles",null,"p-Cresol",null,{"$f":"COUNTIF(Alcance!$E880,E$715)","v":0},{"$f":"COUNTIF(Alcance!$E880,F$715)","v":0},{"$f":"COUNTIF(Alcance!$E880,G$715)","v":0},{"$f":"COUNTIF(Alcance!$E880,H$715)","v":0},0,1,0]
["TCLP - Compuestos Orgánicos Semi-Volátiles",null,"m+p-Cresol",null,{"$f":"COUNTIF(Alcance!$E881,E$715)","v":0},{"$f":"COUNTIF(Alcance!$E881,F$715)","v":0},{"$f":"COUNTIF(Alcance!$E881,G$715)","v":0},{"$f":"COUNTIF(Alcance!$E881,H$715)","v":0},0,1,0]
["TCLP - Compuestos Orgánicos Semi-Volátiles",null,"Cresol Total",null,{"$f":"COUNTIF(Alcance!$E882,E$715)","v":0},{"$f":"COUNTIF(Alcance!$E882,F$715)","v":0},{"$f":"COUNTIF(Alcance!$E882,G$715)","v":0},{"$f":"COUNTIF(Alcance!$E882,H$715)","v":0},0,1,0]
["TCLP - Compuestos Orgánicos Semi-Volátiles",null,"Pentaclorofenol",null,{"$f":"COUNTIF(Alcance!$E883,E$715)","v":0},{"$f":"COUNTIF(Alcance!$E883,F$715)","v":0},{"$f":"COUNTIF(Alcance!$E883,G$715)","v":0},{"$f":"COUNTIF(Alcance!$E883,H$715)","v":0},0,1,0]
["TCLP - Compuestos Orgánicos Semi-Volátiles",null,"2,4,5-Triclorofenol",null,{"$f":"COUNTIF(Alcance!$E884,E$715)","v":0},{"$f":"COUNTIF(Alcance!$E884,F$715)","v":0},{"$f":"COUNTIF(Alcance!$E884,G$715)","v":0},{"$f":"COUNTIF(Alcance!$E884,H$715)","v":0},0,1,0]
["TCLP - Compuestos Orgánicos Semi-Volátiles",null,"2,4,6-Triclorofenol",null,{"$f":"COUNTIF(Alcance!$E885,E$715)","v":0},{"$f":"COUNTIF(Alcance!$E885,F$715)","v":0},{"$f":"COUNTIF(Alcance!$E885,G$715)","v":0},{"$f":"COUNTIF(Alcance!$E885,H$715)","v":0},0,1,0]
["TCLP - Compuestos Orgánicos Semi-Volátiles",null,"Gamma-BHC (Lindano)",null,{"$f":"COUNTIF(Alcance!$E886,E$715)","v":0},{"$f":"COUNTIF(Alcance!$E886,F$715)","v":0},{"$f":"COUNTIF(Alcance!$E886,G$715)","v":0},{"$f":"COUNTIF(Alcance!$E886,H$715)","v":0},0,1,0]
["TCLP - Compuestos Orgánicos Semi-Volátiles",null,"Clordano Total",null,{"$f":"COUNTIF(Alcance!$E887,E$715)","v":0},{"$f":"COUNTIF(Alcance!$E887,F$715)","v":0},{"$f":"COUNTIF(Alcance!$E887,G$715)","v":0},{"$f":"COUNTIF(Alcance!$E887,H$715)","v":0},0,1,0]
["TCLP - Compuestos Orgánicos Semi-Volátiles",null,"Endrìn",null,{"$f":"COUNTIF(Alcance!$E888,E$715)","v":0},{"$f":"COUNTIF(Alcance!$E888,F$715)","v":0},{"$f":"COUNTIF(Alcance!$E888,G$715)","v":0},{"$f":"COUNTIF(Alcance!$E888,H$715)","v":0},0,1,0]
["TCLP - Compuestos Orgánicos Semi-Volátiles",null,"Heptacloro",null,{"$f":"COUNTIF(Alcance!$E889,E$715)","v":0},{"$f":"COUNTIF(Alcance!$E889,F$715)","v":0},{"$f":"COUNTIF(Alcance!$E889,G$715)","v":0},{"$f":"COUNTIF(Alcance!$E889,H$715)","v":0},0,1,0]
["TCLP - Compuestos Orgánicos Semi-Volátiles",null,"Metoxicloro",null,{"$f":"COUNTIF(Alcance!$E890,E$715)","v":0},{"$f":"COUNTIF(Alcance!$E890,F$715)","v":0},{"$f":"COUNTIF(Alcance!$E890,G$715)","v":0},{"$f":"COUNTIF(Alcance!$E890,H$715)","v":0},0,1,0]
["TCLP - Compuestos Orgánicos Semi-Volátiles",null,"Toxafeno",null,{"$f":"COUNTIF(Alcance!$E891,E$715)","v":0},{"$f":"COUNTIF(Alcance!$E891,F$715)","v":0},{"$f":"COUNTIF(Alcance!$E891,G$715)","v":0},{"$f":"COUNTIF(Alcance!$E891,H$715)","v":0},0,1,0]
["TCLP - Compuestos Orgánicos Semi-Volátiles",null,"2,4-D",null,{"$f":"COUNTIF(Alcance!$E892,E$715)","v":0},{"$f":"COUNTIF(Alcance!$E892,F$715)","v":0},{"$f":"COUNTIF(Alcance!$E892,G$715)","v":0},{"$f":"COUNTIF(Alcance!$E892,H$715)","v":0},0,1,0]
["TCLP - Compuestos Orgánicos Semi-Volátiles",null,"Silvex (2,4,5-TP)",null,{"$f":"COUNTIF(Alcance!$E893,E$715)","v":0},{"$f":"COUNTIF(Alcance!$E893,F$715)","v":0},{"$f":"COUNTIF(Alcance!$E893,G$715)","v":0},{"$f":"COUNTIF(Alcance!$E893,H$715)","v":0},0,1,0]
["Dioxinas  y Furanos",null,"1,2,3,4,6,7,8-Hpcdf",null,{"$f":"COUNTIF(Alcance!$E894,E$715)","v":0},{"$f":"COUNTIF(Alcance!$E894,F$715)","v":0},{"$f":"COUNTIF(Alcance!$E894,G$715)","v":0},{"$f":"COUNTIF(Alcance!$E894,H$715)","v":0},0,0.5,0]
["Dioxinas  y Furanos",null,"1,2,3,4,7,8,9-Hpcdf",null,{"$f":"COUNTIF(Alcance!$E895,E$715)","v":0},{"$f":"COUNTIF(Alcance!$E895,F$715)","v":0},{"$f":"COUNTIF(Alcance!$E895,G$715)","v":0},{"$f":"COUNTIF(Alcance!$E895,H$715)","v":0},0,0.5,0]
["Dioxinas  y Furanos",null,"1,2,3,4,6,7,8-Hpcdd",null,{"$f":"COUNTIF(Alcance!$E896,E$715)","v":0},{"$f":"COUNTIF(Alcance!$E896,F$715)","v":0},{"$f":"COUNTIF(Alcance!$E896,G$715)","v":0},{"$f":"COUNTIF(Alcance!$E896,H$715)","v":0},0,0.5,0]
["Dioxinas  y Furanos",null,"Hpcdd Total",null,{"$f":"COUNTIF(Alcance!$E897,E$715)","v":0},{"$f":"COUNTIF(Alcance!$E897,F$715)","v":0},{"$f":"COUNTIF(Alcance!$E897,G$715)","v":0},{"$f":"COUNTIF(Alcance!$E897,H$715)","v":0},0,0.5,0]
["Dioxinas  y Furanos",null,"Hpcdf Total",null,{"$f":"COUNTIF(Alcance!$E898,E$715)","v":0},{"$f":"COUNTIF(Alcance!$E898,F$715)","v":0},{"$f":"COUNTIF(Alcance!$E898,G$715)","v":0},{"$f":"COUNTIF(Alcance!$E898,H$715)","v":0},0,0.5,0]
["Dioxinas  y Furanos",null,"1,2,3,4,7,8-Hxcdd",null,{"$f":"COUNTIF(Alcance!$E899,E$715)","v":0},{"$f":"COUNTIF(Alcance!$E899,F$715)","v":0},{"$f":"COUNTIF(Alcance!$E899,G$715)","v":0},{"$f":"COUNTIF(Alcance!$E899,H$715)","v":0},0,0.5,0]
["Dioxinas  y Furanos",null,"1,2,3,6,7,8-Hxcdd",null,{"$f":"COUNTIF(Alcance!$E900,E$715)","v":0},{"$f":"COUNTIF(Alcance!$E900,F$715)","v":0},{"$f":"COUNTIF(Alcance!$E900,G$715)","v":0},{"$f":"COUNTIF(Alcance!$E900,H$715)","v":0},0,0.5,0]
["Dioxinas  y Furanos",null,"1,2,3,7,8,9-Hxcdd",null,{"$f":"COUNTIF(Alcance!$E901,E$715)","v":0},{"$f":"COUNTIF(Alcance!$E901,F$715)","v":0},{"$f":"COUNTIF(Alcance!$E901,G$715)","v":0},{"$f":"COUNTIF(Alcance!$E901,H$715)","v":0},0,0.5,0]
["Dioxinas  y Furanos",null,"Hxcdd Total",null,{"$f":"COUNTIF(Alcance!$E902,E$715)","v":0},{"$f":"COUNTIF(Alcance!$E902,F$715)","v":0},{"$f":"COUNTIF(Alcance!$E902,G$715)","v":0},{"$f":"COUNTIF(Alcance!$E902,H$715)","v":0},0,0.5,0]
["Dioxinas  y Furanos",null,"1,2,3,4,7,8-Hxcdf",null,{"$f":"COUNTIF(Alcance!$E903,E$715)","v":0},{"$f":"COUNTIF(Alcance!$E903,F$715)","v":0},{"$f":"COUNTIF(Alcance!$E903,G$715)","v":0},{"$f":"COUNTIF(Alcance!$E903,H$715)","v":0},0,0.5,0]
["Dioxinas  y Furanos",null,"1,2,3,6,7,8-Hxcdf",null,{"$f":"COUNTIF(Alcance!$E904,E$715)","v":0},{"$f":"COUNTIF(Alcance!$E904,F$715)","v":0},{"$f":"COUNTIF(Alcance!$E904,G$715)","v":0},{"$f":"COUNTIF(Alcance!$E904,H$715)","v":0},0,0.5,0]
["Dioxinas  y Furanos",null,"1,2,3,7,8,9-Hxcdf",null,{"$f":"COUNTIF(Alcance!$E905,E$715)","v":0},{"$f":"COUNTIF(Alcance!$E905,F$715)","v":0},{"$f":"COUNTIF(Alcance!$E905,G$715)","v":0},{"$f":"COUNTIF(Alcance!$E905,H$715)","v":0},0,0.5,0]
["Dioxinas  y Furanos",null,"2,3,4,6,7,8-Hxcdf",null,{"$f":"COUNTIF(Alcance!$E906,E$715)","v":0},{"$f":"COUNTIF(Alcance!$E906,F$715)","v":0},{"$f":"COUNTIF(Alcance!$E906,G$715)","v":0},{"$f":"COUNTIF(Alcance!$E906,H$715)","v":0},0,0.5,0]
["Dioxinas  y Furanos",null,"Hxcdf Total",null,{"$f":"COUNTIF(Alcance!$E907,E$715)","v":0},{"$f":"COUNTIF(Alcance!$E907,F$715)","v":0},{"$f":"COUNTIF(Alcance!$E907,G$715)","v":0},{"$f":"COUNTIF(Alcance!$E907,H$715)","v":0},0,0.5,0]
["Dioxinas  y Furanos",null,"1,2,3,4,6,7,8,9-OCDF",null,{"$f":"COUNTIF(Alcance!$E908,E$715)","v":0},{"$f":"COUNTIF(Alcance!$E908,F$715)","v":0},{"$f":"COUNTIF(Alcance!$E908,G$715)","v":0},{"$f":"COUNTIF(Alcance!$E908,H$715)","v":0},0,0.5,0]
["Dioxinas  y Furanos",null,"1,2,3,4,6,7,8,9-OCDD",null,{"$f":"COUNTIF(Alcance!$E909,E$715)","v":0},{"$f":"COUNTIF(Alcance!$E909,F$715)","v":0},{"$f":"COUNTIF(Alcance!$E909,G$715)","v":0},{"$f":"COUNTIF(Alcance!$E909,H$715)","v":0},0,0.5,0]
["Dioxinas  y Furanos",null,"1,2,3,7,8-Pecdd",null,{"$f":"COUNTIF(Alcance!$E910,E$715)","v":0},{"$f":"COUNTIF(Alcance!$E910,F$715)","v":0},{"$f":"COUNTIF(Alcance!$E910,G$715)","v":0},{"$f":"COUNTIF(Alcance!$E910,H$715)","v":0},0,0.5,0]
["Dioxinas  y Furanos",null,"1,2,3,7,8-Pecdf",null,{"$f":"COUNTIF(Alcance!$E911,E$715)","v":0},{"$f":"COUNTIF(Alcance!$E911,F$715)","v":0},{"$f":"COUNTIF(Alcance!$E911,G$715)","v":0},{"$f":"COUNTIF(Alcance!$E911,H$715)","v":0},0,0.5,0]
["Dioxinas  y Furanos",null,"2,3,4,7,8-Pecdf",null,{"$f":"COUNTIF(Alcance!$E912,E$715)","v":0},{"$f":"COUNTIF(Alcance!$E912,F$715)","v":0},{"$f":"COUNTIF(Alcance!$E912,G$715)","v":0},{"$f":"COUNTIF(Alcance!$E912,H$715)","v":0},0,0.5,0]
["Dioxinas  y Furanos",null,"Pecdf Total",null,{"$f":"COUNTIF(Alcance!$E913,E$715)","v":0},{"$f":"COUNTIF(Alcance!$E913,F$715)","v":0},{"$f":"COUNTIF(Alcance!$E913,G$715)","v":0},{"$f":"COUNTIF(Alcance!$E913,H$715)","v":0},0,0.5,0]
["Dioxinas  y Furanos",null,"Pecdd Total",null,{"$f":"COUNTIF(Alcance!$E914,E$715)","v":0},{"$f":"COUNTIF(Alcance!$E914,F$715)","v":0},{"$f":"COUNTIF(Alcance!$E914,G$715)","v":0},{"$f":"COUNTIF(Alcance!$E914,H$715)","v":0},0,0.5,0]
["Dioxinas  y Furanos",null,"2,3,7,8-TCDD",null,{"$f":"COUNTIF(Alcance!$E915,E$715)","v":0},{"$f":"COUNTIF(Alcance!$E915,F$715)","v":0},{"$f":"COUNTIF(Alcance!$E915,G$715)","v":0},{"$f":"COUNTIF(Alcance!$E915,H$715)","v":0},0,0.5,0]
["Dioxinas  y Furanos",null,"2,3,7,8-TCDF",null,{"$f":"COUNTIF(Alcance!$E916,E$715)","v":0},{"$f":"COUNTIF(Alcance!$E916,F$715)","v":0},{"$f":"COUNTIF(Alcance!$E916,G$715)","v":0},{"$f":"COUNTIF(Alcance!$E916,H$715)","v":0},0,0.5,0]
["Dioxinas  y Furanos",null,"TCDF Total",null,{"$f":"COUNTIF(Alcance!$E917,E$715)","v":0},{"$f":"COUNTIF(Alcance!$E917,F$715)","v":0},{"$f":"COUNTIF(Alcance!$E917,G$715)","v":0},{"$f":"COUNTIF(Alcance!$E917,H$715)","v":0},0,0.5,0]
["Dioxinas  y Furanos",null,"TCDD Total",null,{"$f":"COUNTIF(Alcance!$E918,E$715)","v":0},{"$f":"COUNTIF(Alcance!$E918,F$715)","v":0},{"$f":"COUNTIF(Alcance!$E918,G$715)","v":0},{"$f":"COUNTIF(Alcance!$E918,H$715)","v":0},0,0.5,0]
["Dioxinas  y Furanos",null,"PCDD Total",null,{"$f":"COUNTIF(Alcance!$E919,E$715)","v":0},{"$f":"COUNTIF(Alcance!$E919,F$715)","v":0},{"$f":"COUNTIF(Alcance!$E919,G$715)","v":0},{"$f":"COUNTIF(Alcance!$E919,H$715)","v":0},0,0.5,0]
["Dioxinas  y Furanos",null,"PCDD+PCDF Total",null,{"$f":"COUNTIF(Alcance!$E920,E$715)","v":0},{"$f":"COUNTIF(Alcance!$E920,F$715)","v":0},{"$f":"COUNTIF(Alcance!$E920,G$715)","v":0},{"$f":"COUNTIF(Alcance!$E920,H$715)","v":0},0,0.5,0]
["Dioxinas  y Furanos",null,"PCDF Total",null,{"$f":"COUNTIF(Alcance!$E921,E$715)","v":0},{"$f":"COUNTIF(Alcance!$E921,F$715)","v":0},{"$f":"COUNTIF(Alcance!$E921,G$715)","v":0},{"$f":"COUNTIF(Alcance!$E921,H$715)","v":0},{"$f":"SUM(E797:H797)","v":0},0.5,{"$f":"I797*J797","v":0}]
["PCB Congéneres",null,"PCB 28",null,{"$f":"COUNTIF(Alcance!$E922,E$715)","v":0},{"$f":"COUNTIF(Alcance!$E922,F$715)","v":0},{"$f":"COUNTIF(Alcance!$E922,G$715)","v":0},{"$f":"COUNTIF(Alcance!$E922,H$715)","v":0},0,1,0]
["PCB Congéneres",null,"PCB 52",null,{"$f":"COUNTIF(Alcance!$E923,E$715)","v":0},{"$f":"COUNTIF(Alcance!$E923,F$715)","v":0},{"$f":"COUNTIF(Alcance!$E923,G$715)","v":0},{"$f":"COUNTIF(Alcance!$E923,H$715)","v":0},0,1,0]
["PCB Congéneres",null,"PCB 101",null,{"$f":"COUNTIF(Alcance!$E924,E$715)","v":0},{"$f":"COUNTIF(Alcance!$E924,F$715)","v":0},{"$f":"COUNTIF(Alcance!$E924,G$715)","v":0},{"$f":"COUNTIF(Alcance!$E924,H$715)","v":0},0,1,0]
["PCB Congéneres",null,"PCB 118",null,{"$f":"COUNTIF(Alcance!$E925,E$715)","v":0},{"$f":"COUNTIF(Alcance!$E925,F$715)","v":0},{"$f":"COUNTIF(Alcance!$E925,G$715)","v":0},{"$f":"COUNTIF(Alcance!$E925,H$715)","v":0},0,1,0]
["PCB Congéneres",null,"PCB 138",null,{"$f":"COUNTIF(Alcance!$E926,E$715)","v":0},{"$f":"COUNTIF(Alcance!$E926,F$715)","v":0},{"$f":"COUNTIF(Alcance!$E926,G$715)","v":0},{"$f":"COUNTIF(Alcance!$E926,H$715)","v":0},0,1,0]
["PCB Congéneres",null,"PCB 153",null,{"$f":"COUNTIF(Alcance!$E927,E$715)","v":0},{"$f":"COUNTIF(Alcance!$E927,F$715)","v":0},{"$f":"COUNTIF(Alcance!$E927,G$715)","v":0},{"$f":"COUNTIF(Alcance!$E927,H$715)","v":0},0,1,0]
["PCB Congéneres",null,"PCB 180",null,{"$f":"COUNTIF(Alcance!$E928,E$715)","v":0},{"$f":"COUNTIF(Alcance!$E928,F$715)","v":0},{"$f":"COUNTIF(Alcance!$E928,G$715)","v":0},{"$f":"COUNTIF(Alcance!$E928,H$715)","v":0},0,1,0]
["TPH (Hidrocarburos derivados del petróleo)",null,"Hidrocarburos",null,{"$f":"COUNTIF(Alcance!$E929,E$715)","v":0},{"$f":"COUNTIF(Alcance!$E929,F$715)","v":0},{"$f":"COUNTIF(Alcance!$E929,G$715)","v":0},{"$f":"COUNTIF(Alcance!$E929,H$715)","v":0},0,1,0]
["TPH (Hidrocarburos derivados del petróleo)",null,"Hidrocarburos del Petróleo (Fracción GRO)",null,{"$f":"COUNTIF(Alcance!$E930,E$715)","v":0},{"$f":"COUNTIF(Alcance!$E930,F$715)","v":0},{"$f":"COUNTIF(Alcance!$E930,G$715)","v":0},{"$f":"COUNTIF(Alcance!$E930,H$715)","v":0},0,5,0]
["TPH (Hidrocarburos derivados del petróleo)",null,"Hidrocarburos del Petróleo (Fracción DRO)",null,{"$f":"COUNTIF(Alcance!$E931,E$715)","v":0},{"$f":"COUNTIF(Alcance!$E931,F$715)","v":0},{"$f":"COUNTIF(Alcance!$E931,G$715)","v":0},{"$f":"COUNTIF(Alcance!$E931,H$715)","v":0},0,5,0]
["Microbiológico",null,"Escherichia coli",null,{"$f":"COUNTIF(Alcance!$E932,E$715)","v":0},{"$f":"COUNTIF(Alcance!$E932,F$715)","v":0},{"$f":"COUNTIF(Alcance!$E932,G$715)","v":0},{"$f":"COUNTIF(Alcance!$E932,H$715)","v":0},0,1.5,0]
["Microbiológico",null,"Hongos  Moniliformes",null,{"$f":"COUNTIF(Alcance!$E933,E$715)","v":0},{"$f":"COUNTIF(Alcance!$E933,F$715)","v":0},{"$f":"COUNTIF(Alcance!$E933,G$715)","v":0},{"$f":"COUNTIF(Alcance!$E933,H$715)","v":0},0,1.5,0]
["Microbiológico",null,"Bacillus  subtilis",null,{"$f":"COUNTIF(Alcance!$E934,E$715)","v":0},{"$f":"COUNTIF(Alcance!$E934,F$715)","v":0},{"$f":"COUNTIF(Alcance!$E934,G$715)","v":0},{"$f":"COUNTIF(Alcance!$E934,H$715)","v":0},0,1.5,0]
["Microbiológico",null,"Enterococcus Faecalis",null,{"$f":"COUNTIF(Alcance!$E935,E$715)","v":0},{"$f":"COUNTIF(Alcance!$E935,F$715)","v":0},{"$f":"COUNTIF(Alcance!$E935,G$715)","v":0},{"$f":"COUNTIF(Alcance!$E935,H$715)","v":0},0,1.5,0]
["Microbiológico",null,"Pseudomonas aeruginosa",null,{"$f":"COUNTIF(Alcance!$E936,E$715)","v":0},{"$f":"COUNTIF(Alcance!$E936,F$715)","v":0},{"$f":"COUNTIF(Alcance!$E936,G$715)","v":0},{"$f":"COUNTIF(Alcance!$E936,H$715)","v":0},0,1.5,0]
["Toma de Muestra en Residuos Peligrosos",null,"Toma de muestra Puntual / Compuesta en Residuos Peligrosos",null,{"$f":"COUNTIF(Alcance!$E937,E$715)","v":0},{"$f":"COUNTIF(Alcance!$E937,F$715)","v":0},{"$f":"COUNTIF(Alcance!$E937,G$715)","v":0},{"$f":"COUNTIF(Alcance!$E937,H$715)","v":0},0,2.5,0]
["Toma de Muestra en Residuos Peligrosos",null,"Toma de muestra en tanques",null,{"$f":"COUNTIF(Alcance!$E938,E$715)","v":0},{"$f":"COUNTIF(Alcance!$E938,F$715)","v":0},{"$f":"COUNTIF(Alcance!$E938,G$715)","v":0},{"$f":"COUNTIF(Alcance!$E938,H$715)","v":0},0,2.5,0]
["Toma de Muestra en Residuos Peligrosos",null,"Toma de muestra en barriles",null,{"$f":"COUNTIF(Alcance!$E939,E$715)","v":0},{"$f":"COUNTIF(Alcance!$E939,F$715)","v":0},{"$f":"COUNTIF(Alcance!$E939,G$715)","v":0},{"$f":"COUNTIF(Alcance!$E939,H$715)","v":0},0,2.5,0]
["Toma de Muestra en Residuos Peligrosos",null,"Toma de muestra en pilas de desecho",null,{"$f":"COUNTIF(Alcance!$E940,E$715)","v":0},{"$f":"COUNTIF(Alcance!$E940,F$715)","v":0},{"$f":"COUNTIF(Alcance!$E940,G$715)","v":0},{"$f":"COUNTIF(Alcance!$E940,H$715)","v":0},{"$f":"SUM(E816:H816)","v":0},2.5,0]
["Toma de Muestra en Residuos Peligrosos",null,"Toma de muestra en sedimentadores",null,{"$f":"COUNTIF(Alcance!$E941,E$715)","v":0},{"$f":"COUNTIF(Alcance!$E941,F$715)","v":0},{"$f":"COUNTIF(Alcance!$E941,G$715)","v":0},{"$f":"COUNTIF(Alcance!$E941,H$715)","v":0},0,2.5,0]
["Toma de Muestra en Residuos Peligrosos",null,"Toma de muestra en lonas, costales o bolsas",null,{"$f":"COUNTIF(Alcance!$E942,E$715)","v":0},{"$f":"COUNTIF(Alcance!$E942,F$715)","v":0},{"$f":"COUNTIF(Alcance!$E942,G$715)","v":0},{"$f":"COUNTIF(Alcance!$E942,H$715)","v":0},0,2.5,0]
["Toma de Muestra en Residuos Peligrosos",null,"Toma de muestra en suelos, sedimentos y otros materiales geológicos.",null,{"$f":"COUNTIF(Alcance!$E943,E$715)","v":0},{"$f":"COUNTIF(Alcance!$E943,F$715)","v":0},{"$f":"COUNTIF(Alcance!$E943,G$715)","v":0},{"$f":"COUNTIF(Alcance!$E943,H$715)","v":0},0,2.5,0]
["Toma de Muestra en Residuos Peligrosos",null,"Toma de muestra en bandas transportadoras",null,{"$f":"COUNTIF(Alcance!$E944,E$715)","v":0},{"$f":"COUNTIF(Alcance!$E944,F$715)","v":0},{"$f":"COUNTIF(Alcance!$E944,G$715)","v":0},{"$f":"COUNTIF(Alcance!$E944,H$715)","v":0},0,2.5,0,"Total Parámetros Calculados",{"$f":"SUM(K716:K821)","v":0}]
["Otras variables en Respel",null,"Especificado por el usuario",null,{"$f":"COUNTIF(Alcance!$E$945:$F$974,E$715)","v":0},{"$f":"COUNTIF(Alcance!$E$945:$F$974,F$715)","v":0},{"$f":"COUNTIF(Alcance!$E$945:$F$974,G$715)","v":0},{"$f":"COUNTIF(Alcance!$E$945:$F$974,H$715)","v":0},{"$f":"SUM(E821:H821)","v":0},1,{"$f":"I821*J821","v":0}]
["TOTALES",null,null,null,{"$f":"SUM(E716:E821)","v":0},{"$f":"SUM(F716:F821)","v":0},{"$f":"SUM(G716:G821)","v":0},{"$f":"SUM(H716:H821)","v":0},{"$f":"SUM(I716:I821)","v":0}]
[]
["MATRIZ BIOTA"]
["18. Matriz / Grupo",null,"19. Variable",null,"INICIAL","SEGUIMIENTO","RENOVACIÓN","EXTENSIÓN","Total Variables","Equivalencia en Parámetros","Parámetros Calculados"]
["Análisis - Biológico Aguas continentales",null,"Perifiton",null,{"$f":"COUNTIF(Alcance!$E979,E$825)","v":0},{"$f":"COUNTIF(Alcance!$E979,F$825)","v":0},{"$f":"COUNTIF(Alcance!$E979,G$825)","v":0},{"$f":"COUNTIF(Alcance!$E979,H$825)","v":0},{"$f":"SUM(E826:H826)","v":0},1,{"$f":"J826*I826","v":0}]
["Análisis - Biológico Aguas continentales",null,"Bentos",null,{"$f":"COUNTIF(Alcance!$E980,E$825)","v":0},{"$f":"COUNTIF(Alcance!$E980,F$825)","v":0},{"$f":"COUNTIF(Alcance!$E980,G$825)","v":0},{"$f":"COUNTIF(Alcance!$E980,H$825)","v":0},{"$f":"SUM(E827:H827)","v":0},1,{"$f":"J827*I827","v":0}]
["Análisis - Biológico Aguas continentales",null,"Fitoplacton",null,{"$f":"COUNTIF(Alcance!$E981,E$825)","v":0},{"$f":"COUNTIF(Alcance!$E981,F$825)","v":0},{"$f":"COUNTIF(Alcance!$E981,G$825)","v":0},{"$f":"COUNTIF(Alcance!$E981,H$825)","v":0},0,1,0]
["Análisis - Biológico Aguas continentales",null,"Zooplacton",null,{"$f":"COUNTIF(Alcance!$E982,E$825)","v":0},{"$f":"COUNTIF(Alcance!$E982,F$825)","v":0},{"$f":"COUNTIF(Alcance!$E982,G$825)","v":0},{"$f":"COUNTIF(Alcance!$E982,H$825)","v":0},0,1,0]
["Análisis - Biológico Aguas continentales",null,"Macrófitas Acuáticas",null,{"$f":"COUNTIF(Alcance!$E983,E$825)","v":0},{"$f":"COUNTIF(Alcance!$E983,F$825)","v":0},{"$f":"COUNTIF(Alcance!$E983,G$825)","v":0},{"$f":"COUNTIF(Alcance!$E983,H$825)","v":0},0,1,0]
["Análisis - Biológico Aguas continentales",null,"Peces",null,{"$f":"COUNTIF(Alcance!$E984,E$825)","v":0},{"$f":"COUNTIF(Alcance!$E984,F$825)","v":0},{"$f":"COUNTIF(Alcance!$E984,G$825)","v":0},{"$f":"COUNTIF(Alcance!$E984,H$825)","v":0},0,1,0]
["Análisis - Biológico Aguas continentales",null,"Macroinvertebrados Bénticos",null,{"$f":"COUNTIF(Alcance!$E985,E$825)","v":0},{"$f":"COUNTIF(Alcance!$E985,F$825)","v":0},{"$f":"COUNTIF(Alcance!$E985,G$825)","v":0},{"$f":"COUNTIF(Alcance!$E985,H$825)","v":0},0,1,0]
["Análisis - Biológico Aguas continentales",null,"Biomasa Zooplantonica",null,{"$f":"COUNTIF(Alcance!$E986,E$825)","v":0},{"$f":"COUNTIF(Alcance!$E986,F$825)","v":0},{"$f":"COUNTIF(Alcance!$E986,G$825)","v":0},{"$f":"COUNTIF(Alcance!$E986,H$825)","v":0},0,1,0]
["Toma de Muestra en cuerpo Lótico - Aguas Continentales",null,"Fitoplancton",null,{"$f":"COUNTIF(Alcance!$E987,E$825)","v":0},{"$f":"COUNTIF(Alcance!$E987,F$825)","v":0},{"$f":"COUNTIF(Alcance!$E987,G$825)","v":0},{"$f":"COUNTIF(Alcance!$E987,H$825)","v":0},0,5,{"$f":"IF((I834+I835+I836+I837+I838+I839)>2,J834,IF(I834>0,2.5,IF(I835>0,2.5,IF(I836>0,2.5,IF(I837>0,2.5,IF(I838>0,2.5,IF(I839>0,2.5,0)))))))","v":0}]
["Toma de Muestra en cuerpo Lótico - Aguas Continentales",null,"Zooplancton",null,{"$f":"COUNTIF(Alcance!$E988,E$825)","v":0},{"$f":"COUNTIF(Alcance!$E988,F$825)","v":0},{"$f":"COUNTIF(Alcance!$E988,G$825)","v":0},{"$f":"COUNTIF(Alcance!$E988,H$825)","v":0},0]
["Toma de Muestra en cuerpo Lótico - Aguas Continentales",null,"Perifiton",null,{"$f":"COUNTIF(Alcance!$E989,E$825)","v":0},{"$f":"COUNTIF(Alcance!$E989,F$825)","v":0},{"$f":"COUNTIF(Alcance!$E989,G$825)","v":0},{"$f":"COUNTIF(Alcance!$E989,H$825)","v":0},0]
["Toma de Muestra en cuerpo Lótico - Aguas Continentales",null,"Macroinvertebrados Bentónicos",null,{"$f":"COUNTIF(Alcance!$E990,E$825)","v":0},{"$f":"COUNTIF(Alcance!$E990,F$825)","v":0},{"$f":"COUNTIF(Alcance!$E990,G$825)","v":0},{"$f":"COUNTIF(Alcance!$E990,H$825)","v":0},0]
["Toma de Muestra en cuerpo Lótico - Aguas Continentales",null,"Peces",null,{"$f":"COUNTIF(Alcance!$E991,E$825)","v":0},{"$f":"COUNTIF(Alcance!$E991,F$825)","v":0},{"$f":"COUNTIF(Alcance!$E991,G$825)","v":0},{"$f":"COUNTIF(Alcance!$E991,H$825)","v":0},0]
["Toma de Muestra en cuerpo Lótico - Aguas Continentales",null,"Macrófitas",null,{"$f":"COUNTIF(Alcance!$E992,E$825)","v":0},{"$f":"COUNTIF(Alcance!$E992,F$825)","v":0},{"$f":"COUNTIF(Alcance!$E992,G$825)","v":0},{"$f":"COUNTIF(Alcance!$E992,H$825)","v":0},0]
["Toma de Muestra en cuerpo Lético - Aguas Continentales",null,"Fitoplancton",null,{"$f":"COUNTIF(Alcance!$E993,E$825)","v":0},{"$f":"COUNTIF(Alcance!$E993,F$825)","v":0},{"$f":"COUNTIF(Alcance!$E993,G$825)","v":0},{"$f":"COUNTIF(Alcance!$E993,H$825)","v":0},0,5,{"$f":"IF((I840+I841+I842+I843+I844+I845)>2,J840,IF(I840>0,2.5,IF(I841>0,2.5,IF(I842>0,2.5,IF(I843>0,2.5,IF(I844>0,2.5,IF(I845>0,2.5,0)))))))","v":0}]
["Toma de Muestra en cuerpo Lético - Aguas Continentales",null,"Zooplancton",null,{"$f":"COUNTIF(Alcance!$E994,E$825)","v":0},{"$f":"COUNTIF(Alcance!$E994,F$825)","v":0},{"$f":"COUNTIF(Alcance!$E994,G$825)","v":0},{"$f":"COUNTIF(Alcance!$E994,H$825)","v":0},0]
["Toma de Muestra en cuerpo Lético - Aguas Continentales",null,"Perifiton",null,{"$f":"COUNTIF(Alcance!$E995,E$825)","v":0},{"$f":"COUNTIF(Alcance!$E995,F$825)","v":0},{"$f":"COUNTIF(Alcance!$E995,G$825)","v":0},{"$f":"COUNTIF(Alcance!$E995,H$825)","v":0},0]
["Toma de Muestra en cuerpo Lético - Aguas Continentales",null,"Macroinvertebrados Bentónicos",null,{"$f":"COUNTIF(Alcance!$E996,E$825)","v":0},{"$f":"COUNTIF(Alcance!$E996,F$825)","v":0},{"$f":"COUNTIF(Alcance!$E996,G$825)","v":0},{"$f":"COUNTIF(Alcance!$E996,H$825)","v":0},0]
["Toma de Muestra en cuerpo Lético - Aguas Continentales",null,"Peces",null,{"$f":"COUNTIF(Alcance!$E997,E$825)","v":0},{"$f":"COUNTIF(Alcance!$E997,F$825)","v":0},{"$f":"COUNTIF(Alcance!$E997,G$825)","v":0},{"$f":"COUNTIF(Alcance!$E997,H$825)","v":0},0]
["Toma de Muestra en cuerpo Lético - Aguas Continentales",null,"Macrófitas",null,{"$f":"COUNTIF(Alcance!$E998,E$825)","v":0},{"$f":"COUNTIF(Alcance!$E998,F$825)","v":0},{"$f":"COUNTIF(Alcance!$E998,G$825)","v":0},{"$f":"COUNTIF(Alcance!$E998,H$825)","v":0},0]
["Toma de Muestra  - Aguas Marinas",null,"Fitoplancton ",null,{"$f":"COUNTIF(Alcance!$E999,E$825)","v":0},{"$f":"COUNTIF(Alcance!$E999,F$825)","v":0},{"$f":"COUNTIF(Alcance!$E999,G$825)","v":0},{"$f":"COUNTIF(Alcance!$E999,H$825)","v":0},0,5,{"$f":"IF(I846>0,J846,IF(I847>0,J846,IF(I848>0,J846,0)))","v":0}]
["Toma de Muestra  - Aguas Marinas",null,"Zooplancton ",null,{"$f":"COUNTIF(Alcance!$E1000,E$825)","v":0},{"$f":"COUNTIF(Alcance!$E1000,F$825)","v":0},{"$f":"COUNTIF(Alcance!$E1000,G$825)","v":0},{"$f":"COUNTIF(Alcance!$E1000,H$825)","v":0},0]
["Toma de Muestra  - Aguas Marinas",null,"Peces ",null,{"$f":"COUNTIF(Alcance!$E1001,E$825)","v":0},{"$f":"COUNTIF(Alcance!$E1001,F$825)","v":0},{"$f":"COUNTIF(Alcance!$E1001,G$825)","v":0},{"$f":"COUNTIF(Alcance!$E1001,H$825)","v":0},0]
["Toma de Muestra  - Aguas Marinas",null,"Bentos",null,{"$f":"COUNTIF(Alcance!$E1002,E$825)","v":0},{"$f":"COUNTIF(Alcance!$E1002,F$825)","v":0},{"$f":"COUNTIF(Alcance!$E1002,G$825)","v":0},{"$f":"COUNTIF(Alcance!$E1002,H$825)","v":0},0,4,0]
["Toma de Muestra  - Aguas Marinas",null,"Corales",null,{"$f":"COUNTIF(Alcance!$E1003,E$825)","v":0},{"$f":"COUNTIF(Alcance!$E1003,F$825)","v":0},{"$f":"COUNTIF(Alcance!$E1003,G$825)","v":0},{"$f":"COUNTIF(Alcance!$E1003,H$825)","v":0},0,5,0]
["Toma de Muestra  - Aguas Marinas",null,"Pastos Marinos",null,{"$f":"COUNTIF(Alcance!$E1004,E$825)","v":0},{"$f":"COUNTIF(Alcance!$E1004,F$825)","v":0},{"$f":"COUNTIF(Alcance!$E1004,G$825)","v":0},{"$f":"COUNTIF(Alcance!$E1004,H$825)","v":0},0,5,0]
["Toma de Muestra  - Aguas Marinas",null,"Litorales Rocosos",null,{"$f":"COUNTIF(Alcance!$E1005,E$825)","v":0},{"$f":"COUNTIF(Alcance!$E1005,F$825)","v":0},{"$f":"COUNTIF(Alcance!$E1005,G$825)","v":0},{"$f":"COUNTIF(Alcance!$E1005,H$825)","v":0},0,2,0]
["Toma de Muestra  - Aguas Marinas",null,"Litorales Arenosos",null,{"$f":"COUNTIF(Alcance!$E1006,E$825)","v":0},{"$f":"COUNTIF(Alcance!$E1006,F$825)","v":0},{"$f":"COUNTIF(Alcance!$E1006,G$825)","v":0},{"$f":"COUNTIF(Alcance!$E1006,H$825)","v":0},0,2,0]
["Toma de Muestra  - Aguas Marinas",null,"Fondos Blandos",null,{"$f":"COUNTIF(Alcance!$E1007,E$825)","v":0},{"$f":"COUNTIF(Alcance!$E1007,F$825)","v":0},{"$f":"COUNTIF(Alcance!$E1007,G$825)","v":0},{"$f":"COUNTIF(Alcance!$E1007,H$825)","v":0},0,1,0]
["Toma de Muestra  - Aguas Marinas",null,"Macroinvertebrados asociados a macrófitos",null,{"$f":"COUNTIF(Alcance!$E1008,E$825)","v":0},{"$f":"COUNTIF(Alcance!$E1008,F$825)","v":0},{"$f":"COUNTIF(Alcance!$E1008,G$825)","v":0},{"$f":"COUNTIF(Alcance!$E1008,H$825)","v":0},0,1,0]
["Toma de Muestra  - Aguas Marinas",null,"Manglares",null,{"$f":"COUNTIF(Alcance!$E1009,E$825)","v":0},{"$f":"COUNTIF(Alcance!$E1009,F$825)","v":0},{"$f":"COUNTIF(Alcance!$E1009,G$825)","v":0},{"$f":"COUNTIF(Alcance!$E1009,H$825)","v":0},0,5,0]
["Análisis - Agua marina",null,"Fitoplancton",null,{"$f":"COUNTIF(Alcance!$E1010,E$825)","v":0},{"$f":"COUNTIF(Alcance!$E1010,F$825)","v":0},{"$f":"COUNTIF(Alcance!$E1010,G$825)","v":0},{"$f":"COUNTIF(Alcance!$E1010,H$825)","v":0},0,1,0]
["Análisis - Agua marina",null,"Zooplancton",null,{"$f":"COUNTIF(Alcance!$E1011,E$825)","v":0},{"$f":"COUNTIF(Alcance!$E1011,F$825)","v":0},{"$f":"COUNTIF(Alcance!$E1011,G$825)","v":0},{"$f":"COUNTIF(Alcance!$E1011,H$825)","v":0},0,1,0]
["Análisis - Agua marina",null,"Bentos",null,{"$f":"COUNTIF(Alcance!$E1012,E$825)","v":0},{"$f":"COUNTIF(Alcance!$E1012,F$825)","v":0},{"$f":"COUNTIF(Alcance!$E1012,G$825)","v":0},{"$f":"COUNTIF(Alcance!$E1012,H$825)","v":0},0,1,0]
["Análisis - Agua marina",null,"Peces",null,{"$f":"COUNTIF(Alcance!$E1013,E$825)","v":0},{"$f":"COUNTIF(Alcance!$E1013,F$825)","v":0},{"$f":"COUNTIF(Alcance!$E1013,G$825)","v":0},{"$f":"COUNTIF(Alcance!$E1013,H$825)","v":0},0,1,0]
["Análisis - Agua marina",null,"Corales",null,{"$f":"COUNTIF(Alcance!$E1014,E$825)","v":0},{"$f":"COUNTIF(Alcance!$E1014,F$825)","v":0},{"$f":"COUNTIF(Alcance!$E1014,G$825)","v":0},{"$f":"COUNTIF(Alcance!$E1014,H$825)","v":0},0,1,0]
["Análisis - Agua marina",null,"Pastos Marinos",null,{"$f":"COUNTIF(Alcance!$E1015,E$825)","v":0},{"$f":"COUNTIF(Alcance!$E1015,F$825)","v":0},{"$f":"COUNTIF(Alcance!$E1015,G$825)","v":0},{"$f":"COUNTIF(Alcance!$E1015,H$825)","v":0},0,1,0]
["Análisis - Agua marina",null,"Litorales Rocosos",null,{"$f":"COUNTIF(Alcance!$E1016,E$825)","v":0},{"$f":"COUNTIF(Alcance!$E1016,F$825)","v":0},{"$f":"COUNTIF(Alcance!$E1016,G$825)","v":0},{"$f":"COUNTIF(Alcance!$E1016,H$825)","v":0},0,0.5,0]
["Análisis - Agua marina",null,"Litorales Arenosos",null,{"$f":"COUNTIF(Alcance!$E1017,E$825)","v":0},{"$f":"COUNTIF(Alcance!$E1017,F$825)","v":0},{"$f":"COUNTIF(Alcance!$E1017,G$825)","v":0},{"$f":"COUNTIF(Alcance!$E1017,H$825)","v":0},0,0.5,0]
["Análisis - Agua marina",null,"Manglares",null,{"$f":"COUNTIF(Alcance!$E1018,E$825)","v":0},{"$f":"COUNTIF(Alcance!$E1018,F$825)","v":0},{"$f":"COUNTIF(Alcance!$E1018,G$825)","v":0},{"$f":"COUNTIF(Alcance!$E1018,H$825)","v":0},0,1,0]
["Otras Variables en Biota",null,"Especificado por el usuario",null,{"$f":"COUNTIF(Alcance!$E$1019:$F$1064,E$825)","v":0},{"$f":"COUNTIF(Alcance!$E$1019:$F$1064,F$825)","v":0},{"$f":"COUNTIF(Alcance!$E$1019:$F$1064,G$825)","v":0},{"$f":"COUNTIF(Alcance!$E$1019:$F$1064,H$825)","v":0},{"$f":"SUM(E866:H866)","v":0},1,{"$f":"J866*I866","v":0},"Total Parámetros Calculados",{"$f":"SUM(K826:K866)","v":0}]
["TOTALES",null,null,null,{"$f":"SUM(E826:E866)","v":0},{"$f":"SUM(F826:F866)","v":0},{"$f":"SUM(G826:G866)","v":0},{"$f":"SUM(H826:H866)","v":0},{"$f":"SUM(I826:I866)","v":0}]
[]
["MATRIZ ACEITES DE TRANSFORMADOR"]
["18. Matriz / Grupo",null,"19. Variable",null,"INICIAL","SEGUIMIENTO","RENOVACIÓN","EXTENSIÓN","Total Variables","Equivalencia en Parámetros","Parámetros Calculados"]
["Análisis - PCB's en Aceite de transformador",null,"Aroclor 1016",null,{"$f":"COUNTIF(Alcance!$E1069,E$870)","v":0},{"$f":"COUNTIF(Alcance!$E1069,F$870)","v":0},{"$f":"COUNTIF(Alcance!$E1069,G$870)","v":0},{"$f":"COUNTIF(Alcance!$E1069,H$870)","v":0},{"$f":"SUM(E871:H871)","v":0},5,{"$f":"IF(((I871+I872+I873+I874+I875+I876+I877+I878)>1),J871,IF(I871>0,J871,IF(I872>0,J871,IF(I873>0,J871,IF(I874>0,J871,IF(I875>0,J871,IF(I876>0,J871,IF(I877>0,J871,IF(I878>0,J871,0)))))))))","v":0}]
["Análisis - PCB's en Aceite de transformador",null,"Aroclor 1221",null,{"$f":"COUNTIF(Alcance!$E1070,E$870)","v":0},{"$f":"COUNTIF(Alcance!$E1070,F$870)","v":0},{"$f":"COUNTIF(Alcance!$E1070,G$870)","v":0},{"$f":"COUNTIF(Alcance!$E1070,H$870)","v":0},{"$f":"SUM(E872:H872)","v":0}]
["Análisis - PCB's en Aceite de transformador",null,"Aroclor 1232",null,{"$f":"COUNTIF(Alcance!$E1071,E$870)","v":0},{"$f":"COUNTIF(Alcance!$E1071,F$870)","v":0},{"$f":"COUNTIF(Alcance!$E1071,G$870)","v":0},{"$f":"COUNTIF(Alcance!$E1071,H$870)","v":0},0]
["Análisis - PCB's en Aceite de transformador",null,"Aroclor 1242",null,{"$f":"COUNTIF(Alcance!$E1072,E$870)","v":0},{"$f":"COUNTIF(Alcance!$E1072,F$870)","v":0},{"$f":"COUNTIF(Alcance!$E1072,G$870)","v":0},{"$f":"COUNTIF(Alcance!$E1072,H$870)","v":0},0]
["Análisis - PCB's en Aceite de transformador",null,"Aroclor 1248",null,{"$f":"COUNTIF(Alcance!$E1073,E$870)","v":0},{"$f":"COUNTIF(Alcance!$E1073,F$870)","v":0},{"$f":"COUNTIF(Alcance!$E1073,G$870)","v":0},{"$f":"COUNTIF(Alcance!$E1073,H$870)","v":0},0]
["Análisis - PCB's en Aceite de transformador",null,"Aroclor 1254",null,{"$f":"COUNTIF(Alcance!$E1074,E$870)","v":0},{"$f":"COUNTIF(Alcance!$E1074,F$870)","v":0},{"$f":"COUNTIF(Alcance!$E1074,G$870)","v":0},{"$f":"COUNTIF(Alcance!$E1074,H$870)","v":0},0]
["Análisis - PCB's en Aceite de transformador",null,"Aroclor 1260",null,{"$f":"COUNTIF(Alcance!$E1075,E$870)","v":0},{"$f":"COUNTIF(Alcance!$E1075,F$870)","v":0},{"$f":"COUNTIF(Alcance!$E1075,G$870)","v":0},{"$f":"COUNTIF(Alcance!$E1075,H$870)","v":0},0]
["Análisis - PCB's en Aceite de transformador",null,"Aroclors Totales o Mezcla",null,{"$f":"COUNTIF(Alcance!$E1076,E$870)","v":0},{"$f":"COUNTIF(Alcance!$E1076,F$870)","v":0},{"$f":"COUNTIF(Alcance!$E1076,G$870)","v":0},{"$f":"COUNTIF(Alcance!$E1076,H$870)","v":0},0]
["PCB's en Aceite de transformador",null,"Toma de muestra PCBs ",null,{"$f":"COUNTIF(Alcance!$E1077,E$870)","v":0},{"$f":"COUNTIF(Alcance!$E1077,F$870)","v":0},{"$f":"COUNTIF(Alcance!$E1077,G$870)","v":0},{"$f":"COUNTIF(Alcance!$E1077,H$870)","v":0},0,5,{"$f":"IF(($I$879+$I$880>1),$J$879,IF($I$879>0,$J$879,IF($I$880>0,$J$879,0)))","v":0}]
["PCB's en Superficies solidas",null,"Toma de muestra PCBs ",null,{"$f":"COUNTIF(Alcance!$E1078,E$870)","v":0},{"$f":"COUNTIF(Alcance!$E1078,F$870)","v":0},{"$f":"COUNTIF(Alcance!$E1078,G$870)","v":0},{"$f":"COUNTIF(Alcance!$E1078,H$870)","v":0},0]
["Análisis - PCB's en Superficies sólidas",null,"Aroclor 1016",null,{"$f":"COUNTIF(Alcance!$E1079,E$870)","v":0},{"$f":"COUNTIF(Alcance!$E1079,F$870)","v":0},{"$f":"COUNTIF(Alcance!$E1079,G$870)","v":0},{"$f":"COUNTIF(Alcance!$E1079,H$870)","v":0},0,5,{"$f":"IF(((I881+I882+I883+I884+I885+I886+I887+I888)>1),J881,IF(I881>0,J881,IF(I882>0,J881,IF(I883>0,J881,IF(I884>0,J881,IF(I885>0,J881,IF(I886>0,J881,IF(I887>0,J881,IF(I888>0,J881,0)))))))))","v":0}]
["Análisis - PCB's en Superficies sólidas",null,"Aroclor 1221",null,{"$f":"COUNTIF(Alcance!$E1080,E$870)","v":0},{"$f":"COUNTIF(Alcance!$E1080,F$870)","v":0},{"$f":"COUNTIF(Alcance!$E1080,G$870)","v":0},{"$f":"COUNTIF(Alcance!$E1080,H$870)","v":0},0]
["Análisis - PCB's en Superficies sólidas",null,"Aroclor 1232",null,{"$f":"COUNTIF(Alcance!$E1081,E$870)","v":0},{"$f":"COUNTIF(Alcance!$E1081,F$870)","v":0},{"$f":"COUNTIF(Alcance!$E1081,G$870)","v":0},{"$f":"COUNTIF(Alcance!$E1081,H$870)","v":0},0]
["Análisis - PCB's en Superficies sólidas",null,"Aroclor 1242",null,{"$f":"COUNTIF(Alcance!$E1082,E$870)","v":0},{"$f":"COUNTIF(Alcance!$E1082,F$870)","v":0},{"$f":"COUNTIF(Alcance!$E1082,G$870)","v":0},{"$f":"COUNTIF(Alcance!$E1082,H$870)","v":0},0]
["Análisis - PCB's en Superficies sólidas",null,"Aroclor 1248",null,{"$f":"COUNTIF(Alcance!$E1083,E$870)","v":0},{"$f":"COUNTIF(Alcance!$E1083,F$870)","v":0},{"$f":"COUNTIF(Alcance!$E1083,G$870)","v":0},{"$f":"COUNTIF(Alcance!$E1083,H$870)","v":0},0]
["Análisis - PCB's en Superficies sólidas",null,"Aroclor 1254",null,{"$f":"COUNTIF(Alcance!$E1084,E$870)","v":0},{"$f":"COUNTIF(Alcance!$E1084,F$870)","v":0},{"$f":"COUNTIF(Alcance!$E1084,G$870)","v":0},{"$f":"COUNTIF(Alcance!$E1084,H$870)","v":0},0]
["Análisis - PCB's en Superficies sólidas",null,"Aroclor 1260",null,{"$f":"COUNTIF(Alcance!$E1085,E$870)","v":0},{"$f":"COUNTIF(Alcance!$E1085,F$870)","v":0},{"$f":"COUNTIF(Alcance!$E1085,G$870)","v":0},{"$f":"COUNTIF(Alcance!$E1085,H$870)","v":0},0]
["Análisis - PCB's en Superficies sólidas",null,"Aroclors Totales o Mezcla",null,{"$f":"COUNTIF(Alcance!$E1086,E$870)","v":0},{"$f":"COUNTIF(Alcance!$E1086,F$870)","v":0},{"$f":"COUNTIF(Alcance!$E1086,G$870)","v":0},{"$f":"COUNTIF(Alcance!$E1086,H$870)","v":0},{"$f":"SUM(E888:H888)","v":0},null,null,"Total Parámetros Calculados",{"$f":"SUM(K871:K889)","v":0}]
["Otras variables en Aceites de transformador",null,"Especificado por el usuario",null,{"$f":"COUNTIF(Alcance!$E$1087:$F$1098,E$870)","v":0},{"$f":"COUNTIF(Alcance!$E$1087:$F$1098,F$870)","v":0},{"$f":"COUNTIF(Alcance!$E$1087:$F$1098,G$870)","v":0},{"$f":"COUNTIF(Alcance!$E$1087:$F$1098,H$870)","v":0},{"$f":"SUM(E889:H889)","v":0},1,{"$f":"J889*I889","v":0}]
["TOTALES",null,null,null,{"$f":"SUM(E871:E889)","v":0},{"$f":"SUM(F871:F889)","v":0},{"$f":"SUM(G871:G889)","v":0},{"$f":"SUM(H871:H889)","v":0},{"$f":"SUM(I871:I889)","v":0}]
[]
["MATRIZ SUELO"]
["18. Matriz / Grupo",null,"19. Variable",null,"INICIAL","SEGUIMIENTO","RENOVACIÓN","EXTENSIÓN","Total Variables","Equivalencia en Parámetros","Parámetros Calculados"]
["Humedad",null,"Humedad",null,{"$f":"COUNTIF(Alcance!$E1103,E$893)","v":0},{"$f":"COUNTIF(Alcance!$E1103,F$893)","v":0},{"$f":"COUNTIF(Alcance!$E1103,G$893)","v":0},{"$f":"COUNTIF(Alcance!$E1103,H$893)","v":0},{"$f":"SUM(E894:H894)","v":0},1,{"$f":"J894*I894","v":0}]
["Textura",null,"Textura",null,{"$f":"COUNTIF(Alcance!$E1104,E$893)","v":0},{"$f":"COUNTIF(Alcance!$E1104,F$893)","v":0},{"$f":"COUNTIF(Alcance!$E1104,G$893)","v":0},{"$f":"COUNTIF(Alcance!$E1104,H$893)","v":0},{"$f":"SUM(E895:H895)","v":0},1,{"$f":"J895*I895","v":0}]
["pH",null,"pH",null,{"$f":"COUNTIF(Alcance!$E1105,E$893)","v":0},{"$f":"COUNTIF(Alcance!$E1105,F$893)","v":0},{"$f":"COUNTIF(Alcance!$E1105,G$893)","v":0},{"$f":"COUNTIF(Alcance!$E1105,H$893)","v":0},0,1,0]
["Conductividad Eléctrica",null,"Conductividad Eléctrica",null,{"$f":"COUNTIF(Alcance!$E1106,E$893)","v":0},{"$f":"COUNTIF(Alcance!$E1106,F$893)","v":0},{"$f":"COUNTIF(Alcance!$E1106,G$893)","v":0},{"$f":"COUNTIF(Alcance!$E1106,H$893)","v":0},0,1,0]
["Capacidad de Intercambio Catiónico",null,"Capacidad de Intercambio Catiónico",null,{"$f":"COUNTIF(Alcance!$E1107,E$893)","v":0},{"$f":"COUNTIF(Alcance!$E1107,F$893)","v":0},{"$f":"COUNTIF(Alcance!$E1107,G$893)","v":0},{"$f":"COUNTIF(Alcance!$E1107,H$893)","v":0},0,1,0]
["Acidez Intercambiable",null,"Acidez Intercambiable",null,{"$f":"COUNTIF(Alcance!$E1108,E$893)","v":0},{"$f":"COUNTIF(Alcance!$E1108,F$893)","v":0},{"$f":"COUNTIF(Alcance!$E1108,G$893)","v":0},{"$f":"COUNTIF(Alcance!$E1108,H$893)","v":0},0,1,0]
["RAS",null,"Realción de adsorción de Sodio",null,{"$f":"COUNTIF(Alcance!$E1109,E$893)","v":0},{"$f":"COUNTIF(Alcance!$E1109,F$893)","v":0},{"$f":"COUNTIF(Alcance!$E1109,G$893)","v":0},{"$f":"COUNTIF(Alcance!$E1109,H$893)","v":0},0,1,0]
["Sólidos o Residuos",null,"Sólidos Totales",null,{"$f":"COUNTIF(Alcance!$E1110,E$893)","v":0},{"$f":"COUNTIF(Alcance!$E1110,F$893)","v":0},{"$f":"COUNTIF(Alcance!$E1110,G$893)","v":0},{"$f":"COUNTIF(Alcance!$E1110,H$893)","v":0},0,1,0]
["Cenizas",null,"Cenizas",null,{"$f":"COUNTIF(Alcance!$E1111,E$893)","v":0},{"$f":"COUNTIF(Alcance!$E1111,F$893)","v":0},{"$f":"COUNTIF(Alcance!$E1111,G$893)","v":0},{"$f":"COUNTIF(Alcance!$E1111,H$893)","v":0},0,1,0]
["Alcalinidad",null,"Alcalinidad",null,{"$f":"COUNTIF(Alcance!$E1112,E$893)","v":0},{"$f":"COUNTIF(Alcance!$E1112,F$893)","v":0},{"$f":"COUNTIF(Alcance!$E1112,G$893)","v":0},{"$f":"COUNTIF(Alcance!$E1112,H$893)","v":0},0,1,0]
["Densidad Aparente",null,"Toma de muestra y análisis para determinación de densidad aparente",null,{"$f":"COUNTIF(Alcance!$E1113,E$893)","v":0},{"$f":"COUNTIF(Alcance!$E1113,F$893)","v":0},{"$f":"COUNTIF(Alcance!$E1113,G$893)","v":0},{"$f":"COUNTIF(Alcance!$E1113,H$893)","v":0},0,1,0]
["Densidad Real",null,"Toma de muestra y análisis para determinación de densidad real",null,{"$f":"COUNTIF(Alcance!$E1114,E$893)","v":0},{"$f":"COUNTIF(Alcance!$E1114,F$893)","v":0},{"$f":"COUNTIF(Alcance!$E1114,G$893)","v":0},{"$f":"COUNTIF(Alcance!$E1114,H$893)","v":0},0,1,0]
["Aniones",null,"Bromuro",null,{"$f":"COUNTIF(Alcance!$E1115,E$893)","v":0},{"$f":"COUNTIF(Alcance!$E1115,F$893)","v":0},{"$f":"COUNTIF(Alcance!$E1115,G$893)","v":0},{"$f":"COUNTIF(Alcance!$E1115,H$893)","v":0},0,1,0]
["Aniones",null,"Cloruro",null,{"$f":"COUNTIF(Alcance!$E1116,E$893)","v":0},{"$f":"COUNTIF(Alcance!$E1116,F$893)","v":0},{"$f":"COUNTIF(Alcance!$E1116,G$893)","v":0},{"$f":"COUNTIF(Alcance!$E1116,H$893)","v":0},0,1,0]
["Aniones",null,"Fluoruro",null,{"$f":"COUNTIF(Alcance!$E1117,E$893)","v":0},{"$f":"COUNTIF(Alcance!$E1117,F$893)","v":0},{"$f":"COUNTIF(Alcance!$E1117,G$893)","v":0},{"$f":"COUNTIF(Alcance!$E1117,H$893)","v":0},0,1,0]
["Aniones",null,"Nitrato como N",null,{"$f":"COUNTIF(Alcance!$E1118,E$893)","v":0},{"$f":"COUNTIF(Alcance!$E1118,F$893)","v":0},{"$f":"COUNTIF(Alcance!$E1118,G$893)","v":0},{"$f":"COUNTIF(Alcance!$E1118,H$893)","v":0},0,1,0]
["Aniones",null,"Nitrito como N",null,{"$f":"COUNTIF(Alcance!$E1119,E$893)","v":0},{"$f":"COUNTIF(Alcance!$E1119,F$893)","v":0},{"$f":"COUNTIF(Alcance!$E1119,G$893)","v":0},{"$f":"COUNTIF(Alcance!$E1119,H$893)","v":0},0,1,0]
["Aniones",null,"Fosforo disponible",null,{"$f":"COUNTIF(Alcance!$E1120,E$893)","v":0},{"$f":"COUNTIF(Alcance!$E1120,F$893)","v":0},{"$f":"COUNTIF(Alcance!$E1120,G$893)","v":0},{"$f":"COUNTIF(Alcance!$E1120,H$893)","v":0},0,1,0]
["Aniones",null,"Sulfato",null,{"$f":"COUNTIF(Alcance!$E1121,E$893)","v":0},{"$f":"COUNTIF(Alcance!$E1121,F$893)","v":0},{"$f":"COUNTIF(Alcance!$E1121,G$893)","v":0},{"$f":"COUNTIF(Alcance!$E1121,H$893)","v":0},0,1,0]
["Nutrientes",null,"Amonio como N",null,{"$f":"COUNTIF(Alcance!$E1122,E$893)","v":0},{"$f":"COUNTIF(Alcance!$E1122,F$893)","v":0},{"$f":"COUNTIF(Alcance!$E1122,G$893)","v":0},{"$f":"COUNTIF(Alcance!$E1122,H$893)","v":0},0,1,0]
["Nutrientes",null,"Nitrógeno Total Kjeldahl",null,{"$f":"COUNTIF(Alcance!$E1123,E$893)","v":0},{"$f":"COUNTIF(Alcance!$E1123,F$893)","v":0},{"$f":"COUNTIF(Alcance!$E1123,G$893)","v":0},{"$f":"COUNTIF(Alcance!$E1123,H$893)","v":0},0,1,0]
["Nutrientes",null,"Carbono Orgánico Total",null,{"$f":"COUNTIF(Alcance!$E1124,E$893)","v":0},{"$f":"COUNTIF(Alcance!$E1124,F$893)","v":0},{"$f":"COUNTIF(Alcance!$E1124,G$893)","v":0},{"$f":"COUNTIF(Alcance!$E1124,H$893)","v":0},0,1,0]
["Nutrientes",null,"Fósforo Total",null,{"$f":"COUNTIF(Alcance!$E1125,E$893)","v":0},{"$f":"COUNTIF(Alcance!$E1125,F$893)","v":0},{"$f":"COUNTIF(Alcance!$E1125,G$893)","v":0},{"$f":"COUNTIF(Alcance!$E1125,H$893)","v":0},0,1,0]
["Nutrientes",null,"Carbono Orgánico Oxidable",null,{"$f":"COUNTIF(Alcance!$E1126,E$893)","v":0},{"$f":"COUNTIF(Alcance!$E1126,F$893)","v":0},{"$f":"COUNTIF(Alcance!$E1126,G$893)","v":0},{"$f":"COUNTIF(Alcance!$E1126,H$893)","v":0},0,1,0]
["Microbiológico",null,"Escherichia coli",null,{"$f":"COUNTIF(Alcance!$E1127,E$893)","v":0},{"$f":"COUNTIF(Alcance!$E1127,F$893)","v":0},{"$f":"COUNTIF(Alcance!$E1127,G$893)","v":0},{"$f":"COUNTIF(Alcance!$E1127,H$893)","v":0},0,1.5,0]
["Microbiológico",null,"Coliformes  Totales",null,{"$f":"COUNTIF(Alcance!$E1128,E$893)","v":0},{"$f":"COUNTIF(Alcance!$E1128,F$893)","v":0},{"$f":"COUNTIF(Alcance!$E1128,G$893)","v":0},{"$f":"COUNTIF(Alcance!$E1128,H$893)","v":0},0,1.5,0]
["Microbiológico",null,"Salmonella sp.",null,{"$f":"COUNTIF(Alcance!$E1129,E$893)","v":0},{"$f":"COUNTIF(Alcance!$E1129,F$893)","v":0},{"$f":"COUNTIF(Alcance!$E1129,G$893)","v":0},{"$f":"COUNTIF(Alcance!$E1129,H$893)","v":0},0,1.5,0]
["Microbiológico",null,"Huevos de Helminto",null,{"$f":"COUNTIF(Alcance!$E1130,E$893)","v":0},{"$f":"COUNTIF(Alcance!$E1130,F$893)","v":0},{"$f":"COUNTIF(Alcance!$E1130,G$893)","v":0},{"$f":"COUNTIF(Alcance!$E1130,H$893)","v":0},0,1.5,0]
["Microbiológico",null,"Bacterias Sulfato Reductoras",null,{"$f":"COUNTIF(Alcance!$E1131,E$893)","v":0},{"$f":"COUNTIF(Alcance!$E1131,F$893)","v":0},{"$f":"COUNTIF(Alcance!$E1131,G$893)","v":0},{"$f":"COUNTIF(Alcance!$E1131,H$893)","v":0},0,1.5,0]
["Metales",null,"Aluminio",null,{"$f":"COUNTIF(Alcance!$E1132,E$893)","v":0},{"$f":"COUNTIF(Alcance!$E1132,F$893)","v":0},{"$f":"COUNTIF(Alcance!$E1132,G$893)","v":0},{"$f":"COUNTIF(Alcance!$E1132,H$893)","v":0},0,0.5,0]
["Metales",null,"Antimonio",null,{"$f":"COUNTIF(Alcance!$E1133,E$893)","v":0},{"$f":"COUNTIF(Alcance!$E1133,F$893)","v":0},{"$f":"COUNTIF(Alcance!$E1133,G$893)","v":0},{"$f":"COUNTIF(Alcance!$E1133,H$893)","v":0},0,0.5,0]
["Metales",null,"Arsénico",null,{"$f":"COUNTIF(Alcance!$E1134,E$893)","v":0},{"$f":"COUNTIF(Alcance!$E1134,F$893)","v":0},{"$f":"COUNTIF(Alcance!$E1134,G$893)","v":0},{"$f":"COUNTIF(Alcance!$E1134,H$893)","v":0},0,1,0]
["Metales",null,"Bario",null,{"$f":"COUNTIF(Alcance!$E1135,E$893)","v":0},{"$f":"COUNTIF(Alcance!$E1135,F$893)","v":0},{"$f":"COUNTIF(Alcance!$E1135,G$893)","v":0},{"$f":"COUNTIF(Alcance!$E1135,H$893)","v":0},0,0.5,0]
["Metales",null,"Berilio",null,{"$f":"COUNTIF(Alcance!$E1136,E$893)","v":0},{"$f":"COUNTIF(Alcance!$E1136,F$893)","v":0},{"$f":"COUNTIF(Alcance!$E1136,G$893)","v":0},{"$f":"COUNTIF(Alcance!$E1136,H$893)","v":0},0,0.5,0]
["Metales",null,"Boro",null,{"$f":"COUNTIF(Alcance!$E1137,E$893)","v":0},{"$f":"COUNTIF(Alcance!$E1137,F$893)","v":0},{"$f":"COUNTIF(Alcance!$E1137,G$893)","v":0},{"$f":"COUNTIF(Alcance!$E1137,H$893)","v":0},0,0.5,0]
["Metales",null,"Cadmio",null,{"$f":"COUNTIF(Alcance!$E1138,E$893)","v":0},{"$f":"COUNTIF(Alcance!$E1138,F$893)","v":0},{"$f":"COUNTIF(Alcance!$E1138,G$893)","v":0},{"$f":"COUNTIF(Alcance!$E1138,H$893)","v":0},0,0.5,0]
["Metales",null,"Calcio",null,{"$f":"COUNTIF(Alcance!$E1139,E$893)","v":0},{"$f":"COUNTIF(Alcance!$E1139,F$893)","v":0},{"$f":"COUNTIF(Alcance!$E1139,G$893)","v":0},{"$f":"COUNTIF(Alcance!$E1139,H$893)","v":0},0,0.5,0]
["Metales",null,"Cobalto",null,{"$f":"COUNTIF(Alcance!$E1140,E$893)","v":0},{"$f":"COUNTIF(Alcance!$E1140,F$893)","v":0},{"$f":"COUNTIF(Alcance!$E1140,G$893)","v":0},{"$f":"COUNTIF(Alcance!$E1140,H$893)","v":0},0,0.5,0]
["Metales",null,"Cobre",null,{"$f":"COUNTIF(Alcance!$E1141,E$893)","v":0},{"$f":"COUNTIF(Alcance!$E1141,F$893)","v":0},{"$f":"COUNTIF(Alcance!$E1141,G$893)","v":0},{"$f":"COUNTIF(Alcance!$E1141,H$893)","v":0},0,0.5,0]
["Metales",null,"Cromo",null,{"$f":"COUNTIF(Alcance!$E1142,E$893)","v":0},{"$f":"COUNTIF(Alcance!$E1142,F$893)","v":0},{"$f":"COUNTIF(Alcance!$E1142,G$893)","v":0},{"$f":"COUNTIF(Alcance!$E1142,H$893)","v":0},0,0.5,0]
["Metales",null,"Estaño",null,{"$f":"COUNTIF(Alcance!$E1143,E$893)","v":0},{"$f":"COUNTIF(Alcance!$E1143,F$893)","v":0},{"$f":"COUNTIF(Alcance!$E1143,G$893)","v":0},{"$f":"COUNTIF(Alcance!$E1143,H$893)","v":0},0,0.5,0]
["Metales",null,"Estroncio",null,{"$f":"COUNTIF(Alcance!$E1144,E$893)","v":0},{"$f":"COUNTIF(Alcance!$E1144,F$893)","v":0},{"$f":"COUNTIF(Alcance!$E1144,G$893)","v":0},{"$f":"COUNTIF(Alcance!$E1144,H$893)","v":0},0,0.5,0]
["Metales",null,"Hierro",null,{"$f":"COUNTIF(Alcance!$E1145,E$893)","v":0},{"$f":"COUNTIF(Alcance!$E1145,F$893)","v":0},{"$f":"COUNTIF(Alcance!$E1145,G$893)","v":0},{"$f":"COUNTIF(Alcance!$E1145,H$893)","v":0},0,0.5,0]
["Metales",null,"Litio",null,{"$f":"COUNTIF(Alcance!$E1146,E$893)","v":0},{"$f":"COUNTIF(Alcance!$E1146,F$893)","v":0},{"$f":"COUNTIF(Alcance!$E1146,G$893)","v":0},{"$f":"COUNTIF(Alcance!$E1146,H$893)","v":0},0,0.5,0]
["Metales",null,"Magnesio",null,{"$f":"COUNTIF(Alcance!$E1147,E$893)","v":0},{"$f":"COUNTIF(Alcance!$E1147,F$893)","v":0},{"$f":"COUNTIF(Alcance!$E1147,G$893)","v":0},{"$f":"COUNTIF(Alcance!$E1147,H$893)","v":0},0,0.5,0]
["Metales",null,"Manganeso",null,{"$f":"COUNTIF(Alcance!$E1148,E$893)","v":0},{"$f":"COUNTIF(Alcance!$E1148,F$893)","v":0},{"$f":"COUNTIF(Alcance!$E1148,G$893)","v":0},{"$f":"COUNTIF(Alcance!$E1148,H$893)","v":0},0,0.5,0]
["Metales",null,"Mercurio",null,{"$f":"COUNTIF(Alcance!$E1149,E$893)","v":0},{"$f":"COUNTIF(Alcance!$E1149,F$893)","v":0},{"$f":"COUNTIF(Alcance!$E1149,G$893)","v":0},{"$f":"COUNTIF(Alcance!$E1149,H$893)","v":0},0,1,0]
["Metales",null,"Molibdeno",null,{"$f":"COUNTIF(Alcance!$E1150,E$893)","v":0},{"$f":"COUNTIF(Alcance!$E1150,F$893)","v":0},{"$f":"COUNTIF(Alcance!$E1150,G$893)","v":0},{"$f":"COUNTIF(Alcance!$E1150,H$893)","v":0},0,0.5,0]
["Metales",null,"Níquel",null,{"$f":"COUNTIF(Alcance!$E1151,E$893)","v":0},{"$f":"COUNTIF(Alcance!$E1151,F$893)","v":0},{"$f":"COUNTIF(Alcance!$E1151,G$893)","v":0},{"$f":"COUNTIF(Alcance!$E1151,H$893)","v":0},0,0.5,0]
["Metales",null,"Plata",null,{"$f":"COUNTIF(Alcance!$E1152,E$893)","v":0},{"$f":"COUNTIF(Alcance!$E1152,F$893)","v":0},{"$f":"COUNTIF(Alcance!$E1152,G$893)","v":0},{"$f":"COUNTIF(Alcance!$E1152,H$893)","v":0},0,0.5,0]
["Metales",null,"Plomo",null,{"$f":"COUNTIF(Alcance!$E1153,E$893)","v":0},{"$f":"COUNTIF(Alcance!$E1153,F$893)","v":0},{"$f":"COUNTIF(Alcance!$E1153,G$893)","v":0},{"$f":"COUNTIF(Alcance!$E1153,H$893)","v":0},0,0.5,0]
["Metales",null,"Potasio",null,{"$f":"COUNTIF(Alcance!$E1154,E$893)","v":0},{"$f":"COUNTIF(Alcance!$E1154,F$893)","v":0},{"$f":"COUNTIF(Alcance!$E1154,G$893)","v":0},{"$f":"COUNTIF(Alcance!$E1154,H$893)","v":0},0,0.5,0]
["Metales",null,"Selenio",null,{"$f":"COUNTIF(Alcance!$E1155,E$893)","v":0},{"$f":"COUNTIF(Alcance!$E1155,F$893)","v":0},{"$f":"COUNTIF(Alcance!$E1155,G$893)","v":0},{"$f":"COUNTIF(Alcance!$E1155,H$893)","v":0},0,1,0]
["Metales",null,"Sodio",null,{"$f":"COUNTIF(Alcance!$E1156,E$893)","v":0},{"$f":"COUNTIF(Alcance!$E1156,F$893)","v":0},{"$f":"COUNTIF(Alcance!$E1156,G$893)","v":0},{"$f":"COUNTIF(Alcance!$E1156,H$893)","v":0},0,0.5,0]
["Metales",null,"Talio",null,{"$f":"COUNTIF(Alcance!$E1157,E$893)","v":0},{"$f":"COUNTIF(Alcance!$E1157,F$893)","v":0},{"$f":"COUNTIF(Alcance!$E1157,G$893)","v":0},{"$f":"COUNTIF(Alcance!$E1157,H$893)","v":0},0,0.5,0]
["Metales",null,"Titanio",null,{"$f":"COUNTIF(Alcance!$E1158,E$893)","v":0},{"$f":"COUNTIF(Alcance!$E1158,F$893)","v":0},{"$f":"COUNTIF(Alcance!$E1158,G$893)","v":0},{"$f":"COUNTIF(Alcance!$E1158,H$893)","v":0},0,0.5,0]
["Metales",null,"Vanadio",null,{"$f":"COUNTIF(Alcance!$E1159,E$893)","v":0},{"$f":"COUNTIF(Alcance!$E1159,F$893)","v":0},{"$f":"COUNTIF(Alcance!$E1159,G$893)","v":0},{"$f":"COUNTIF(Alcance!$E1159,H$893)","v":0},0,0.5,0]
["Metales",null,"Zinc",null,{"$f":"COUNTIF(Alcance!$E1160,E$893)","v":0},{"$f":"COUNTIF(Alcance!$E1160,F$893)","v":0},{"$f":"COUNTIF(Alcance!$E1160,G$893)","v":0},{"$f":"COUNTIF(Alcance!$E1160,H$893)","v":0},0,0.5,0]
["Pesticidas Organoclorados",null,"Aldrín",null,{"$f":"COUNTIF(Alcance!$E1161,E$893)","v":0},{"$f":"COUNTIF(Alcance!$E1161,F$893)","v":0},{"$f":"COUNTIF(Alcance!$E1161,G$893)","v":0},{"$f":"COUNTIF(Alcance!$E1161,H$893)","v":0},0,0.5,0]
["Pesticidas Organoclorados",null,"4,4'-DDD",null,{"$f":"COUNTIF(Alcance!$E1162,E$893)","v":0},{"$f":"COUNTIF(Alcance!$E1162,F$893)","v":0},{"$f":"COUNTIF(Alcance!$E1162,G$893)","v":0},{"$f":"COUNTIF(Alcance!$E1162,H$893)","v":0},0,0.5,0]
["Pesticidas Organoclorados",null,"4,4'-DDE",null,{"$f":"COUNTIF(Alcance!$E1163,E$893)","v":0},{"$f":"COUNTIF(Alcance!$E1163,F$893)","v":0},{"$f":"COUNTIF(Alcance!$E1163,G$893)","v":0},{"$f":"COUNTIF(Alcance!$E1163,H$893)","v":0},0,0.5,0]
["Pesticidas Organoclorados",null,"4,4'-DDT",null,{"$f":"COUNTIF(Alcance!$E1164,E$893)","v":0},{"$f":"COUNTIF(Alcance!$E1164,F$893)","v":0},{"$f":"COUNTIF(Alcance!$E1164,G$893)","v":0},{"$f":"COUNTIF(Alcance!$E1164,H$893)","v":0},0,0.5,0]
["Pesticidas Organoclorados",null,"Dieldrín",null,{"$f":"COUNTIF(Alcance!$E1165,E$893)","v":0},{"$f":"COUNTIF(Alcance!$E1165,F$893)","v":0},{"$f":"COUNTIF(Alcance!$E1165,G$893)","v":0},{"$f":"COUNTIF(Alcance!$E1165,H$893)","v":0},0,0.5,0]
["Pesticidas Organoclorados",null,"Heptacloro",null,{"$f":"COUNTIF(Alcance!$E1166,E$893)","v":0},{"$f":"COUNTIF(Alcance!$E1166,F$893)","v":0},{"$f":"COUNTIF(Alcance!$E1166,G$893)","v":0},{"$f":"COUNTIF(Alcance!$E1166,H$893)","v":0},0,0.5,0]
["Pesticidas Organoclorados",null,"Alfa-BHC",null,{"$f":"COUNTIF(Alcance!$E1167,E$893)","v":0},{"$f":"COUNTIF(Alcance!$E1167,F$893)","v":0},{"$f":"COUNTIF(Alcance!$E1167,G$893)","v":0},{"$f":"COUNTIF(Alcance!$E1167,H$893)","v":0},0,0.5,0]
["Pesticidas Organoclorados",null,"Beta-BHC",null,{"$f":"COUNTIF(Alcance!$E1168,E$893)","v":0},{"$f":"COUNTIF(Alcance!$E1168,F$893)","v":0},{"$f":"COUNTIF(Alcance!$E1168,G$893)","v":0},{"$f":"COUNTIF(Alcance!$E1168,H$893)","v":0},0,0.5,0]
["Pesticidas Organoclorados",null,"Gama-BHC (Lindano)",null,{"$f":"COUNTIF(Alcance!$E1169,E$893)","v":0},{"$f":"COUNTIF(Alcance!$E1169,F$893)","v":0},{"$f":"COUNTIF(Alcance!$E1169,G$893)","v":0},{"$f":"COUNTIF(Alcance!$E1169,H$893)","v":0},0,0.5,0]
["Pesticidas Organoclorados",null,"Endosulfan I",null,{"$f":"COUNTIF(Alcance!$E1170,E$893)","v":0},{"$f":"COUNTIF(Alcance!$E1170,F$893)","v":0},{"$f":"COUNTIF(Alcance!$E1170,G$893)","v":0},{"$f":"COUNTIF(Alcance!$E1170,H$893)","v":0},{"$f":"SUM(E961:H961)","v":0},0.5,{"$f":"J961*I961","v":0}]
["Pesticidas Organoclorados",null,"Endosulfan II",null,{"$f":"COUNTIF(Alcance!$E1171,E$893)","v":0},{"$f":"COUNTIF(Alcance!$E1171,F$893)","v":0},{"$f":"COUNTIF(Alcance!$E1171,G$893)","v":0},{"$f":"COUNTIF(Alcance!$E1171,H$893)","v":0},0,0.5,0]
["Pesticidas Organoclorados",null,"Endosulfan sulfato",null,{"$f":"COUNTIF(Alcance!$E1172,E$893)","v":0},{"$f":"COUNTIF(Alcance!$E1172,F$893)","v":0},{"$f":"COUNTIF(Alcance!$E1172,G$893)","v":0},{"$f":"COUNTIF(Alcance!$E1172,H$893)","v":0},0,0.5,0]
["Pesticidas Organoclorados",null,"Endrín",null,{"$f":"COUNTIF(Alcance!$E1173,E$893)","v":0},{"$f":"COUNTIF(Alcance!$E1173,F$893)","v":0},{"$f":"COUNTIF(Alcance!$E1173,G$893)","v":0},{"$f":"COUNTIF(Alcance!$E1173,H$893)","v":0},0,0.5,0]
["Pesticidas Organoclorados",null,"Metoxicloro",null,{"$f":"COUNTIF(Alcance!$E1174,E$893)","v":0},{"$f":"COUNTIF(Alcance!$E1174,F$893)","v":0},{"$f":"COUNTIF(Alcance!$E1174,G$893)","v":0},{"$f":"COUNTIF(Alcance!$E1174,H$893)","v":0},0,0.5,0]
["Pesticidas Organofosforados",null,"Metil azinfos (Gutión)",null,{"$f":"COUNTIF(Alcance!$E1175,E$893)","v":0},{"$f":"COUNTIF(Alcance!$E1175,F$893)","v":0},{"$f":"COUNTIF(Alcance!$E1175,G$893)","v":0},{"$f":"COUNTIF(Alcance!$E1175,H$893)","v":0},0,0.5,0]
["Pesticidas Organofosforados",null,"Demetón-O",null,{"$f":"COUNTIF(Alcance!$E1176,E$893)","v":0},{"$f":"COUNTIF(Alcance!$E1176,F$893)","v":0},{"$f":"COUNTIF(Alcance!$E1176,G$893)","v":0},{"$f":"COUNTIF(Alcance!$E1176,H$893)","v":0},0,0.5,0]
["Pesticidas Organofosforados",null,"Demetón-S",null,{"$f":"COUNTIF(Alcance!$E1177,E$893)","v":0},{"$f":"COUNTIF(Alcance!$E1177,F$893)","v":0},{"$f":"COUNTIF(Alcance!$E1177,G$893)","v":0},{"$f":"COUNTIF(Alcance!$E1177,H$893)","v":0},0,0.5,0]
["Pesticidas Organofosforados",null,"Diazinon",null,{"$f":"COUNTIF(Alcance!$E1178,E$893)","v":0},{"$f":"COUNTIF(Alcance!$E1178,F$893)","v":0},{"$f":"COUNTIF(Alcance!$E1178,G$893)","v":0},{"$f":"COUNTIF(Alcance!$E1178,H$893)","v":0},0,0.5,0]
["Pesticidas Organofosforados",null,"Diclorvos (DDVP)",null,{"$f":"COUNTIF(Alcance!$E1179,E$893)","v":0},{"$f":"COUNTIF(Alcance!$E1179,F$893)","v":0},{"$f":"COUNTIF(Alcance!$E1179,G$893)","v":0},{"$f":"COUNTIF(Alcance!$E1179,H$893)","v":0},0,0.5,0]
["Pesticidas Organofosforados",null,"Malation",null,{"$f":"COUNTIF(Alcance!$E1180,E$893)","v":0},{"$f":"COUNTIF(Alcance!$E1180,F$893)","v":0},{"$f":"COUNTIF(Alcance!$E1180,G$893)","v":0},{"$f":"COUNTIF(Alcance!$E1180,H$893)","v":0},0,0.5,0]
["Pesticidas Organofosforados",null,"Etil paration",null,{"$f":"COUNTIF(Alcance!$E1181,E$893)","v":0},{"$f":"COUNTIF(Alcance!$E1181,F$893)","v":0},{"$f":"COUNTIF(Alcance!$E1181,G$893)","v":0},{"$f":"COUNTIF(Alcance!$E1181,H$893)","v":0},0,0.5,0]
["Pesticidas Organofosforados",null,"Forato",null,{"$f":"COUNTIF(Alcance!$E1182,E$893)","v":0},{"$f":"COUNTIF(Alcance!$E1182,F$893)","v":0},{"$f":"COUNTIF(Alcance!$E1182,G$893)","v":0},{"$f":"COUNTIF(Alcance!$E1182,H$893)","v":0},0,0.5,0]
["Pesticidas Organofosforados",null,"Ronnel",null,{"$f":"COUNTIF(Alcance!$E1183,E$893)","v":0},{"$f":"COUNTIF(Alcance!$E1183,F$893)","v":0},{"$f":"COUNTIF(Alcance!$E1183,G$893)","v":0},{"$f":"COUNTIF(Alcance!$E1183,H$893)","v":0},0,0.5,0]
["Pesticidas Organofosforados",null,"Tetraclorvinfos",null,{"$f":"COUNTIF(Alcance!$E1184,E$893)","v":0},{"$f":"COUNTIF(Alcance!$E1184,F$893)","v":0},{"$f":"COUNTIF(Alcance!$E1184,G$893)","v":0},{"$f":"COUNTIF(Alcance!$E1184,H$893)","v":0},0,0.5,0]
["Herbicidas",null,"2,4-D",null,{"$f":"COUNTIF(Alcance!$E1185,E$893)","v":0},{"$f":"COUNTIF(Alcance!$E1185,F$893)","v":0},{"$f":"COUNTIF(Alcance!$E1185,G$893)","v":0},{"$f":"COUNTIF(Alcance!$E1185,H$893)","v":0},0,0.5,0]
["Herbicidas",null,"2,4-DB",null,{"$f":"COUNTIF(Alcance!$E1186,E$893)","v":0},{"$f":"COUNTIF(Alcance!$E1186,F$893)","v":0},{"$f":"COUNTIF(Alcance!$E1186,G$893)","v":0},{"$f":"COUNTIF(Alcance!$E1186,H$893)","v":0},0,0.5,0]
["Herbicidas",null,"Dalapon",null,{"$f":"COUNTIF(Alcance!$E1187,E$893)","v":0},{"$f":"COUNTIF(Alcance!$E1187,F$893)","v":0},{"$f":"COUNTIF(Alcance!$E1187,G$893)","v":0},{"$f":"COUNTIF(Alcance!$E1187,H$893)","v":0},0,0.5,0]
["Herbicidas",null,"Dicamba",null,{"$f":"COUNTIF(Alcance!$E1188,E$893)","v":0},{"$f":"COUNTIF(Alcance!$E1188,F$893)","v":0},{"$f":"COUNTIF(Alcance!$E1188,G$893)","v":0},{"$f":"COUNTIF(Alcance!$E1188,H$893)","v":0},0,0.5,0]
["Herbicidas",null,"Disulfoton",null,{"$f":"COUNTIF(Alcance!$E1189,E$893)","v":0},{"$f":"COUNTIF(Alcance!$E1189,F$893)","v":0},{"$f":"COUNTIF(Alcance!$E1189,G$893)","v":0},{"$f":"COUNTIF(Alcance!$E1189,H$893)","v":0},0,0.5,0]
["Herbicidas",null,"MCPA",null,{"$f":"COUNTIF(Alcance!$E1190,E$893)","v":0},{"$f":"COUNTIF(Alcance!$E1190,F$893)","v":0},{"$f":"COUNTIF(Alcance!$E1190,G$893)","v":0},{"$f":"COUNTIF(Alcance!$E1190,H$893)","v":0},0,0.5,0]
["Herbicidas",null,"MCPP",null,{"$f":"COUNTIF(Alcance!$E1191,E$893)","v":0},{"$f":"COUNTIF(Alcance!$E1191,F$893)","v":0},{"$f":"COUNTIF(Alcance!$E1191,G$893)","v":0},{"$f":"COUNTIF(Alcance!$E1191,H$893)","v":0},0,0.5,0]
["Herbicidas",null,"Pentaclorofenol",null,{"$f":"COUNTIF(Alcance!$E1192,E$893)","v":0},{"$f":"COUNTIF(Alcance!$E1192,F$893)","v":0},{"$f":"COUNTIF(Alcance!$E1192,G$893)","v":0},{"$f":"COUNTIF(Alcance!$E1192,H$893)","v":0},0,0.5,0]
["Herbicidas",null,"Silvex (2,4,5-TP)",null,{"$f":"COUNTIF(Alcance!$E1193,E$893)","v":0},{"$f":"COUNTIF(Alcance!$E1193,F$893)","v":0},{"$f":"COUNTIF(Alcance!$E1193,G$893)","v":0},{"$f":"COUNTIF(Alcance!$E1193,H$893)","v":0},0,0.5,0]
["Herbicidas",null,"2,4,5-T",null,{"$f":"COUNTIF(Alcance!$E1194,E$893)","v":0},{"$f":"COUNTIF(Alcance!$E1194,F$893)","v":0},{"$f":"COUNTIF(Alcance!$E1194,G$893)","v":0},{"$f":"COUNTIF(Alcance!$E1194,H$893)","v":0},0,0.5,0]
["Dioxinas  y Furanos",null,"1,2,3,4,6,7,8-Hpcdf",null,{"$f":"COUNTIF(Alcance!$E1195,E$893)","v":0},{"$f":"COUNTIF(Alcance!$E1195,F$893)","v":0},{"$f":"COUNTIF(Alcance!$E1195,G$893)","v":0},{"$f":"COUNTIF(Alcance!$E1195,H$893)","v":0},0,0.5,0]
["Dioxinas  y Furanos",null,"1,2,3,4,7,8,9-Hpcdf",null,{"$f":"COUNTIF(Alcance!$E1196,E$893)","v":0},{"$f":"COUNTIF(Alcance!$E1196,F$893)","v":0},{"$f":"COUNTIF(Alcance!$E1196,G$893)","v":0},{"$f":"COUNTIF(Alcance!$E1196,H$893)","v":0},0,0.5,0]
["Dioxinas  y Furanos",null,"1,2,3,4,6,7,8-Hpcdd",null,{"$f":"COUNTIF(Alcance!$E1197,E$893)","v":0},{"$f":"COUNTIF(Alcance!$E1197,F$893)","v":0},{"$f":"COUNTIF(Alcance!$E1197,G$893)","v":0},{"$f":"COUNTIF(Alcance!$E1197,H$893)","v":0},0,0.5,0]
["Dioxinas  y Furanos",null,"Hpcdd Total",null,{"$f":"COUNTIF(Alcance!$E1198,E$893)","v":0},{"$f":"COUNTIF(Alcance!$E1198,F$893)","v":0},{"$f":"COUNTIF(Alcance!$E1198,G$893)","v":0},{"$f":"COUNTIF(Alcance!$E1198,H$893)","v":0},0,0.5,0]
["Dioxinas  y Furanos",null,"Hpcdf Total",null,{"$f":"COUNTIF(Alcance!$E1199,E$893)","v":0},{"$f":"COUNTIF(Alcance!$E1199,F$893)","v":0},{"$f":"COUNTIF(Alcance!$E1199,G$893)","v":0},{"$f":"COUNTIF(Alcance!$E1199,H$893)","v":0},0,0.5,0]
["Dioxinas  y Furanos",null,"1,2,3,4,7,8-Hxcdd",null,{"$f":"COUNTIF(Alcance!$E1200,E$893)","v":0},{"$f":"COUNTIF(Alcance!$E1200,F$893)","v":0},{"$f":"COUNTIF(Alcance!$E1200,G$893)","v":0},{"$f":"COUNTIF(Alcance!$E1200,H$893)","v":0},0,0.5,0]
["Dioxinas  y Furanos",null,"1,2,3,6,7,8-Hxcdd",null,{"$f":"COUNTIF(Alcance!$E1201,E$893)","v":0},{"$f":"COUNTIF(Alcance!$E1201,F$893)","v":0},{"$f":"COUNTIF(Alcance!$E1201,G$893)","v":0},{"$f":"COUNTIF(Alcance!$E1201,H$893)","v":0},0,0.5,0]
["Dioxinas  y Furanos",null,"1,2,3,7,8,9-Hxcdd",null,{"$f":"COUNTIF(Alcance!$E1202,E$893)","v":0},{"$f":"COUNTIF(Alcance!$E1202,F$893)","v":0},{"$f":"COUNTIF(Alcance!$E1202,G$893)","v":0},{"$f":"COUNTIF(Alcance!$E1202,H$893)","v":0},0,0.5,0]
["Dioxinas  y Furanos",null,"Hxcdd Total",null,{"$f":"COUNTIF(Alcance!$E1203,E$893)","v":0},{"$f":"COUNTIF(Alcance!$E1203,F$893)","v":0},{"$f":"COUNTIF(Alcance!$E1203,G$893)","v":0},{"$f":"COUNTIF(Alcance!$E1203,H$893)","v":0},0,0.5,0]
["Dioxinas  y Furanos",null,"1,2,3,4,7,8-Hxcdf",null,{"$f":"COUNTIF(Alcance!$E1204,E$893)","v":0},{"$f":"COUNTIF(Alcance!$E1204,F$893)","v":0},{"$f":"COUNTIF(Alcance!$E1204,G$893)","v":0},{"$f":"COUNTIF(Alcance!$E1204,H$893)","v":0},0,0.5,0]
["Dioxinas  y Furanos",null,"1,2,3,6,7,8-Hxcdf",null,{"$f":"COUNTIF(Alcance!$E1205,E$893)","v":0},{"$f":"COUNTIF(Alcance!$E1205,F$893)","v":0},{"$f":"COUNTIF(Alcance!$E1205,G$893)","v":0},{"$f":"COUNTIF(Alcance!$E1205,H$893)","v":0},0,0.5,0]
["Dioxinas  y Furanos",null,"1,2,3,7,8,9-Hxcdf",null,{"$f":"COUNTIF(Alcance!$E1206,E$893)","v":0},{"$f":"COUNTIF(Alcance!$E1206,F$893)","v":0},{"$f":"COUNTIF(Alcance!$E1206,G$893)","v":0},{"$f":"COUNTIF(Alcance!$E1206,H$893)","v":0},0,0.5,0]
["Dioxinas  y Furanos",null,"2,3,4,6,7,8-Hxcdf",null,{"$f":"COUNTIF(Alcance!$E1207,E$893)","v":0},{"$f":"COUNTIF(Alcance!$E1207,F$893)","v":0},{"$f":"COUNTIF(Alcance!$E1207,G$893)","v":0},{"$f":"COUNTIF(Alcance!$E1207,H$893)","v":0},0,0.5,0]
["Dioxinas  y Furanos",null,"Hxcdf Total",null,{"$f":"COUNTIF(Alcance!$E1208,E$893)","v":0},{"$f":"COUNTIF(Alcance!$E1208,F$893)","v":0},{"$f":"COUNTIF(Alcance!$E1208,G$893)","v":0},{"$f":"COUNTIF(Alcance!$E1208,H$893)","v":0},0,0.5,0]
["Dioxinas  y Furanos",null,"1,2,3,4,6,7,8,9-OCDF",null,{"$f":"COUNTIF(Alcance!$E1209,E$893)","v":0},{"$f":"COUNTIF(Alcance!$E1209,F$893)","v":0},{"$f":"COUNTIF(Alcance!$E1209,G$893)","v":0},{"$f":"COUNTIF(Alcance!$E1209,H$893)","v":0},0,0.5,0]
["Dioxinas  y Furanos",null,"1,2,3,4,6,7,8,9-OCDD",null,{"$f":"COUNTIF(Alcance!$E1210,E$893)","v":0},{"$f":"COUNTIF(Alcance!$E1210,F$893)","v":0},{"$f":"COUNTIF(Alcance!$E1210,G$893)","v":0},{"$f":"COUNTIF(Alcance!$E1210,H$893)","v":0},0,0.5,0]
["Dioxinas  y Furanos",null,"1,2,3,7,8-Pecdd",null,{"$f":"COUNTIF(Alcance!$E1211,E$893)","v":0},{"$f":"COUNTIF(Alcance!$E1211,F$893)","v":0},{"$f":"COUNTIF(Alcance!$E1211,G$893)","v":0},{"$f":"COUNTIF(Alcance!$E1211,H$893)","v":0},0,0.5,0]
["Dioxinas  y Furanos",null,"1,2,3,7,8-Pecdf",null,{"$f":"COUNTIF(Alcance!$E1212,E$893)","v":0},{"$f":"COUNTIF(Alcance!$E1212,F$893)","v":0},{"$f":"COUNTIF(Alcance!$E1212,G$893)","v":0},{"$f":"COUNTIF(Alcance!$E1212,H$893)","v":0},0,0.5,0]
["Dioxinas  y Furanos",null,"2,3,4,7,8-Pecdf",null,{"$f":"COUNTIF(Alcance!$E1213,E$893)","v":0},{"$f":"COUNTIF(Alcance!$E1213,F$893)","v":0},{"$f":"COUNTIF(Alcance!$E1213,G$893)","v":0},{"$f":"COUNTIF(Alcance!$E1213,H$893)","v":0},0,0.5,0]
["Dioxinas  y Furanos",null,"Pecdf Total",null,{"$f":"COUNTIF(Alcance!$E1214,E$893)","v":0},{"$f":"COUNTIF(Alcance!$E1214,F$893)","v":0},{"$f":"COUNTIF(Alcance!$E1214,G$893)","v":0},{"$f":"COUNTIF(Alcance!$E1214,H$893)","v":0},0,0.5,0]
["Dioxinas  y Furanos",null,"Pecdd Total",null,{"$f":"COUNTIF(Alcance!$E1215,E$893)","v":0},{"$f":"COUNTIF(Alcance!$E1215,F$893)","v":0},{"$f":"COUNTIF(Alcance!$E1215,G$893)","v":0},{"$f":"COUNTIF(Alcance!$E1215,H$893)","v":0},0,0.5,0]
["Dioxinas  y Furanos",null,"2,3,7,8-TCDD",null,{"$f":"COUNTIF(Alcance!$E1216,E$893)","v":0},{"$f":"COUNTIF(Alcance!$E1216,F$893)","v":0},{"$f":"COUNTIF(Alcance!$E1216,G$893)","v":0},{"$f":"COUNTIF(Alcance!$E1216,H$893)","v":0},0,0.5,0]
["Dioxinas  y Furanos",null,"2,3,7,8-TCDF",null,{"$f":"COUNTIF(Alcance!$E1217,E$893)","v":0},{"$f":"COUNTIF(Alcance!$E1217,F$893)","v":0},{"$f":"COUNTIF(Alcance!$E1217,G$893)","v":0},{"$f":"COUNTIF(Alcance!$E1217,H$893)","v":0},0,0.5,0]
["Dioxinas  y Furanos",null,"TCDF Total",null,{"$f":"COUNTIF(Alcance!$E1218,E$893)","v":0},{"$f":"COUNTIF(Alcance!$E1218,F$893)","v":0},{"$f":"COUNTIF(Alcance!$E1218,G$893)","v":0},{"$f":"COUNTIF(Alcance!$E1218,H$893)","v":0},0,0.5,0]
["Dioxinas  y Furanos",null,"TCDD Total",null,{"$f":"COUNTIF(Alcance!$E1219,E$893)","v":0},{"$f":"COUNTIF(Alcance!$E1219,F$893)","v":0},{"$f":"COUNTIF(Alcance!$E1219,G$893)","v":0},{"$f":"COUNTIF(Alcance!$E1219,H$893)","v":0},0,0.5,0]
["Dioxinas  y Furanos",null,"PCDD Total",null,{"$f":"COUNTIF(Alcance!$E1220,E$893)","v":0},{"$f":"COUNTIF(Alcance!$E1220,F$893)","v":0},{"$f":"COUNTIF(Alcance!$E1220,G$893)","v":0},{"$f":"COUNTIF(Alcance!$E1220,H$893)","v":0},0,0.5,0]
["Dioxinas  y Furanos",null,"PCDD+PCDF Total",null,{"$f":"COUNTIF(Alcance!$E1221,E$893)","v":0},{"$f":"COUNTIF(Alcance!$E1221,F$893)","v":0},{"$f":"COUNTIF(Alcance!$E1221,G$893)","v":0},{"$f":"COUNTIF(Alcance!$E1221,H$893)","v":0},0,0.5,0]
["Dioxinas  y Furanos",null,"PCDF Total",null,{"$f":"COUNTIF(Alcance!$E1222,E$893)","v":0},{"$f":"COUNTIF(Alcance!$E1222,F$893)","v":0},{"$f":"COUNTIF(Alcance!$E1222,G$893)","v":0},{"$f":"COUNTIF(Alcance!$E1222,H$893)","v":0},0,0.5,0]
["PCB Congéneres",null,"PCB 28",null,{"$f":"COUNTIF(Alcance!$E1223,E$893)","v":0},{"$f":"COUNTIF(Alcance!$E1223,F$893)","v":0},{"$f":"COUNTIF(Alcance!$E1223,G$893)","v":0},{"$f":"COUNTIF(Alcance!$E1223,H$893)","v":0},0,1,0]
["PCB Congéneres",null,"PCB 52",null,{"$f":"COUNTIF(Alcance!$E1224,E$893)","v":0},{"$f":"COUNTIF(Alcance!$E1224,F$893)","v":0},{"$f":"COUNTIF(Alcance!$E1224,G$893)","v":0},{"$f":"COUNTIF(Alcance!$E1224,H$893)","v":0},0,1,0]
["PCB Congéneres",null,"PCB 101",null,{"$f":"COUNTIF(Alcance!$E1225,E$893)","v":0},{"$f":"COUNTIF(Alcance!$E1225,F$893)","v":0},{"$f":"COUNTIF(Alcance!$E1225,G$893)","v":0},{"$f":"COUNTIF(Alcance!$E1225,H$893)","v":0},0,1,0]
["PCB Congéneres",null,"PCB 118",null,{"$f":"COUNTIF(Alcance!$E1226,E$893)","v":0},{"$f":"COUNTIF(Alcance!$E1226,F$893)","v":0},{"$f":"COUNTIF(Alcance!$E1226,G$893)","v":0},{"$f":"COUNTIF(Alcance!$E1226,H$893)","v":0},0,1,0]
["PCB Congéneres",null,"PCB 138",null,{"$f":"COUNTIF(Alcance!$E1227,E$893)","v":0},{"$f":"COUNTIF(Alcance!$E1227,F$893)","v":0},{"$f":"COUNTIF(Alcance!$E1227,G$893)","v":0},{"$f":"COUNTIF(Alcance!$E1227,H$893)","v":0},0,1,0]
["PCB Congéneres",null,"PCB 153",null,{"$f":"COUNTIF(Alcance!$E1228,E$893)","v":0},{"$f":"COUNTIF(Alcance!$E1228,F$893)","v":0},{"$f":"COUNTIF(Alcance!$E1228,G$893)","v":0},{"$f":"COUNTIF(Alcance!$E1228,H$893)","v":0},0,1,0]
["PCB Congéneres",null,"PCB 180",null,{"$f":"COUNTIF(Alcance!$E1229,E$893)","v":0},{"$f":"COUNTIF(Alcance!$E1229,F$893)","v":0},{"$f":"COUNTIF(Alcance!$E1229,G$893)","v":0},{"$f":"COUNTIF(Alcance!$E1229,H$893)","v":0},0,1,0]
["TPH (Hidrocarburos derivados del petróleo)",null,"Hidrocarburos",null,{"$f":"COUNTIF(Alcance!$E1230,E$893)","v":0},{"$f":"COUNTIF(Alcance!$E1230,F$893)","v":0},{"$f":"COUNTIF(Alcance!$E1230,G$893)","v":0},{"$f":"COUNTIF(Alcance!$E1230,H$893)","v":0},0,1,0]
["TPH (Hidrocarburos derivados del petróleo)",null,"Hidrocarburos del Petróleo (Fracción GRO)",null,{"$f":"COUNTIF(Alcance!$E1231,E$893)","v":0},{"$f":"COUNTIF(Alcance!$E1231,F$893)","v":0},{"$f":"COUNTIF(Alcance!$E1231,G$893)","v":0},{"$f":"COUNTIF(Alcance!$E1231,H$893)","v":0},0,5,0]
["TPH (Hidrocarburos derivados del petróleo)",null,"Hidrocarburos del Petróleo (Fracción DRO)",null,{"$f":"COUNTIF(Alcance!$E1232,E$893)","v":0},{"$f":"COUNTIF(Alcance!$E1232,F$893)","v":0},{"$f":"COUNTIF(Alcance!$E1232,G$893)","v":0},{"$f":"COUNTIF(Alcance!$E1232,H$893)","v":0},0,5,0]
["Toma de Muestra en Suelo",null,"Toma de Muestra",null,{"$f":"COUNTIF(Alcance!$E1233,E$893)","v":0},{"$f":"COUNTIF(Alcance!$E1233,F$893)","v":0},{"$f":"COUNTIF(Alcance!$E1233,G$893)","v":0},{"$f":"COUNTIF(Alcance!$E1233,H$893)","v":0},0,3,0,"Total Parámetros Calculados",{"$f":"SUM(K894:K1025)","v":0}]
["Otras variables en Suelo",null,"Especificado por el usuario",null,{"$f":"COUNTIF(Alcance!$E$1234:$F$1274,E$893)","v":0},{"$f":"COUNTIF(Alcance!$E$1234:$F$1274,F$893)","v":0},{"$f":"COUNTIF(Alcance!$E$1234:$F$1274,G$893)","v":0},{"$f":"COUNTIF(Alcance!$E$1234:$F$1274,H$893)","v":0},{"$f":"SUM(E1025:H1025)","v":0},1,{"$f":"J1025*I1025","v":0}]
["TOTALES",null,null,null,{"$f":"SUM(E894:E1025)","v":0},{"$f":"SUM(F894:F1025)","v":0},{"$f":"SUM(G894:G1025)","v":0},{"$f":"SUM(H894:H1025)","v":0},{"$f":"SUM(I894:I1025)","v":0}]
[]
["MATRIZ LODO"]
["18. Matriz / Grupo",null,"19. Variable",null,"INICIAL","SEGUIMIENTO","RENOVACIÓN","EXTENSIÓN","Total Variables","Equivalencia en Parámetros","Parámetros Calculados"]
["Metales",null,"Aluminio",null,{"$f":"COUNTIF(Alcance!$E1279,E$1029)","v":0},{"$f":"COUNTIF(Alcance!$E1279,F$1029)","v":0},{"$f":"COUNTIF(Alcance!$E1279,G$1029)","v":0},{"$f":"COUNTIF(Alcance!$E1279,H$1029)","v":0},{"$f":"SUM(E1030:H1030)","v":0},0.5,{"$f":"I1030*J1030","v":0}]
["Metales",null,"Antimonio",null,{"$f":"COUNTIF(Alcance!$E1280,E$1029)","v":0},{"$f":"COUNTIF(Alcance!$E1280,F$1029)","v":0},{"$f":"COUNTIF(Alcance!$E1280,G$1029)","v":0},{"$f":"COUNTIF(Alcance!$E1280,H$1029)","v":0},{"$f":"SUM(E1031:H1031)","v":0},0.5,{"$f":"I1031*J1031","v":0}]
["Metales",null,"Arsénico",null,{"$f":"COUNTIF(Alcance!$E1281,E$1029)","v":0},{"$f":"COUNTIF(Alcance!$E1281,F$1029)","v":0},{"$f":"COUNTIF(Alcance!$E1281,G$1029)","v":0},{"$f":"COUNTIF(Alcance!$E1281,H$1029)","v":0},0,1,0]
["Metales",null,"Bario",null,{"$f":"COUNTIF(Alcance!$E1282,E$1029)","v":0},{"$f":"COUNTIF(Alcance!$E1282,F$1029)","v":0},{"$f":"COUNTIF(Alcance!$E1282,G$1029)","v":0},{"$f":"COUNTIF(Alcance!$E1282,H$1029)","v":0},0,0.5,0]
["Metales",null,"Berilio",null,{"$f":"COUNTIF(Alcance!$E1283,E$1029)","v":0},{"$f":"COUNTIF(Alcance!$E1283,F$1029)","v":0},{"$f":"COUNTIF(Alcance!$E1283,G$1029)","v":0},{"$f":"COUNTIF(Alcance!$E1283,H$1029)","v":0},0,0.5,0]
["Metales",null,"Boro",null,{"$f":"COUNTIF(Alcance!$E1284,E$1029)","v":0},{"$f":"COUNTIF(Alcance!$E1284,F$1029)","v":0},{"$f":"COUNTIF(Alcance!$E1284,G$1029)","v":0},{"$f":"COUNTIF(Alcance!$E1284,H$1029)","v":0},0,0.5,0]
["Metales",null,"Cadmio",null,{"$f":"COUNTIF(Alcance!$E1285,E$1029)","v":0},{"$f":"COUNTIF(Alcance!$E1285,F$1029)","v":0},{"$f":"COUNTIF(Alcance!$E1285,G$1029)","v":0},{"$f":"COUNTIF(Alcance!$E1285,H$1029)","v":0},0,0.5,0]
["Metales",null,"Calcio",null,{"$f":"COUNTIF(Alcance!$E1286,E$1029)","v":0},{"$f":"COUNTIF(Alcance!$E1286,F$1029)","v":0},{"$f":"COUNTIF(Alcance!$E1286,G$1029)","v":0},{"$f":"COUNTIF(Alcance!$E1286,H$1029)","v":0},0,0.5,0]
["Metales",null,"Cobalto",null,{"$f":"COUNTIF(Alcance!$E1287,E$1029)","v":0},{"$f":"COUNTIF(Alcance!$E1287,F$1029)","v":0},{"$f":"COUNTIF(Alcance!$E1287,G$1029)","v":0},{"$f":"COUNTIF(Alcance!$E1287,H$1029)","v":0},0,0.5,0]
["Metales",null,"Cobre",null,{"$f":"COUNTIF(Alcance!$E1288,E$1029)","v":0},{"$f":"COUNTIF(Alcance!$E1288,F$1029)","v":0},{"$f":"COUNTIF(Alcance!$E1288,G$1029)","v":0},{"$f":"COUNTIF(Alcance!$E1288,H$1029)","v":0},0,0.5,0]
["Metales",null,"Cromo",null,{"$f":"COUNTIF(Alcance!$E1289,E$1029)","v":0},{"$f":"COUNTIF(Alcance!$E1289,F$1029)","v":0},{"$f":"COUNTIF(Alcance!$E1289,G$1029)","v":0},{"$f":"COUNTIF(Alcance!$E1289,H$1029)","v":0},0,0.5,0]
["Metales",null,"Litio",null,{"$f":"COUNTIF(Alcance!$E1290,E$1029)","v":0},{"$f":"COUNTIF(Alcance!$E1290,F$1029)","v":0},{"$f":"COUNTIF(Alcance!$E1290,G$1029)","v":0},{"$f":"COUNTIF(Alcance!$E1290,H$1029)","v":0},0,0.5,0]
["Metales",null,"Estaño",null,{"$f":"COUNTIF(Alcance!$E1291,E$1029)","v":0},{"$f":"COUNTIF(Alcance!$E1291,F$1029)","v":0},{"$f":"COUNTIF(Alcance!$E1291,G$1029)","v":0},{"$f":"COUNTIF(Alcance!$E1291,H$1029)","v":0},0,0.5,0]
["Metales",null,"Estroncio",null,{"$f":"COUNTIF(Alcance!$E1292,E$1029)","v":0},{"$f":"COUNTIF(Alcance!$E1292,F$1029)","v":0},{"$f":"COUNTIF(Alcance!$E1292,G$1029)","v":0},{"$f":"COUNTIF(Alcance!$E1292,H$1029)","v":0},0,0.5,0]
["Metales",null,"Hierro",null,{"$f":"COUNTIF(Alcance!$E1293,E$1029)","v":0},{"$f":"COUNTIF(Alcance!$E1293,F$1029)","v":0},{"$f":"COUNTIF(Alcance!$E1293,G$1029)","v":0},{"$f":"COUNTIF(Alcance!$E1293,H$1029)","v":0},0,0.5,0]
["Metales",null,"Magnesio",null,{"$f":"COUNTIF(Alcance!$E1294,E$1029)","v":0},{"$f":"COUNTIF(Alcance!$E1294,F$1029)","v":0},{"$f":"COUNTIF(Alcance!$E1294,G$1029)","v":0},{"$f":"COUNTIF(Alcance!$E1294,H$1029)","v":0},0,0.5,0]
["Metales",null,"Manganeso",null,{"$f":"COUNTIF(Alcance!$E1295,E$1029)","v":0},{"$f":"COUNTIF(Alcance!$E1295,F$1029)","v":0},{"$f":"COUNTIF(Alcance!$E1295,G$1029)","v":0},{"$f":"COUNTIF(Alcance!$E1295,H$1029)","v":0},0,0.5,0]
["Metales",null,"Mercurio",null,{"$f":"COUNTIF(Alcance!$E1296,E$1029)","v":0},{"$f":"COUNTIF(Alcance!$E1296,F$1029)","v":0},{"$f":"COUNTIF(Alcance!$E1296,G$1029)","v":0},{"$f":"COUNTIF(Alcance!$E1296,H$1029)","v":0},0,1,0]
["Metales",null,"Molibdeno",null,{"$f":"COUNTIF(Alcance!$E1297,E$1029)","v":0},{"$f":"COUNTIF(Alcance!$E1297,F$1029)","v":0},{"$f":"COUNTIF(Alcance!$E1297,G$1029)","v":0},{"$f":"COUNTIF(Alcance!$E1297,H$1029)","v":0},0,0.5,0]
["Metales",null,"Níquel",null,{"$f":"COUNTIF(Alcance!$E1298,E$1029)","v":0},{"$f":"COUNTIF(Alcance!$E1298,F$1029)","v":0},{"$f":"COUNTIF(Alcance!$E1298,G$1029)","v":0},{"$f":"COUNTIF(Alcance!$E1298,H$1029)","v":0},0,0.5,0]
["Metales",null,"Plata",null,{"$f":"COUNTIF(Alcance!$E1299,E$1029)","v":0},{"$f":"COUNTIF(Alcance!$E1299,F$1029)","v":0},{"$f":"COUNTIF(Alcance!$E1299,G$1029)","v":0},{"$f":"COUNTIF(Alcance!$E1299,H$1029)","v":0},0,0.5,0]
["Metales",null,"Plomo",null,{"$f":"COUNTIF(Alcance!$E1300,E$1029)","v":0},{"$f":"COUNTIF(Alcance!$E1300,F$1029)","v":0},{"$f":"COUNTIF(Alcance!$E1300,G$1029)","v":0},{"$f":"COUNTIF(Alcance!$E1300,H$1029)","v":0},0,0.5,0]
["Metales",null,"Potasio",null,{"$f":"COUNTIF(Alcance!$E1301,E$1029)","v":0},{"$f":"COUNTIF(Alcance!$E1301,F$1029)","v":0},{"$f":"COUNTIF(Alcance!$E1301,G$1029)","v":0},{"$f":"COUNTIF(Alcance!$E1301,H$1029)","v":0},0,0.5,0]
["Metales",null,"Selenio",null,{"$f":"COUNTIF(Alcance!$E1302,E$1029)","v":0},{"$f":"COUNTIF(Alcance!$E1302,F$1029)","v":0},{"$f":"COUNTIF(Alcance!$E1302,G$1029)","v":0},{"$f":"COUNTIF(Alcance!$E1302,H$1029)","v":0},0,1,0]
["Metales",null,"Sodio",null,{"$f":"COUNTIF(Alcance!$E1303,E$1029)","v":0},{"$f":"COUNTIF(Alcance!$E1303,F$1029)","v":0},{"$f":"COUNTIF(Alcance!$E1303,G$1029)","v":0},{"$f":"COUNTIF(Alcance!$E1303,H$1029)","v":0},0,0.5,0]
["Metales",null,"Talio",null,{"$f":"COUNTIF(Alcance!$E1304,E$1029)","v":0},{"$f":"COUNTIF(Alcance!$E1304,F$1029)","v":0},{"$f":"COUNTIF(Alcance!$E1304,G$1029)","v":0},{"$f":"COUNTIF(Alcance!$E1304,H$1029)","v":0},0,0.5,0]
["Metales",null,"Titanio",null,{"$f":"COUNTIF(Alcance!$E1305,E$1029)","v":0},{"$f":"COUNTIF(Alcance!$E1305,F$1029)","v":0},{"$f":"COUNTIF(Alcance!$E1305,G$1029)","v":0},{"$f":"COUNTIF(Alcance!$E1305,H$1029)","v":0},0,0.5,0]
["Metales",null,"Vanadio",null,{"$f":"COUNTIF(Alcance!$E1306,E$1029)","v":0},{"$f":"COUNTIF(Alcance!$E1306,F$1029)","v":0},{"$f":"COUNTIF(Alcance!$E1306,G$1029)","v":0},{"$f":"COUNTIF(Alcance!$E1306,H$1029)","v":0},0,0.5,0]
["Metales",null,"Zinc",null,{"$f":"COUNTIF(Alcance!$E1307,E$1029)","v":0},{"$f":"COUNTIF(Alcance!$E1307,F$1029)","v":0},{"$f":"COUNTIF(Alcance!$E1307,G$1029)","v":0},{"$f":"COUNTIF(Alcance!$E1307,H$1029)","v":0},0,0.5,0]
["Microbiológico",null,"Huevos de Helminto",null,{"$f":"COUNTIF(Alcance!$E1308,E$1029)","v":0},{"$f":"COUNTIF(Alcance!$E1308,F$1029)","v":0},{"$f":"COUNTIF(Alcance!$E1308,G$1029)","v":0},{"$f":"COUNTIF(Alcance!$E1308,H$1029)","v":0},0,1.5,0]
["Microbiológico",null,"Coliformes Termotolerantes",null,{"$f":"COUNTIF(Alcance!$E1309,E$1029)","v":0},{"$f":"COUNTIF(Alcance!$E1309,F$1029)","v":0},{"$f":"COUNTIF(Alcance!$E1309,G$1029)","v":0},{"$f":"COUNTIF(Alcance!$E1309,H$1029)","v":0},0,1.5,0]
["Microbiológico",null,"Salmonella sp.",null,{"$f":"COUNTIF(Alcance!$E1310,E$1029)","v":0},{"$f":"COUNTIF(Alcance!$E1310,F$1029)","v":0},{"$f":"COUNTIF(Alcance!$E1310,G$1029)","v":0},{"$f":"COUNTIF(Alcance!$E1310,H$1029)","v":0},{"$f":"SUM(E1061:H1061)","v":0},1.5,0]
["Otras variables en Lodos",null,"Especificado por el Usuario",null,{"$f":"COUNTIF(Alcance!$E$1311:$F$1344,E$1029)","v":0},{"$f":"COUNTIF(Alcance!$E$1311:$F$1344,F$1029)","v":0},{"$f":"COUNTIF(Alcance!$E$1311:$F$1344,G$1029)","v":0},{"$f":"COUNTIF(Alcance!$E$1311:$F$1344,H$1029)","v":0},{"$f":"SUM(E1062:H1062)","v":0},1,0,"Total Parámetros Calculados",{"$f":"SUM(K1030:K1062)","v":0}]
["TOTALES",null,null,null,{"$f":"SUM(E1030:E1062)","v":0},{"$f":"SUM(F1030:F1062)","v":0},{"$f":"SUM(G1030:G1062)","v":0},{"$f":"SUM(H1030:H1062)","v":0},{"$f":"SUM(I1030:I1062)","v":0}]
[]
["MATRIZ SEDIMENTO"]
["18. Matriz / Grupo",null,"19. Variable",null,"INICIAL","SEGUIMIENTO","RENOVACIÓN","EXTENSIÓN","Total Variables","Equivalencia en Parámetros","Parámetros Calculados"]
["Metales",null,"Aluminio",null,{"$f":"COUNTIF(Alcance!$E1349,E$1066)","v":0},{"$f":"COUNTIF(Alcance!$E1349,F$1066)","v":0},{"$f":"COUNTIF(Alcance!$E1349,G$1066)","v":0},{"$f":"COUNTIF(Alcance!$E1349,H$1066)","v":0},{"$f":"SUM(E1067:H1067)","v":0},0.5,{"$f":"I1067*J1067","v":0}]
["Metales",null,"Antimonio",null,{"$f":"COUNTIF(Alcance!$E1350,E$1066)","v":0},{"$f":"COUNTIF(Alcance!$E1350,F$1066)","v":0},{"$f":"COUNTIF(Alcance!$E1350,G$1066)","v":0},{"$f":"COUNTIF(Alcance!$E1350,H$1066)","v":0},0,0.5,0]
["Metales",null,"Arsénico",null,{"$f":"COUNTIF(Alcance!$E1351,E$1066)","v":0},{"$f":"COUNTIF(Alcance!$E1351,F$1066)","v":0},{"$f":"COUNTIF(Alcance!$E1351,G$1066)","v":0},{"$f":"COUNTIF(Alcance!$E1351,H$1066)","v":0},0,1,0]
["Metales",null,"Bario",null,{"$f":"COUNTIF(Alcance!$E1352,E$1066)","v":0},{"$f":"COUNTIF(Alcance!$E1352,F$1066)","v":0},{"$f":"COUNTIF(Alcance!$E1352,G$1066)","v":0},{"$f":"COUNTIF(Alcance!$E1352,H$1066)","v":0},0,0.5,0]
["Metales",null,"Berilio",null,{"$f":"COUNTIF(Alcance!$E1353,E$1066)","v":0},{"$f":"COUNTIF(Alcance!$E1353,F$1066)","v":0},{"$f":"COUNTIF(Alcance!$E1353,G$1066)","v":0},{"$f":"COUNTIF(Alcance!$E1353,H$1066)","v":0},0,0.5,0]
["Metales",null,"Boro",null,{"$f":"COUNTIF(Alcance!$E1354,E$1066)","v":0},{"$f":"COUNTIF(Alcance!$E1354,F$1066)","v":0},{"$f":"COUNTIF(Alcance!$E1354,G$1066)","v":0},{"$f":"COUNTIF(Alcance!$E1354,H$1066)","v":0},0,0.5,0]
["Metales",null,"Cadmio",null,{"$f":"COUNTIF(Alcance!$E1355,E$1066)","v":0},{"$f":"COUNTIF(Alcance!$E1355,F$1066)","v":0},{"$f":"COUNTIF(Alcance!$E1355,G$1066)","v":0},{"$f":"COUNTIF(Alcance!$E1355,H$1066)","v":0},0,0.5,0]
["Metales",null,"Calcio",null,{"$f":"COUNTIF(Alcance!$E1356,E$1066)","v":0},{"$f":"COUNTIF(Alcance!$E1356,F$1066)","v":0},{"$f":"COUNTIF(Alcance!$E1356,G$1066)","v":0},{"$f":"COUNTIF(Alcance!$E1356,H$1066)","v":0},0,0.5,0]
["Metales",null,"Cobalto",null,{"$f":"COUNTIF(Alcance!$E1357,E$1066)","v":0},{"$f":"COUNTIF(Alcance!$E1357,F$1066)","v":0},{"$f":"COUNTIF(Alcance!$E1357,G$1066)","v":0},{"$f":"COUNTIF(Alcance!$E1357,H$1066)","v":0},0,0.5,0]
["Metales",null,"Cobre",null,{"$f":"COUNTIF(Alcance!$E1358,E$1066)","v":0},{"$f":"COUNTIF(Alcance!$E1358,F$1066)","v":0},{"$f":"COUNTIF(Alcance!$E1358,G$1066)","v":0},{"$f":"COUNTIF(Alcance!$E1358,H$1066)","v":0},0,0.5,0]
["Metales",null,"Cromo",null,{"$f":"COUNTIF(Alcance!$E1359,E$1066)","v":0},{"$f":"COUNTIF(Alcance!$E1359,F$1066)","v":0},{"$f":"COUNTIF(Alcance!$E1359,G$1066)","v":0},{"$f":"COUNTIF(Alcance!$E1359,H$1066)","v":0},0,0.5,0]
["Metales",null,"Litio",null,{"$f":"COUNTIF(Alcance!$E1360,E$1066)","v":0},{"$f":"COUNTIF(Alcance!$E1360,F$1066)","v":0},{"$f":"COUNTIF(Alcance!$E1360,G$1066)","v":0},{"$f":"COUNTIF(Alcance!$E1360,H$1066)","v":0},0,0.5,0]
["Metales",null,"Estaño",null,{"$f":"COUNTIF(Alcance!$E1361,E$1066)","v":0},{"$f":"COUNTIF(Alcance!$E1361,F$1066)","v":0},{"$f":"COUNTIF(Alcance!$E1361,G$1066)","v":0},{"$f":"COUNTIF(Alcance!$E1361,H$1066)","v":0},0,0.5,0]
["Metales",null,"Estroncio",null,{"$f":"COUNTIF(Alcance!$E1362,E$1066)","v":0},{"$f":"COUNTIF(Alcance!$E1362,F$1066)","v":0},{"$f":"COUNTIF(Alcance!$E1362,G$1066)","v":0},{"$f":"COUNTIF(Alcance!$E1362,H$1066)","v":0},0,0.5,0]
["Metales",null,"Hierro",null,{"$f":"COUNTIF(Alcance!$E1363,E$1066)","v":0},{"$f":"COUNTIF(Alcance!$E1363,F$1066)","v":0},{"$f":"COUNTIF(Alcance!$E1363,G$1066)","v":0},{"$f":"COUNTIF(Alcance!$E1363,H$1066)","v":0},0,0.5,0]
["Metales",null,"Magnesio",null,{"$f":"COUNTIF(Alcance!$E1364,E$1066)","v":0},{"$f":"COUNTIF(Alcance!$E1364,F$1066)","v":0},{"$f":"COUNTIF(Alcance!$E1364,G$1066)","v":0},{"$f":"COUNTIF(Alcance!$E1364,H$1066)","v":0},0,0.5,0]
["Metales",null,"Manganeso",null,{"$f":"COUNTIF(Alcance!$E1365,E$1066)","v":0},{"$f":"COUNTIF(Alcance!$E1365,F$1066)","v":0},{"$f":"COUNTIF(Alcance!$E1365,G$1066)","v":0},{"$f":"COUNTIF(Alcance!$E1365,H$1066)","v":0},0,0.5,0]
["Metales",null,"Mercurio",null,{"$f":"COUNTIF(Alcance!$E1366,E$1066)","v":0},{"$f":"COUNTIF(Alcance!$E1366,F$1066)","v":0},{"$f":"COUNTIF(Alcance!$E1366,G$1066)","v":0},{"$f":"COUNTIF(Alcance!$E1366,H$1066)","v":0},0,1,0]
["Metales",null,"Molibdeno",null,{"$f":"COUNTIF(Alcance!$E1367,E$1066)","v":0},{"$f":"COUNTIF(Alcance!$E1367,F$1066)","v":0},{"$f":"COUNTIF(Alcance!$E1367,G$1066)","v":0},{"$f":"COUNTIF(Alcance!$E1367,H$1066)","v":0},0,0.5,0]
["Metales",null,"Níquel",null,{"$f":"COUNTIF(Alcance!$E1368,E$1066)","v":0},{"$f":"COUNTIF(Alcance!$E1368,F$1066)","v":0},{"$f":"COUNTIF(Alcance!$E1368,G$1066)","v":0},{"$f":"COUNTIF(Alcance!$E1368,H$1066)","v":0},0,0.5,0]
["Metales",null,"Plata",null,{"$f":"COUNTIF(Alcance!$E1369,E$1066)","v":0},{"$f":"COUNTIF(Alcance!$E1369,F$1066)","v":0},{"$f":"COUNTIF(Alcance!$E1369,G$1066)","v":0},{"$f":"COUNTIF(Alcance!$E1369,H$1066)","v":0},0,0.5,0]
["Metales",null,"Plomo",null,{"$f":"COUNTIF(Alcance!$E1370,E$1066)","v":0},{"$f":"COUNTIF(Alcance!$E1370,F$1066)","v":0},{"$f":"COUNTIF(Alcance!$E1370,G$1066)","v":0},{"$f":"COUNTIF(Alcance!$E1370,H$1066)","v":0},0,0.5,0]
["Metales",null,"Potasio",null,{"$f":"COUNTIF(Alcance!$E1371,E$1066)","v":0},{"$f":"COUNTIF(Alcance!$E1371,F$1066)","v":0},{"$f":"COUNTIF(Alcance!$E1371,G$1066)","v":0},{"$f":"COUNTIF(Alcance!$E1371,H$1066)","v":0},0,0.5,0]
["Metales",null,"Selenio",null,{"$f":"COUNTIF(Alcance!$E1372,E$1066)","v":0},{"$f":"COUNTIF(Alcance!$E1372,F$1066)","v":0},{"$f":"COUNTIF(Alcance!$E1372,G$1066)","v":0},{"$f":"COUNTIF(Alcance!$E1372,H$1066)","v":0},0,1,0]
["Metales",null,"Sodio",null,{"$f":"COUNTIF(Alcance!$E1373,E$1066)","v":0},{"$f":"COUNTIF(Alcance!$E1373,F$1066)","v":0},{"$f":"COUNTIF(Alcance!$E1373,G$1066)","v":0},{"$f":"COUNTIF(Alcance!$E1373,H$1066)","v":0},0,0.5,0]
["Metales",null,"Talio",null,{"$f":"COUNTIF(Alcance!$E1374,E$1066)","v":0},{"$f":"COUNTIF(Alcance!$E1374,F$1066)","v":0},{"$f":"COUNTIF(Alcance!$E1374,G$1066)","v":0},{"$f":"COUNTIF(Alcance!$E1374,H$1066)","v":0},0,0.5,0]
["Metales",null,"Titanio",null,{"$f":"COUNTIF(Alcance!$E1375,E$1066)","v":0},{"$f":"COUNTIF(Alcance!$E1375,F$1066)","v":0},{"$f":"COUNTIF(Alcance!$E1375,G$1066)","v":0},{"$f":"COUNTIF(Alcance!$E1375,H$1066)","v":0},0,0.5,0]
["Metales",null,"Vanadio",null,{"$f":"COUNTIF(Alcance!$E1376,E$1066)","v":0},{"$f":"COUNTIF(Alcance!$E1376,F$1066)","v":0},{"$f":"COUNTIF(Alcance!$E1376,G$1066)","v":0},{"$f":"COUNTIF(Alcance!$E1376,H$1066)","v":0},0,0.5,0]
["Metales",null,"Zinc",null,{"$f":"COUNTIF(Alcance!$E1377,E$1066)","v":0},{"$f":"COUNTIF(Alcance!$E1377,F$1066)","v":0},{"$f":"COUNTIF(Alcance!$E1377,G$1066)","v":0},{"$f":"COUNTIF(Alcance!$E1377,H$1066)","v":0},0,0.5,0]
["Granulometría",null,"Granulometría",null,{"$f":"COUNTIF(Alcance!$E1378,E$1066)","v":0},{"$f":"COUNTIF(Alcance!$E1378,F$1066)","v":0},{"$f":"COUNTIF(Alcance!$E1378,G$1066)","v":0},{"$f":"COUNTIF(Alcance!$E1378,H$1066)","v":0},0,1,0]
["Grasas y Aceites",null,"Grasas y Aceites",null,{"$f":"COUNTIF(Alcance!$E1379,E$1066)","v":0},{"$f":"COUNTIF(Alcance!$E1379,F$1066)","v":0},{"$f":"COUNTIF(Alcance!$E1379,G$1066)","v":0},{"$f":"COUNTIF(Alcance!$E1379,H$1066)","v":0},0,1,0]
["Hidrocarburos",null,"Hidrocarburos",null,{"$f":"COUNTIF(Alcance!$E1380,E$1066)","v":0},{"$f":"COUNTIF(Alcance!$E1380,F$1066)","v":0},{"$f":"COUNTIF(Alcance!$E1380,G$1066)","v":0},{"$f":"COUNTIF(Alcance!$E1380,H$1066)","v":0},0,1,0]
["Toma de muestra de Sedimento",null,"Toma de Muestra de Sedimento",null,{"$f":"COUNTIF(Alcance!$E1381,E$1066)","v":0},{"$f":"COUNTIF(Alcance!$E1381,F$1066)","v":0},{"$f":"COUNTIF(Alcance!$E1381,G$1066)","v":0},{"$f":"COUNTIF(Alcance!$E1381,H$1066)","v":0},0,3,0]
["Toma de muestra de Sedimento",null,"Toma de Muestra de Sedimento Marino",null,{"$f":"COUNTIF(Alcance!$E1382,E$1066)","v":0},{"$f":"COUNTIF(Alcance!$E1382,F$1066)","v":0},{"$f":"COUNTIF(Alcance!$E1382,G$1066)","v":0},{"$f":"COUNTIF(Alcance!$E1382,H$1066)","v":0},0,3,0]
["Toma de muestra de Sedimento",null,"Toma de Muestra de Sedimento en Cuerpo Lénticos",null,{"$f":"COUNTIF(Alcance!$E1383,E$1066)","v":0},{"$f":"COUNTIF(Alcance!$E1383,F$1066)","v":0},{"$f":"COUNTIF(Alcance!$E1383,G$1066)","v":0},{"$f":"COUNTIF(Alcance!$E1383,H$1066)","v":0},0,3,0]
["Toma de muestra de Sedimento",null,"Toma de Muestra de Sedimento en Cuerpo Lóticos",null,{"$f":"COUNTIF(Alcance!$E1384,E$1066)","v":0},{"$f":"COUNTIF(Alcance!$E1384,F$1066)","v":0},{"$f":"COUNTIF(Alcance!$E1384,G$1066)","v":0},{"$f":"COUNTIF(Alcance!$E1384,H$1066)","v":0},0,3,0]
["PCB Congéneres en Sedimento",null,"PCB 28",null,{"$f":"COUNTIF(Alcance!$E1385,E$1066)","v":0},{"$f":"COUNTIF(Alcance!$E1385,F$1066)","v":0},{"$f":"COUNTIF(Alcance!$E1385,G$1066)","v":0},{"$f":"COUNTIF(Alcance!$E1385,H$1066)","v":0},{"$f":"SUM(E1103:H1103)","v":0},1,{"$f":"I1103*J1103","v":0}]
["PCB Congéneres en Sedimento",null,"PCB 52",null,{"$f":"COUNTIF(Alcance!$E1386,E$1066)","v":0},{"$f":"COUNTIF(Alcance!$E1386,F$1066)","v":0},{"$f":"COUNTIF(Alcance!$E1386,G$1066)","v":0},{"$f":"COUNTIF(Alcance!$E1386,H$1066)","v":0},{"$f":"SUM(E1104:H1104)","v":0},1,{"$f":"I1104*J1104","v":0}]
["PCB Congéneres en Sedimento",null,"PCB 101",null,{"$f":"COUNTIF(Alcance!$E1387,E$1066)","v":0},{"$f":"COUNTIF(Alcance!$E1387,F$1066)","v":0},{"$f":"COUNTIF(Alcance!$E1387,G$1066)","v":0},{"$f":"COUNTIF(Alcance!$E1387,H$1066)","v":0},0,1,0]
["PCB Congéneres en Sedimento",null,"PCB 118",null,{"$f":"COUNTIF(Alcance!$E1388,E$1066)","v":0},{"$f":"COUNTIF(Alcance!$E1388,F$1066)","v":0},{"$f":"COUNTIF(Alcance!$E1388,G$1066)","v":0},{"$f":"COUNTIF(Alcance!$E1388,H$1066)","v":0},0,1,0]
["PCB Congéneres en Sedimento",null,"PCB 138",null,{"$f":"COUNTIF(Alcance!$E1389,E$1066)","v":0},{"$f":"COUNTIF(Alcance!$E1389,F$1066)","v":0},{"$f":"COUNTIF(Alcance!$E1389,G$1066)","v":0},{"$f":"COUNTIF(Alcance!$E1389,H$1066)","v":0},0,1,0]
["PCB Congéneres en Sedimento",null,"PCB 153",null,{"$f":"COUNTIF(Alcance!$E1390,E$1066)","v":0},{"$f":"COUNTIF(Alcance!$E1390,F$1066)","v":0},{"$f":"COUNTIF(Alcance!$E1390,G$1066)","v":0},{"$f":"COUNTIF(Alcance!$E1390,H$1066)","v":0},0,1,0]
["PCB Congéneres en Sedimento",null,"PCB 180",null,{"$f":"COUNTIF(Alcance!$E1391,E$1066)","v":0},{"$f":"COUNTIF(Alcance!$E1391,F$1066)","v":0},{"$f":"COUNTIF(Alcance!$E1391,G$1066)","v":0},{"$f":"COUNTIF(Alcance!$E1391,H$1066)","v":0},0,1,0]
["Otras variables en Sedimentos",null,"Especificado por el usuario",null,{"$f":"COUNTIF(Alcance!$E$1392:$F$1404,E$1066)","v":0},{"$f":"COUNTIF(Alcance!$E$1392:$F$1404,F$1066)","v":0},{"$f":"COUNTIF(Alcance!$E$1392:$F$1404,G$1066)","v":0},{"$f":"COUNTIF(Alcance!$E$1392:$F$1404,H$1066)","v":0},{"$f":"SUM(E1110:H1110)","v":0},1,0,"Total de parametros",{"$f":"SUM(K1067:K1110)","v":0}]
["TOTALES",null,null,null,{"$f":"SUM(E1067:E1110)","v":0},{"$f":"SUM(F1067:F1110)","v":0},{"$f":"SUM(G1067:G1110)","v":0},{"$f":"SUM(H1067:H1110)","v":0},{"$f":"SUM(I1067:I1110)","v":0}]
[]
["MATRIZ SEDIMENTO MARINOS"]
["18. Matriz / Grupo",null,"19. Variable",null,"INICIAL","SEGUIMIENTO","RENOVACIÓN","EXTENSIÓN","Total Variables","Equivalencia en Parámetros","Parámetros Calculados"]
["Metales",null,"Aluminio",null,{"$f":"COUNTIF(Alcance!$E1409,E$1114)","v":0},{"$f":"COUNTIF(Alcance!$E1409,F$1114)","v":0},{"$f":"COUNTIF(Alcance!$E1409,G$1114)","v":0},{"$f":"COUNTIF(Alcance!$E1409,H$1114)","v":0},{"$f":"SUM(E1115:H1115)","v":0},0.5,{"$f":"I1115*J1115","v":0}]
["Metales",null,"Antimonio",null,{"$f":"COUNTIF(Alcance!$E1410,E$1114)","v":0},{"$f":"COUNTIF(Alcance!$E1410,F$1114)","v":0},{"$f":"COUNTIF(Alcance!$E1410,G$1114)","v":0},{"$f":"COUNTIF(Alcance!$E1410,H$1114)","v":0},{"$f":"COUNTIF(Alcance!$E1410,I$1114)","v":0},0.5,0]
["Metales",null,"Arsénico",null,{"$f":"COUNTIF(Alcance!$E1411,E$1114)","v":0},{"$f":"COUNTIF(Alcance!$E1411,F$1114)","v":0},{"$f":"COUNTIF(Alcance!$E1411,G$1114)","v":0},{"$f":"COUNTIF(Alcance!$E1411,H$1114)","v":0},0,1,0]
["Metales",null,"Bario",null,{"$f":"COUNTIF(Alcance!$E1412,E$1114)","v":0},{"$f":"COUNTIF(Alcance!$E1412,F$1114)","v":0},{"$f":"COUNTIF(Alcance!$E1412,G$1114)","v":0},{"$f":"COUNTIF(Alcance!$E1412,H$1114)","v":0},0,0.5,0]
["Metales",null,"Berilio",null,{"$f":"COUNTIF(Alcance!$E1413,E$1114)","v":0},{"$f":"COUNTIF(Alcance!$E1413,F$1114)","v":0},{"$f":"COUNTIF(Alcance!$E1413,G$1114)","v":0},{"$f":"COUNTIF(Alcance!$E1413,H$1114)","v":0},0,0.5,0]
["Metales",null,"Boro",null,{"$f":"COUNTIF(Alcance!$E1414,E$1114)","v":0},{"$f":"COUNTIF(Alcance!$E1414,F$1114)","v":0},{"$f":"COUNTIF(Alcance!$E1414,G$1114)","v":0},{"$f":"COUNTIF(Alcance!$E1414,H$1114)","v":0},0,0.5,0]
["Metales",null,"Cadmio",null,{"$f":"COUNTIF(Alcance!$E1415,E$1114)","v":0},{"$f":"COUNTIF(Alcance!$E1415,F$1114)","v":0},{"$f":"COUNTIF(Alcance!$E1415,G$1114)","v":0},{"$f":"COUNTIF(Alcance!$E1415,H$1114)","v":0},0,0.5,0]
["Metales",null,"Calcio",null,{"$f":"COUNTIF(Alcance!$E1416,E$1114)","v":0},{"$f":"COUNTIF(Alcance!$E1416,F$1114)","v":0},{"$f":"COUNTIF(Alcance!$E1416,G$1114)","v":0},{"$f":"COUNTIF(Alcance!$E1416,H$1114)","v":0},0,0.5,0]
["Metales",null,"Cobalto",null,{"$f":"COUNTIF(Alcance!$E1417,E$1114)","v":0},{"$f":"COUNTIF(Alcance!$E1417,F$1114)","v":0},{"$f":"COUNTIF(Alcance!$E1417,G$1114)","v":0},{"$f":"COUNTIF(Alcance!$E1417,H$1114)","v":0},0,0.5,0]
["Metales",null,"Cobre",null,{"$f":"COUNTIF(Alcance!$E1418,E$1114)","v":0},{"$f":"COUNTIF(Alcance!$E1418,F$1114)","v":0},{"$f":"COUNTIF(Alcance!$E1418,G$1114)","v":0},{"$f":"COUNTIF(Alcance!$E1418,H$1114)","v":0},0,0.5,0]
["Metales",null,"Cromo",null,{"$f":"COUNTIF(Alcance!$E1419,E$1114)","v":0},{"$f":"COUNTIF(Alcance!$E1419,F$1114)","v":0},{"$f":"COUNTIF(Alcance!$E1419,G$1114)","v":0},{"$f":"COUNTIF(Alcance!$E1419,H$1114)","v":0},0,0.5,0]
["Metales",null,"Litio",null,{"$f":"COUNTIF(Alcance!$E1420,E$1114)","v":0},{"$f":"COUNTIF(Alcance!$E1420,F$1114)","v":0},{"$f":"COUNTIF(Alcance!$E1420,G$1114)","v":0},{"$f":"COUNTIF(Alcance!$E1420,H$1114)","v":0},0,0.5,0]
["Metales",null,"Estaño",null,{"$f":"COUNTIF(Alcance!$E1421,E$1114)","v":0},{"$f":"COUNTIF(Alcance!$E1421,F$1114)","v":0},{"$f":"COUNTIF(Alcance!$E1421,G$1114)","v":0},{"$f":"COUNTIF(Alcance!$E1421,H$1114)","v":0},0,0.5,0]
["Metales",null,"Estroncio",null,{"$f":"COUNTIF(Alcance!$E1422,E$1114)","v":0},{"$f":"COUNTIF(Alcance!$E1422,F$1114)","v":0},{"$f":"COUNTIF(Alcance!$E1422,G$1114)","v":0},{"$f":"COUNTIF(Alcance!$E1422,H$1114)","v":0},0,0.5,0]
["Metales",null,"Hierro",null,{"$f":"COUNTIF(Alcance!$E1423,E$1114)","v":0},{"$f":"COUNTIF(Alcance!$E1423,F$1114)","v":0},{"$f":"COUNTIF(Alcance!$E1423,G$1114)","v":0},{"$f":"COUNTIF(Alcance!$E1423,H$1114)","v":0},0,0.5,0]
["Metales",null,"Magnesio",null,{"$f":"COUNTIF(Alcance!$E1424,E$1114)","v":0},{"$f":"COUNTIF(Alcance!$E1424,F$1114)","v":0},{"$f":"COUNTIF(Alcance!$E1424,G$1114)","v":0},{"$f":"COUNTIF(Alcance!$E1424,H$1114)","v":0},0,0.5,0]
["Metales",null,"Manganeso",null,{"$f":"COUNTIF(Alcance!$E1425,E$1114)","v":0},{"$f":"COUNTIF(Alcance!$E1425,F$1114)","v":0},{"$f":"COUNTIF(Alcance!$E1425,G$1114)","v":0},{"$f":"COUNTIF(Alcance!$E1425,H$1114)","v":0},0,0.5,0]
["Metales",null,"Mercurio",null,{"$f":"COUNTIF(Alcance!$E1426,E$1114)","v":0},{"$f":"COUNTIF(Alcance!$E1426,F$1114)","v":0},{"$f":"COUNTIF(Alcance!$E1426,G$1114)","v":0},{"$f":"COUNTIF(Alcance!$E1426,H$1114)","v":0},0,1,0]
["Metales",null,"Molibdeno",null,{"$f":"COUNTIF(Alcance!$E1427,E$1114)","v":0},{"$f":"COUNTIF(Alcance!$E1427,F$1114)","v":0},{"$f":"COUNTIF(Alcance!$E1427,G$1114)","v":0},{"$f":"COUNTIF(Alcance!$E1427,H$1114)","v":0},0,0.5,0]
["Metales",null,"Níquel",null,{"$f":"COUNTIF(Alcance!$E1428,E$1114)","v":0},{"$f":"COUNTIF(Alcance!$E1428,F$1114)","v":0},{"$f":"COUNTIF(Alcance!$E1428,G$1114)","v":0},{"$f":"COUNTIF(Alcance!$E1428,H$1114)","v":0},0,0.5,0]
["Metales",null,"Plata",null,{"$f":"COUNTIF(Alcance!$E1429,E$1114)","v":0},{"$f":"COUNTIF(Alcance!$E1429,F$1114)","v":0},{"$f":"COUNTIF(Alcance!$E1429,G$1114)","v":0},{"$f":"COUNTIF(Alcance!$E1429,H$1114)","v":0},0,0.5,0]
["Metales",null,"Plomo",null,{"$f":"COUNTIF(Alcance!$E1430,E$1114)","v":0},{"$f":"COUNTIF(Alcance!$E1430,F$1114)","v":0},{"$f":"COUNTIF(Alcance!$E1430,G$1114)","v":0},{"$f":"COUNTIF(Alcance!$E1430,H$1114)","v":0},0,0.5,0]
["Metales",null,"Potasio",null,{"$f":"COUNTIF(Alcance!$E1431,E$1114)","v":0},{"$f":"COUNTIF(Alcance!$E1431,F$1114)","v":0},{"$f":"COUNTIF(Alcance!$E1431,G$1114)","v":0},{"$f":"COUNTIF(Alcance!$E1431,H$1114)","v":0},0,0.5,0]
["Metales",null,"Selenio",null,{"$f":"COUNTIF(Alcance!$E1432,E$1114)","v":0},{"$f":"COUNTIF(Alcance!$E1432,F$1114)","v":0},{"$f":"COUNTIF(Alcance!$E1432,G$1114)","v":0},{"$f":"COUNTIF(Alcance!$E1432,H$1114)","v":0},0,1,0]
["Metales",null,"Sodio",null,{"$f":"COUNTIF(Alcance!$E1433,E$1114)","v":0},{"$f":"COUNTIF(Alcance!$E1433,F$1114)","v":0},{"$f":"COUNTIF(Alcance!$E1433,G$1114)","v":0},{"$f":"COUNTIF(Alcance!$E1433,H$1114)","v":0},0,0.5,0]
["Metales",null,"Talio",null,{"$f":"COUNTIF(Alcance!$E1434,E$1114)","v":0},{"$f":"COUNTIF(Alcance!$E1434,F$1114)","v":0},{"$f":"COUNTIF(Alcance!$E1434,G$1114)","v":0},{"$f":"COUNTIF(Alcance!$E1434,H$1114)","v":0},0,0.5,0]
["Metales",null,"Titanio",null,{"$f":"COUNTIF(Alcance!$E1435,E$1114)","v":0},{"$f":"COUNTIF(Alcance!$E1435,F$1114)","v":0},{"$f":"COUNTIF(Alcance!$E1435,G$1114)","v":0},{"$f":"COUNTIF(Alcance!$E1435,H$1114)","v":0},0,0.5,0]
["Metales",null,"Vanadio",null,{"$f":"COUNTIF(Alcance!$E1436,E$1114)","v":0},{"$f":"COUNTIF(Alcance!$E1436,F$1114)","v":0},{"$f":"COUNTIF(Alcance!$E1436,G$1114)","v":0},{"$f":"COUNTIF(Alcance!$E1436,H$1114)","v":0},0,0.5,0]
["Metales",null,"Zinc",null,{"$f":"COUNTIF(Alcance!$E1437,E$1114)","v":0},{"$f":"COUNTIF(Alcance!$E1437,F$1114)","v":0},{"$f":"COUNTIF(Alcance!$E1437,G$1114)","v":0},{"$f":"COUNTIF(Alcance!$E1437,H$1114)","v":0},0,0.5,0]
["Granulometría",null,"Granulometría",null,{"$f":"COUNTIF(Alcance!$E1438,E$1114)","v":0},{"$f":"COUNTIF(Alcance!$E1438,F$1114)","v":0},{"$f":"COUNTIF(Alcance!$E1438,G$1114)","v":0},{"$f":"COUNTIF(Alcance!$E1438,H$1114)","v":0},0,1,0]
["Grasas y Aceites",null,"Grasas y Aceites",null,{"$f":"COUNTIF(Alcance!$E1439,E$1114)","v":0},{"$f":"COUNTIF(Alcance!$E1439,F$1114)","v":0},{"$f":"COUNTIF(Alcance!$E1439,G$1114)","v":0},{"$f":"COUNTIF(Alcance!$E1439,H$1114)","v":0},0,1,0]
["Hidrocarburos",null,"Hidrocarburos",null,{"$f":"COUNTIF(Alcance!$E1440,E$1114)","v":0},{"$f":"COUNTIF(Alcance!$E1440,F$1114)","v":0},{"$f":"COUNTIF(Alcance!$E1440,G$1114)","v":0},{"$f":"COUNTIF(Alcance!$E1440,H$1114)","v":0},0,1,0]
["Toma de muestra de Sedimento",null,"Toma de Muestra de Sedimento",null,{"$f":"COUNTIF(Alcance!$E1441,E$1114)","v":0},{"$f":"COUNTIF(Alcance!$E1441,F$1114)","v":0},{"$f":"COUNTIF(Alcance!$E1441,G$1114)","v":0},{"$f":"COUNTIF(Alcance!$E1441,H$1114)","v":0},0,3,0]
["Toma de muestra de Sedimento",null,"Toma de Muestra de Sedimento Marino",null,{"$f":"COUNTIF(Alcance!$E1442,E$1114)","v":0},{"$f":"COUNTIF(Alcance!$E1442,F$1114)","v":0},{"$f":"COUNTIF(Alcance!$E1442,G$1114)","v":0},{"$f":"COUNTIF(Alcance!$E1442,H$1114)","v":0},0,3,0]
["Toma de muestra de Sedimento",null,"Toma de Muestra de Sedimento en Cuerpo Lénticos",null,{"$f":"COUNTIF(Alcance!$E1443,E$1114)","v":0},{"$f":"COUNTIF(Alcance!$E1443,F$1114)","v":0},{"$f":"COUNTIF(Alcance!$E1443,G$1114)","v":0},{"$f":"COUNTIF(Alcance!$E1443,H$1114)","v":0},0,3,0]
["Toma de muestra de Sedimento",null,"Toma de Muestra de Sedimento en Cuerpo Lóticos",null,{"$f":"COUNTIF(Alcance!$E1444,E$1114)","v":0},{"$f":"COUNTIF(Alcance!$E1444,F$1114)","v":0},{"$f":"COUNTIF(Alcance!$E1444,G$1114)","v":0},{"$f":"COUNTIF(Alcance!$E1444,H$1114)","v":0},0,3,0]
["Otras variables en Sedimentos",null,"Especificado por el usuario",null,{"$f":"COUNTIF(Alcance!$E$1445:$F$1464,E$1066)","v":0},{"$f":"COUNTIF(Alcance!$E$1445:$F$1464,F$1066)","v":0},{"$f":"COUNTIF(Alcance!$E$1445:$F$1464,G$1066)","v":0},{"$f":"COUNTIF(Alcance!$E$1445:$F$1464,H$1066)","v":0},{"$f":"COUNTIF(Alcance!$E$1445:$F$1464,I$1066)","v":0},1,{"$f":"I1151*J1151","v":0},"Total de parametros",{"$f":"SUM(K1115:K1151)","v":0}]
["TOTALES",null,null,null,{"$f":"SUM(E1115:E1151)","v":0},{"$f":"SUM(F1115:F1151)","v":0},{"$f":"SUM(G1115:G1151)","v":0},{"$f":"SUM(H1115:H1151)","v":0},{"$f":"SUM(I1115:I1151)","v":0}]
[]
["MATRIZ BIOSÓLIDOS"]
["18. Matriz / Grupo",null,"19. Variable",null,"INICIAL","SEGUIMIENTO","RENOVACIÓN","EXTENSIÓN","Total Variables","Equivalencia en Parámetros","Parámetros Calculados"]
["Microbiológico",null,"Microbiológico",null,{"$f":"COUNTIF(Alcance!$E1469,E$1155)","v":0},{"$f":"COUNTIF(Alcance!$E1469,F$1155)","v":0},{"$f":"COUNTIF(Alcance!$E1469,G$1155)","v":0},{"$f":"COUNTIF(Alcance!$E1469,H$1155)","v":0},{"$f":"SUM(E1156:H1156)","v":0},1.8,{"$f":"I1156*J1156","v":0}]
["Microbiológico",null,"Microbiológico",null,{"$f":"COUNTIF(Alcance!$E1470,E$1155)","v":0},{"$f":"COUNTIF(Alcance!$E1470,F$1155)","v":0},{"$f":"COUNTIF(Alcance!$E1470,G$1155)","v":0},{"$f":"COUNTIF(Alcance!$E1470,H$1155)","v":0},0,1.8,0]
["Microbiológico",null,"Microbiológico",null,{"$f":"COUNTIF(Alcance!$E1471,E$1155)","v":0},{"$f":"COUNTIF(Alcance!$E1471,F$1155)","v":0},{"$f":"COUNTIF(Alcance!$E1471,G$1155)","v":0},{"$f":"COUNTIF(Alcance!$E1471,H$1155)","v":0},0,1.8,0]
["Microbiológico",null,"Microbiológico",null,{"$f":"COUNTIF(Alcance!$E1472,E$1155)","v":0},{"$f":"COUNTIF(Alcance!$E1472,F$1155)","v":0},{"$f":"COUNTIF(Alcance!$E1472,G$1155)","v":0},{"$f":"COUNTIF(Alcance!$E1472,H$1155)","v":0},0,1.8,0]
["Microbiológico",null,"Microbiológico",null,{"$f":"COUNTIF(Alcance!$E1473,E$1155)","v":0},{"$f":"COUNTIF(Alcance!$E1473,F$1155)","v":0},{"$f":"COUNTIF(Alcance!$E1473,G$1155)","v":0},{"$f":"COUNTIF(Alcance!$E1473,H$1155)","v":0},0,1.8,0]
["Otras variables en Biosólido",null,"Otras variables en Biosólido",null,{"$f":"COUNTIF(Alcance!$E$1474:$F$1482,E$1155)","v":0},{"$f":"COUNTIF(Alcance!$E$1474:$F$1482,F$1155)","v":0},{"$f":"COUNTIF(Alcance!$E$1474:$F$1482,G$1155)","v":0},{"$f":"COUNTIF(Alcance!$E$1474:$F$1482,H$1155)","v":0},0,1,{"$f":"I1161*J1161","v":0},"Total de parametros",{"$f":"SUM(K1156:K1161)","v":0}]
["TOTALES",null,null,null,{"$f":"SUM(E1156:E1161)","v":0},{"$f":"SUM(F1156:F1161)","v":0},{"$f":"SUM(G1156:G1161)","v":0},{"$f":"SUM(H1156:H1161)","v":0},{"$f":"SUM(I1156:I1161)","v":0}]
[]
["MATRIZ AIRE - EMISIONES GENERADAS POR FUENTES FIJAS"]
["18. Matriz / Grupo",null,"19. Variable",null,"INICIAL - ANÁLISIS DE LABORATORIO","INICIAL - TOMA DE MUESTRA","INICIAL - TOMA DE MUESTRA Y ANÁLISIS","SEGUIMIENTO - ANÁLISIS DE LABORATORIO","SEGUIMIENTO - TOMA DE MUESTRA","SEGUIMIENTO - TOMA DE MUESTRA Y ANÁLISIS","RENOVACIÓN - ANÁLISIS DE LABORATORIO","RENOVACIÓN - TOMA DE MUESTRA","RENOVACIÓN - TOMA DE MUESTRA Y ANÁLISIS","EXTENSIÓN - ANÁLISIS DE LABORATORIO","EXTENSIÓN - TOMA DE MUESTRA","EXTENSIÓN - TOMA DE MUESTRA Y ANÁLISIS","Total Variables","Equivalencia en Parámetros","Equivalencia solo análisis","Equivalencia toma de muestra y análisis","Parámetros Calculados"]
["Fuentes Fijas",null,"Punto y velocidad de toma de muestra (USEPA 1)",null,{"$f":"COUNTIF(Alcance!$E1487,E$1165)","v":0},{"$f":"COUNTIF(Alcance!$E1487,F$1165)","v":0},{"$f":"COUNTIF(Alcance!$E1487,G$1165)","v":0},{"$f":"COUNTIF(Alcance!$E1487,H$1165)","v":0},{"$f":"COUNTIF(Alcance!$E1487,I$1165)","v":0},{"$f":"COUNTIF(Alcance!$E1487,J$1165)","v":0},{"$f":"COUNTIF(Alcance!$E1487,K$1165)","v":0},{"$f":"COUNTIF(Alcance!$E1487,L$1165)","v":0},{"$f":"COUNTIF(Alcance!$E1487,M$1165)","v":0},{"$f":"COUNTIF(Alcance!$E1487,N$1165)","v":0},{"$f":"COUNTIF(Alcance!$E1487,O$1165)","v":0},{"$f":"COUNTIF(Alcance!$E1487,P$1165)","v":0},{"$f":"SUM(E1166:P1166)","v":0},5,null,null,{"$f":"IF(Q1166>0,R1166,IF(Q1167>0,R1166,IF(Q1168>0,R1166,IF(Q1169>0,R1166,IF(Q1170>0,R1166,IF(Q1171>0,R1166,IF(Q1172>0,R1166,(IF(Q1173>0,R1166,IF(Q1174>0,R1166,0))))))))))","v":0}]
["Fuentes Fijas",null,"Punto y velocidad de toma de muestra para fuentes fijas con ductos o chimeneas pequeñas (USEPA 1A)",null,{"$f":"COUNTIF(Alcance!$E1488,E$1165)","v":0},{"$f":"COUNTIF(Alcance!$E1488,F$1165)","v":0},{"$f":"COUNTIF(Alcance!$E1488,G$1165)","v":0},{"$f":"COUNTIF(Alcance!$E1488,H$1165)","v":0},{"$f":"COUNTIF(Alcance!$E1488,I$1165)","v":0},{"$f":"COUNTIF(Alcance!$E1488,J$1165)","v":0},{"$f":"COUNTIF(Alcance!$E1488,K$1165)","v":0},{"$f":"COUNTIF(Alcance!$E1488,L$1165)","v":0},{"$f":"COUNTIF(Alcance!$E1488,M$1165)","v":0},{"$f":"COUNTIF(Alcance!$E1488,N$1165)","v":0},{"$f":"COUNTIF(Alcance!$E1488,O$1165)","v":0},{"$f":"COUNTIF(Alcance!$E1488,P$1165)","v":0},{"$f":"SUM(E1167:P1167)","v":0}]
["Fuentes Fijas",null,"Velocidad y tasa de flujo volumétrica de gases en chimenea (Tubo Pitot tipo S) (USEPA 2)",null,{"$f":"COUNTIF(Alcance!$E1489,E$1165)","v":0},{"$f":"COUNTIF(Alcance!$E1489,F$1165)","v":0},{"$f":"COUNTIF(Alcance!$E1489,G$1165)","v":0},{"$f":"COUNTIF(Alcance!$E1489,H$1165)","v":0},{"$f":"COUNTIF(Alcance!$E1489,I$1165)","v":0},{"$f":"COUNTIF(Alcance!$E1489,J$1165)","v":0},{"$f":"COUNTIF(Alcance!$E1489,K$1165)","v":0},{"$f":"COUNTIF(Alcance!$E1489,L$1165)","v":0},{"$f":"COUNTIF(Alcance!$E1489,M$1165)","v":0},{"$f":"COUNTIF(Alcance!$E1489,N$1165)","v":0},{"$f":"COUNTIF(Alcance!$E1489,O$1165)","v":0},{"$f":"COUNTIF(Alcance!$E1489,P$1165)","v":0},{"$f":"SUM(E1168:P1168)","v":0}]
["Fuentes Fijas",null,"Velocidad y tasa de flujo volumétrica del gas en ductos o chimeneas pequeñas (Tubo Pitot estándar) (USEPA 2C)",null,{"$f":"COUNTIF(Alcance!$E1490,E$1165)","v":0},{"$f":"COUNTIF(Alcance!$E1490,F$1165)","v":0},{"$f":"COUNTIF(Alcance!$E1490,G$1165)","v":0},{"$f":"COUNTIF(Alcance!$E1490,H$1165)","v":0},{"$f":"COUNTIF(Alcance!$E1490,I$1165)","v":0},{"$f":"COUNTIF(Alcance!$E1490,J$1165)","v":0},{"$f":"COUNTIF(Alcance!$E1490,K$1165)","v":0},{"$f":"COUNTIF(Alcance!$E1490,L$1165)","v":0},{"$f":"COUNTIF(Alcance!$E1490,M$1165)","v":0},{"$f":"COUNTIF(Alcance!$E1490,N$1165)","v":0},{"$f":"COUNTIF(Alcance!$E1490,O$1165)","v":0},{"$f":"COUNTIF(Alcance!$E1490,P$1165)","v":0},0]
["Fuentes Fijas",null,"Análisis de gases para la determinación del peso molecular base seca (USEPA 3)",null,{"$f":"COUNTIF(Alcance!$E1491,E$1165)","v":0},{"$f":"COUNTIF(Alcance!$E1491,F$1165)","v":0},{"$f":"COUNTIF(Alcance!$E1491,G$1165)","v":0},{"$f":"COUNTIF(Alcance!$E1491,H$1165)","v":0},{"$f":"COUNTIF(Alcance!$E1491,I$1165)","v":0},{"$f":"COUNTIF(Alcance!$E1491,J$1165)","v":0},{"$f":"COUNTIF(Alcance!$E1491,K$1165)","v":0},{"$f":"COUNTIF(Alcance!$E1491,L$1165)","v":0},{"$f":"COUNTIF(Alcance!$E1491,M$1165)","v":0},{"$f":"COUNTIF(Alcance!$E1491,N$1165)","v":0},{"$f":"COUNTIF(Alcance!$E1491,O$1165)","v":0},{"$f":"COUNTIF(Alcance!$E1491,P$1165)","v":0},0]
["Fuentes Fijas",null,"Concentraciones de oxígeno en emisiones de fuentes fijas (Procedimiento del analizador instrumental) (USEPA 3A)",null,{"$f":"COUNTIF(Alcance!$E1492,E$1165)","v":0},{"$f":"COUNTIF(Alcance!$E1492,F$1165)","v":0},{"$f":"COUNTIF(Alcance!$E1492,G$1165)","v":0},{"$f":"COUNTIF(Alcance!$E1492,H$1165)","v":0},{"$f":"COUNTIF(Alcance!$E1492,I$1165)","v":0},{"$f":"COUNTIF(Alcance!$E1492,J$1165)","v":0},{"$f":"COUNTIF(Alcance!$E1492,K$1165)","v":0},{"$f":"COUNTIF(Alcance!$E1492,L$1165)","v":0},{"$f":"COUNTIF(Alcance!$E1492,M$1165)","v":0},{"$f":"COUNTIF(Alcance!$E1492,N$1165)","v":0},{"$f":"COUNTIF(Alcance!$E1492,O$1165)","v":0},{"$f":"COUNTIF(Alcance!$E1492,P$1165)","v":0},0]
["Fuentes Fijas",null,"Concentraciones de dióxido de carbono en emisiones de fuentes fijas (Procedimiento del analizador instrumental) (USEPA 3A)",null,{"$f":"COUNTIF(Alcance!$E1493,E$1165)","v":0},{"$f":"COUNTIF(Alcance!$E1493,F$1165)","v":0},{"$f":"COUNTIF(Alcance!$E1493,G$1165)","v":0},{"$f":"COUNTIF(Alcance!$E1493,H$1165)","v":0},{"$f":"COUNTIF(Alcance!$E1493,I$1165)","v":0},{"$f":"COUNTIF(Alcance!$E1493,J$1165)","v":0},{"$f":"COUNTIF(Alcance!$E1493,K$1165)","v":0},{"$f":"COUNTIF(Alcance!$E1493,L$1165)","v":0},{"$f":"COUNTIF(Alcance!$E1493,M$1165)","v":0},{"$f":"COUNTIF(Alcance!$E1493,N$1165)","v":0},{"$f":"COUNTIF(Alcance!$E1493,O$1165)","v":0},{"$f":"COUNTIF(Alcance!$E1493,P$1165)","v":0},0]
["Fuentes Fijas",null,"Análisis de gases para la determinación del factor de corrección de tasa de emisión o exceso de aire (USEPA 3B)",null,{"$f":"COUNTIF(Alcance!$E1494,E$1165)","v":0},{"$f":"COUNTIF(Alcance!$E1494,F$1165)","v":0},{"$f":"COUNTIF(Alcance!$E1494,G$1165)","v":0},{"$f":"COUNTIF(Alcance!$E1494,H$1165)","v":0},{"$f":"COUNTIF(Alcance!$E1494,I$1165)","v":0},{"$f":"COUNTIF(Alcance!$E1494,J$1165)","v":0},{"$f":"COUNTIF(Alcance!$E1494,K$1165)","v":0},{"$f":"COUNTIF(Alcance!$E1494,L$1165)","v":0},{"$f":"COUNTIF(Alcance!$E1494,M$1165)","v":0},{"$f":"COUNTIF(Alcance!$E1494,N$1165)","v":0},{"$f":"COUNTIF(Alcance!$E1494,O$1165)","v":0},{"$f":"COUNTIF(Alcance!$E1494,P$1165)","v":0},0]
["Fuentes Fijas",null,"Contenido de humedad en gases de chimenea (USEPA 4)",null,{"$f":"COUNTIF(Alcance!$E1495,E$1165)","v":0},{"$f":"COUNTIF(Alcance!$E1495,F$1165)","v":0},{"$f":"COUNTIF(Alcance!$E1495,G$1165)","v":0},{"$f":"COUNTIF(Alcance!$E1495,H$1165)","v":0},{"$f":"COUNTIF(Alcance!$E1495,I$1165)","v":0},{"$f":"COUNTIF(Alcance!$E1495,J$1165)","v":0},{"$f":"COUNTIF(Alcance!$E1495,K$1165)","v":0},{"$f":"COUNTIF(Alcance!$E1495,L$1165)","v":0},{"$f":"COUNTIF(Alcance!$E1495,M$1165)","v":0},{"$f":"COUNTIF(Alcance!$E1495,N$1165)","v":0},{"$f":"COUNTIF(Alcance!$E1495,O$1165)","v":0},{"$f":"COUNTIF(Alcance!$E1495,P$1165)","v":0},{"$f":"SUM(E1174:P1174)","v":0}]
["Fuentes Fijas",null,"Material Particulado (USEPA 5)",null,{"$f":"COUNTIF(Alcance!$E1496,E$1165)","v":0},{"$f":"COUNTIF(Alcance!$E1496,F$1165)","v":0},{"$f":"COUNTIF(Alcance!$E1496,G$1165)","v":0},{"$f":"COUNTIF(Alcance!$E1496,H$1165)","v":0},{"$f":"COUNTIF(Alcance!$E1496,I$1165)","v":0},{"$f":"COUNTIF(Alcance!$E1496,J$1165)","v":0},{"$f":"COUNTIF(Alcance!$E1496,K$1165)","v":0},{"$f":"COUNTIF(Alcance!$E1496,L$1165)","v":0},{"$f":"COUNTIF(Alcance!$E1496,M$1165)","v":0},{"$f":"COUNTIF(Alcance!$E1496,N$1165)","v":0},{"$f":"COUNTIF(Alcance!$E1496,O$1165)","v":0},{"$f":"COUNTIF(Alcance!$E1496,P$1165)","v":0},0,1.25,1,{"$f":"R1175+S1175","v":2.25},{"$f":"IF(F1175>0,R1175,IF(I1175>0,R1175,IF(L1175>0,R1175,IF(O1175>0,R1175,IF(E1175>0,S1175,IF(H1175>0,S1175,IF(K1175>0,S1175,IF(N1175>0,S1175,IF(G1175>0,T1175,IF(J1175>0,T1175,IF(M1175>0,T1175,IF(P1175>0,T1175,0))))))))))))","v":0}]
["Fuentes Fijas",null,"Material Particulado en la industria de Procesamiento de asfalto y manto asfáltico (USEPA 5A)",null,{"$f":"COUNTIF(Alcance!$E1497,E$1165)","v":0},{"$f":"COUNTIF(Alcance!$E1497,F$1165)","v":0},{"$f":"COUNTIF(Alcance!$E1497,G$1165)","v":0},{"$f":"COUNTIF(Alcance!$E1497,H$1165)","v":0},{"$f":"COUNTIF(Alcance!$E1497,I$1165)","v":0},{"$f":"COUNTIF(Alcance!$E1497,J$1165)","v":0},{"$f":"COUNTIF(Alcance!$E1497,K$1165)","v":0},{"$f":"COUNTIF(Alcance!$E1497,L$1165)","v":0},{"$f":"COUNTIF(Alcance!$E1497,M$1165)","v":0},{"$f":"COUNTIF(Alcance!$E1497,N$1165)","v":0},{"$f":"COUNTIF(Alcance!$E1497,O$1165)","v":0},{"$f":"COUNTIF(Alcance!$E1497,P$1165)","v":0},0,1.25,1,{"$f":"R1176+S1176","v":2.25},0]
["Fuentes Fijas",null,"Material Particulado diferente al ácido sulfúrico (USEPA 5B)",null,{"$f":"COUNTIF(Alcance!$E1498,E$1165)","v":0},{"$f":"COUNTIF(Alcance!$E1498,F$1165)","v":0},{"$f":"COUNTIF(Alcance!$E1498,G$1165)","v":0},{"$f":"COUNTIF(Alcance!$E1498,H$1165)","v":0},{"$f":"COUNTIF(Alcance!$E1498,I$1165)","v":0},{"$f":"COUNTIF(Alcance!$E1498,J$1165)","v":0},{"$f":"COUNTIF(Alcance!$E1498,K$1165)","v":0},{"$f":"COUNTIF(Alcance!$E1498,L$1165)","v":0},{"$f":"COUNTIF(Alcance!$E1498,M$1165)","v":0},{"$f":"COUNTIF(Alcance!$E1498,N$1165)","v":0},{"$f":"COUNTIF(Alcance!$E1498,O$1165)","v":0},{"$f":"COUNTIF(Alcance!$E1498,P$1165)","v":0},0,1.25,1,2.25,0]
["Fuentes Fijas",null,"Material Particulado en filtros de manga que operan a presión positiva (USEPA 5D)",null,{"$f":"COUNTIF(Alcance!$E1499,E$1165)","v":0},{"$f":"COUNTIF(Alcance!$E1499,F$1165)","v":0},{"$f":"COUNTIF(Alcance!$E1499,G$1165)","v":0},{"$f":"COUNTIF(Alcance!$E1499,H$1165)","v":0},{"$f":"COUNTIF(Alcance!$E1499,I$1165)","v":0},{"$f":"COUNTIF(Alcance!$E1499,J$1165)","v":0},{"$f":"COUNTIF(Alcance!$E1499,K$1165)","v":0},{"$f":"COUNTIF(Alcance!$E1499,L$1165)","v":0},{"$f":"COUNTIF(Alcance!$E1499,M$1165)","v":0},{"$f":"COUNTIF(Alcance!$E1499,N$1165)","v":0},{"$f":"COUNTIF(Alcance!$E1499,O$1165)","v":0},{"$f":"COUNTIF(Alcance!$E1499,P$1165)","v":0},0,1.25,1,2.25,0]
["Fuentes Fijas",null,"Material Particulado en industrias de manufactura de fibra de lana de vidrio aislante (USEPA 5E)",null,{"$f":"COUNTIF(Alcance!$E1500,E$1165)","v":0},{"$f":"COUNTIF(Alcance!$E1500,F$1165)","v":0},{"$f":"COUNTIF(Alcance!$E1500,G$1165)","v":0},{"$f":"COUNTIF(Alcance!$E1500,H$1165)","v":0},{"$f":"COUNTIF(Alcance!$E1500,I$1165)","v":0},{"$f":"COUNTIF(Alcance!$E1500,J$1165)","v":0},{"$f":"COUNTIF(Alcance!$E1500,K$1165)","v":0},{"$f":"COUNTIF(Alcance!$E1500,L$1165)","v":0},{"$f":"COUNTIF(Alcance!$E1500,M$1165)","v":0},{"$f":"COUNTIF(Alcance!$E1500,N$1165)","v":0},{"$f":"COUNTIF(Alcance!$E1500,O$1165)","v":0},{"$f":"COUNTIF(Alcance!$E1500,P$1165)","v":0},0,1.25,1,2.25,0]
["Fuentes Fijas",null,"Material Particulado, diferente al sulfato (USEPA 5F)",null,{"$f":"COUNTIF(Alcance!$E1501,E$1165)","v":0},{"$f":"COUNTIF(Alcance!$E1501,F$1165)","v":0},{"$f":"COUNTIF(Alcance!$E1501,G$1165)","v":0},{"$f":"COUNTIF(Alcance!$E1501,H$1165)","v":0},{"$f":"COUNTIF(Alcance!$E1501,I$1165)","v":0},{"$f":"COUNTIF(Alcance!$E1501,J$1165)","v":0},{"$f":"COUNTIF(Alcance!$E1501,K$1165)","v":0},{"$f":"COUNTIF(Alcance!$E1501,L$1165)","v":0},{"$f":"COUNTIF(Alcance!$E1501,M$1165)","v":0},{"$f":"COUNTIF(Alcance!$E1501,N$1165)","v":0},{"$f":"COUNTIF(Alcance!$E1501,O$1165)","v":0},{"$f":"COUNTIF(Alcance!$E1501,P$1165)","v":0},0,1.25,1,2.25,0]
["Fuentes Fijas",null,"Material Particulado en calentadores de madera (toma de muestra en túnel de dilución) (USEPA 5G)",null,{"$f":"COUNTIF(Alcance!$E1502,E$1165)","v":0},{"$f":"COUNTIF(Alcance!$E1502,F$1165)","v":0},{"$f":"COUNTIF(Alcance!$E1502,G$1165)","v":0},{"$f":"COUNTIF(Alcance!$E1502,H$1165)","v":0},{"$f":"COUNTIF(Alcance!$E1502,I$1165)","v":0},{"$f":"COUNTIF(Alcance!$E1502,J$1165)","v":0},{"$f":"COUNTIF(Alcance!$E1502,K$1165)","v":0},{"$f":"COUNTIF(Alcance!$E1502,L$1165)","v":0},{"$f":"COUNTIF(Alcance!$E1502,M$1165)","v":0},{"$f":"COUNTIF(Alcance!$E1502,N$1165)","v":0},{"$f":"COUNTIF(Alcance!$E1502,O$1165)","v":0},{"$f":"COUNTIF(Alcance!$E1502,P$1165)","v":0},0,1.25,1,2.25,0]
["Fuentes Fijas",null,"Material Particulado en calentadores de madera (localizado en la chimenea) (USEPA 5H)",null,{"$f":"COUNTIF(Alcance!$E1503,E$1165)","v":0},{"$f":"COUNTIF(Alcance!$E1503,F$1165)","v":0},{"$f":"COUNTIF(Alcance!$E1503,G$1165)","v":0},{"$f":"COUNTIF(Alcance!$E1503,H$1165)","v":0},{"$f":"COUNTIF(Alcance!$E1503,I$1165)","v":0},{"$f":"COUNTIF(Alcance!$E1503,J$1165)","v":0},{"$f":"COUNTIF(Alcance!$E1503,K$1165)","v":0},{"$f":"COUNTIF(Alcance!$E1503,L$1165)","v":0},{"$f":"COUNTIF(Alcance!$E1503,M$1165)","v":0},{"$f":"COUNTIF(Alcance!$E1503,N$1165)","v":0},{"$f":"COUNTIF(Alcance!$E1503,O$1165)","v":0},{"$f":"COUNTIF(Alcance!$E1503,P$1165)","v":0},0,1.25,1,2.25,0]
["Fuentes Fijas",null,"Material Particulado de bajo nivel (USEPA 5I)",null,{"$f":"COUNTIF(Alcance!$E1504,E$1165)","v":0},{"$f":"COUNTIF(Alcance!$E1504,F$1165)","v":0},{"$f":"COUNTIF(Alcance!$E1504,G$1165)","v":0},{"$f":"COUNTIF(Alcance!$E1504,H$1165)","v":0},{"$f":"COUNTIF(Alcance!$E1504,I$1165)","v":0},{"$f":"COUNTIF(Alcance!$E1504,J$1165)","v":0},{"$f":"COUNTIF(Alcance!$E1504,K$1165)","v":0},{"$f":"COUNTIF(Alcance!$E1504,L$1165)","v":0},{"$f":"COUNTIF(Alcance!$E1504,M$1165)","v":0},{"$f":"COUNTIF(Alcance!$E1504,N$1165)","v":0},{"$f":"COUNTIF(Alcance!$E1504,O$1165)","v":0},{"$f":"COUNTIF(Alcance!$E1504,P$1165)","v":0},0,1.25,1,2.25,0]
["Fuentes Fijas",null,"Dióxido de azufre (USEPA 6)",null,{"$f":"COUNTIF(Alcance!$E1505,E$1165)","v":0},{"$f":"COUNTIF(Alcance!$E1505,F$1165)","v":0},{"$f":"COUNTIF(Alcance!$E1505,G$1165)","v":0},{"$f":"COUNTIF(Alcance!$E1505,H$1165)","v":0},{"$f":"COUNTIF(Alcance!$E1505,I$1165)","v":0},{"$f":"COUNTIF(Alcance!$E1505,J$1165)","v":0},{"$f":"COUNTIF(Alcance!$E1505,K$1165)","v":0},{"$f":"COUNTIF(Alcance!$E1505,L$1165)","v":0},{"$f":"COUNTIF(Alcance!$E1505,M$1165)","v":0},{"$f":"COUNTIF(Alcance!$E1505,N$1165)","v":0},{"$f":"COUNTIF(Alcance!$E1505,O$1165)","v":0},{"$f":"COUNTIF(Alcance!$E1505,P$1165)","v":0},0,1.25,1,2.25,0]
["Fuentes Fijas",null,"Dióxido de azufre, humedad y Dióxido de carbono  en fuentes de combustión de combustible fósil (USEPA 6A)",null,{"$f":"COUNTIF(Alcance!$E1506,E$1165)","v":0},{"$f":"COUNTIF(Alcance!$E1506,F$1165)","v":0},{"$f":"COUNTIF(Alcance!$E1506,G$1165)","v":0},{"$f":"COUNTIF(Alcance!$E1506,H$1165)","v":0},{"$f":"COUNTIF(Alcance!$E1506,I$1165)","v":0},{"$f":"COUNTIF(Alcance!$E1506,J$1165)","v":0},{"$f":"COUNTIF(Alcance!$E1506,K$1165)","v":0},{"$f":"COUNTIF(Alcance!$E1506,L$1165)","v":0},{"$f":"COUNTIF(Alcance!$E1506,M$1165)","v":0},{"$f":"COUNTIF(Alcance!$E1506,N$1165)","v":0},{"$f":"COUNTIF(Alcance!$E1506,O$1165)","v":0},{"$f":"COUNTIF(Alcance!$E1506,P$1165)","v":0},0,1.25,1,2.25,0]
["Fuentes Fijas",null,"Emisiones promedio diarias de dióxido de azufre y dióxido de carbono en fuentes de combustión de combustible fósil (USEPA 6B)",null,{"$f":"COUNTIF(Alcance!$E1507,E$1165)","v":0},{"$f":"COUNTIF(Alcance!$E1507,F$1165)","v":0},{"$f":"COUNTIF(Alcance!$E1507,G$1165)","v":0},{"$f":"COUNTIF(Alcance!$E1507,H$1165)","v":0},{"$f":"COUNTIF(Alcance!$E1507,I$1165)","v":0},{"$f":"COUNTIF(Alcance!$E1507,J$1165)","v":0},{"$f":"COUNTIF(Alcance!$E1507,K$1165)","v":0},{"$f":"COUNTIF(Alcance!$E1507,L$1165)","v":0},{"$f":"COUNTIF(Alcance!$E1507,M$1165)","v":0},{"$f":"COUNTIF(Alcance!$E1507,N$1165)","v":0},{"$f":"COUNTIF(Alcance!$E1507,O$1165)","v":0},{"$f":"COUNTIF(Alcance!$E1507,P$1165)","v":0},0,1.25,1,2.25,0]
["Fuentes Fijas",null,"Dióxido de azufre (Procedimiento del analizador instrumental) (USEPA 6C)",null,{"$f":"COUNTIF(Alcance!$E1508,E$1165)","v":0},{"$f":"COUNTIF(Alcance!$E1508,F$1165)","v":0},{"$f":"COUNTIF(Alcance!$E1508,G$1165)","v":0},{"$f":"COUNTIF(Alcance!$E1508,H$1165)","v":0},{"$f":"COUNTIF(Alcance!$E1508,I$1165)","v":0},{"$f":"COUNTIF(Alcance!$E1508,J$1165)","v":0},{"$f":"COUNTIF(Alcance!$E1508,K$1165)","v":0},{"$f":"COUNTIF(Alcance!$E1508,L$1165)","v":0},{"$f":"COUNTIF(Alcance!$E1508,M$1165)","v":0},{"$f":"COUNTIF(Alcance!$E1508,N$1165)","v":0},{"$f":"COUNTIF(Alcance!$E1508,O$1165)","v":0},{"$f":"COUNTIF(Alcance!$E1508,P$1165)","v":0},0,1.25,0,1.25,0]
["Fuentes Fijas",null,"Óxidos de nitrógeno (USEPA 7)",null,{"$f":"COUNTIF(Alcance!$E1509,E$1165)","v":0},{"$f":"COUNTIF(Alcance!$E1509,F$1165)","v":0},{"$f":"COUNTIF(Alcance!$E1509,G$1165)","v":0},{"$f":"COUNTIF(Alcance!$E1509,H$1165)","v":0},{"$f":"COUNTIF(Alcance!$E1509,I$1165)","v":0},{"$f":"COUNTIF(Alcance!$E1509,J$1165)","v":0},{"$f":"COUNTIF(Alcance!$E1509,K$1165)","v":0},{"$f":"COUNTIF(Alcance!$E1509,L$1165)","v":0},{"$f":"COUNTIF(Alcance!$E1509,M$1165)","v":0},{"$f":"COUNTIF(Alcance!$E1509,N$1165)","v":0},{"$f":"COUNTIF(Alcance!$E1509,O$1165)","v":0},{"$f":"COUNTIF(Alcance!$E1509,P$1165)","v":0},0,1.25,1,2.25,0]
["Fuentes Fijas",null,"Óxidos de nitrógeno (Método de cromatografía iónica) (USEPA 7A)",null,{"$f":"COUNTIF(Alcance!$E1510,E$1165)","v":0},{"$f":"COUNTIF(Alcance!$E1510,F$1165)","v":0},{"$f":"COUNTIF(Alcance!$E1510,G$1165)","v":0},{"$f":"COUNTIF(Alcance!$E1510,H$1165)","v":0},{"$f":"COUNTIF(Alcance!$E1510,I$1165)","v":0},{"$f":"COUNTIF(Alcance!$E1510,J$1165)","v":0},{"$f":"COUNTIF(Alcance!$E1510,K$1165)","v":0},{"$f":"COUNTIF(Alcance!$E1510,L$1165)","v":0},{"$f":"COUNTIF(Alcance!$E1510,M$1165)","v":0},{"$f":"COUNTIF(Alcance!$E1510,N$1165)","v":0},{"$f":"COUNTIF(Alcance!$E1510,O$1165)","v":0},{"$f":"COUNTIF(Alcance!$E1510,P$1165)","v":0},0,1.25,1,2.25,0]
["Fuentes Fijas",null,"Óxidos de nitrógeno (Método de espectrofotometría ultravioleta) (USEPA 7B)",null,{"$f":"COUNTIF(Alcance!$E1511,E$1165)","v":0},{"$f":"COUNTIF(Alcance!$E1511,F$1165)","v":0},{"$f":"COUNTIF(Alcance!$E1511,G$1165)","v":0},{"$f":"COUNTIF(Alcance!$E1511,H$1165)","v":0},{"$f":"COUNTIF(Alcance!$E1511,I$1165)","v":0},{"$f":"COUNTIF(Alcance!$E1511,J$1165)","v":0},{"$f":"COUNTIF(Alcance!$E1511,K$1165)","v":0},{"$f":"COUNTIF(Alcance!$E1511,L$1165)","v":0},{"$f":"COUNTIF(Alcance!$E1511,M$1165)","v":0},{"$f":"COUNTIF(Alcance!$E1511,N$1165)","v":0},{"$f":"COUNTIF(Alcance!$E1511,O$1165)","v":0},{"$f":"COUNTIF(Alcance!$E1511,P$1165)","v":0},0,1.25,1,2.25,0]
["Fuentes Fijas",null,"Óxidos de nitrógeno Método colorimétrico de permanganato alcalino) (USEPA 7C)",null,{"$f":"COUNTIF(Alcance!$E1512,E$1165)","v":0},{"$f":"COUNTIF(Alcance!$E1512,F$1165)","v":0},{"$f":"COUNTIF(Alcance!$E1512,G$1165)","v":0},{"$f":"COUNTIF(Alcance!$E1512,H$1165)","v":0},{"$f":"COUNTIF(Alcance!$E1512,I$1165)","v":0},{"$f":"COUNTIF(Alcance!$E1512,J$1165)","v":0},{"$f":"COUNTIF(Alcance!$E1512,K$1165)","v":0},{"$f":"COUNTIF(Alcance!$E1512,L$1165)","v":0},{"$f":"COUNTIF(Alcance!$E1512,M$1165)","v":0},{"$f":"COUNTIF(Alcance!$E1512,N$1165)","v":0},{"$f":"COUNTIF(Alcance!$E1512,O$1165)","v":0},{"$f":"COUNTIF(Alcance!$E1512,P$1165)","v":0},0,1.25,1,2.25,0]
["Fuentes Fijas",null,"Óxidos de nitrógeno Procedimiento del analizador instrumental) (USEPA 7E)",null,{"$f":"COUNTIF(Alcance!$E1513,E$1165)","v":0},{"$f":"COUNTIF(Alcance!$E1513,F$1165)","v":0},{"$f":"COUNTIF(Alcance!$E1513,G$1165)","v":0},{"$f":"COUNTIF(Alcance!$E1513,H$1165)","v":0},{"$f":"COUNTIF(Alcance!$E1513,I$1165)","v":0},{"$f":"COUNTIF(Alcance!$E1513,J$1165)","v":0},{"$f":"COUNTIF(Alcance!$E1513,K$1165)","v":0},{"$f":"COUNTIF(Alcance!$E1513,L$1165)","v":0},{"$f":"COUNTIF(Alcance!$E1513,M$1165)","v":0},{"$f":"COUNTIF(Alcance!$E1513,N$1165)","v":0},{"$f":"COUNTIF(Alcance!$E1513,O$1165)","v":0},{"$f":"COUNTIF(Alcance!$E1513,P$1165)","v":0},0,1.25,0,1.25,0]
["Fuentes Fijas",null,"Ácido sulfúrico y Dióxido de azufre, Trióxido de Azufre (USEPA 8)",null,{"$f":"COUNTIF(Alcance!$E1514,E$1165)","v":0},{"$f":"COUNTIF(Alcance!$E1514,F$1165)","v":0},{"$f":"COUNTIF(Alcance!$E1514,G$1165)","v":0},{"$f":"COUNTIF(Alcance!$E1514,H$1165)","v":0},{"$f":"COUNTIF(Alcance!$E1514,I$1165)","v":0},{"$f":"COUNTIF(Alcance!$E1514,J$1165)","v":0},{"$f":"COUNTIF(Alcance!$E1514,K$1165)","v":0},{"$f":"COUNTIF(Alcance!$E1514,L$1165)","v":0},{"$f":"COUNTIF(Alcance!$E1514,M$1165)","v":0},{"$f":"COUNTIF(Alcance!$E1514,N$1165)","v":0},{"$f":"COUNTIF(Alcance!$E1514,O$1165)","v":0},{"$f":"COUNTIF(Alcance!$E1514,P$1165)","v":0},0,1.25,1,2.25,0]
["Fuentes Fijas",null,"Monóxido de carbono (Procedimiento del analizador instrumental) (USEPA 10)",null,{"$f":"COUNTIF(Alcance!$E1515,E$1165)","v":0},{"$f":"COUNTIF(Alcance!$E1515,F$1165)","v":0},{"$f":"COUNTIF(Alcance!$E1515,G$1165)","v":0},{"$f":"COUNTIF(Alcance!$E1515,H$1165)","v":0},{"$f":"COUNTIF(Alcance!$E1515,I$1165)","v":0},{"$f":"COUNTIF(Alcance!$E1515,J$1165)","v":0},{"$f":"COUNTIF(Alcance!$E1515,K$1165)","v":0},{"$f":"COUNTIF(Alcance!$E1515,L$1165)","v":0},{"$f":"COUNTIF(Alcance!$E1515,M$1165)","v":0},{"$f":"COUNTIF(Alcance!$E1515,N$1165)","v":0},{"$f":"COUNTIF(Alcance!$E1515,O$1165)","v":0},{"$f":"COUNTIF(Alcance!$E1515,P$1165)","v":0},0,1.25,1,2.25,0]
["Fuentes Fijas",null,"Monóxido de carbono en la certificación de sistemas de medición continua de emisiones en refinerías de petróleo (USEPA 10A)",null,{"$f":"COUNTIF(Alcance!$E1516,E$1165)","v":0},{"$f":"COUNTIF(Alcance!$E1516,F$1165)","v":0},{"$f":"COUNTIF(Alcance!$E1516,G$1165)","v":0},{"$f":"COUNTIF(Alcance!$E1516,H$1165)","v":0},{"$f":"COUNTIF(Alcance!$E1516,I$1165)","v":0},{"$f":"COUNTIF(Alcance!$E1516,J$1165)","v":0},{"$f":"COUNTIF(Alcance!$E1516,K$1165)","v":0},{"$f":"COUNTIF(Alcance!$E1516,L$1165)","v":0},{"$f":"COUNTIF(Alcance!$E1516,M$1165)","v":0},{"$f":"COUNTIF(Alcance!$E1516,N$1165)","v":0},{"$f":"COUNTIF(Alcance!$E1516,O$1165)","v":0},{"$f":"COUNTIF(Alcance!$E1516,P$1165)","v":0},0,1.25,1,2.25,0]
["Fuentes Fijas",null,"Determinación de emisiones de Monóxido de carbono en fuentes fijas (USEPA 10B)",null,{"$f":"COUNTIF(Alcance!$E1517,E$1165)","v":0},{"$f":"COUNTIF(Alcance!$E1517,F$1165)","v":0},{"$f":"COUNTIF(Alcance!$E1517,G$1165)","v":0},{"$f":"COUNTIF(Alcance!$E1517,H$1165)","v":0},{"$f":"COUNTIF(Alcance!$E1517,I$1165)","v":0},{"$f":"COUNTIF(Alcance!$E1517,J$1165)","v":0},{"$f":"COUNTIF(Alcance!$E1517,K$1165)","v":0},{"$f":"COUNTIF(Alcance!$E1517,L$1165)","v":0},{"$f":"COUNTIF(Alcance!$E1517,M$1165)","v":0},{"$f":"COUNTIF(Alcance!$E1517,N$1165)","v":0},{"$f":"COUNTIF(Alcance!$E1517,O$1165)","v":0},{"$f":"COUNTIF(Alcance!$E1517,P$1165)","v":0},0,1.25,1,2.25,0]
["Fuentes Fijas",null,"Sulfuro de hidrógeno (H2S) en corrientes de gas combustible en refinerías de petróleo (USEPA 11)",null,{"$f":"COUNTIF(Alcance!$E1518,E$1165)","v":0},{"$f":"COUNTIF(Alcance!$E1518,F$1165)","v":0},{"$f":"COUNTIF(Alcance!$E1518,G$1165)","v":0},{"$f":"COUNTIF(Alcance!$E1518,H$1165)","v":0},{"$f":"COUNTIF(Alcance!$E1518,I$1165)","v":0},{"$f":"COUNTIF(Alcance!$E1518,J$1165)","v":0},{"$f":"COUNTIF(Alcance!$E1518,K$1165)","v":0},{"$f":"COUNTIF(Alcance!$E1518,L$1165)","v":0},{"$f":"COUNTIF(Alcance!$E1518,M$1165)","v":0},{"$f":"COUNTIF(Alcance!$E1518,N$1165)","v":0},{"$f":"COUNTIF(Alcance!$E1518,O$1165)","v":0},{"$f":"COUNTIF(Alcance!$E1518,P$1165)","v":0},0,1.25,1,2.25,0]
["Fuentes Fijas",null,"Plomo inorgánico (USEPA 12)",null,{"$f":"COUNTIF(Alcance!$E1519,E$1165)","v":0},{"$f":"COUNTIF(Alcance!$E1519,F$1165)","v":0},{"$f":"COUNTIF(Alcance!$E1519,G$1165)","v":0},{"$f":"COUNTIF(Alcance!$E1519,H$1165)","v":0},{"$f":"COUNTIF(Alcance!$E1519,I$1165)","v":0},{"$f":"COUNTIF(Alcance!$E1519,J$1165)","v":0},{"$f":"COUNTIF(Alcance!$E1519,K$1165)","v":0},{"$f":"COUNTIF(Alcance!$E1519,L$1165)","v":0},{"$f":"COUNTIF(Alcance!$E1519,M$1165)","v":0},{"$f":"COUNTIF(Alcance!$E1519,N$1165)","v":0},{"$f":"COUNTIF(Alcance!$E1519,O$1165)","v":0},{"$f":"COUNTIF(Alcance!$E1519,P$1165)","v":0},0,1.25,1,2.25,0]
["Fuentes Fijas",null,"Fluoruro total (Método del reactivo SPADNS) (USEPA 13A)",null,{"$f":"COUNTIF(Alcance!$E1520,E$1165)","v":0},{"$f":"COUNTIF(Alcance!$E1520,F$1165)","v":0},{"$f":"COUNTIF(Alcance!$E1520,G$1165)","v":0},{"$f":"COUNTIF(Alcance!$E1520,H$1165)","v":0},{"$f":"COUNTIF(Alcance!$E1520,I$1165)","v":0},{"$f":"COUNTIF(Alcance!$E1520,J$1165)","v":0},{"$f":"COUNTIF(Alcance!$E1520,K$1165)","v":0},{"$f":"COUNTIF(Alcance!$E1520,L$1165)","v":0},{"$f":"COUNTIF(Alcance!$E1520,M$1165)","v":0},{"$f":"COUNTIF(Alcance!$E1520,N$1165)","v":0},{"$f":"COUNTIF(Alcance!$E1520,O$1165)","v":0},{"$f":"COUNTIF(Alcance!$E1520,P$1165)","v":0},0,1.25,1,2.25,0]
["Fuentes Fijas",null,"Fluoruro total (Método del Ion electrodo específico) (USEPA 13B)",null,{"$f":"COUNTIF(Alcance!$E1521,E$1165)","v":0},{"$f":"COUNTIF(Alcance!$E1521,F$1165)","v":0},{"$f":"COUNTIF(Alcance!$E1521,G$1165)","v":0},{"$f":"COUNTIF(Alcance!$E1521,H$1165)","v":0},{"$f":"COUNTIF(Alcance!$E1521,I$1165)","v":0},{"$f":"COUNTIF(Alcance!$E1521,J$1165)","v":0},{"$f":"COUNTIF(Alcance!$E1521,K$1165)","v":0},{"$f":"COUNTIF(Alcance!$E1521,L$1165)","v":0},{"$f":"COUNTIF(Alcance!$E1521,M$1165)","v":0},{"$f":"COUNTIF(Alcance!$E1521,N$1165)","v":0},{"$f":"COUNTIF(Alcance!$E1521,O$1165)","v":0},{"$f":"COUNTIF(Alcance!$E1521,P$1165)","v":0},0,1.25,1,2.25,0]
["Fuentes Fijas",null,"Fluoruro para plantas de producción de aluminio primario (USEPA 14)",null,{"$f":"COUNTIF(Alcance!$E1522,E$1165)","v":0},{"$f":"COUNTIF(Alcance!$E1522,F$1165)","v":0},{"$f":"COUNTIF(Alcance!$E1522,G$1165)","v":0},{"$f":"COUNTIF(Alcance!$E1522,H$1165)","v":0},{"$f":"COUNTIF(Alcance!$E1522,I$1165)","v":0},{"$f":"COUNTIF(Alcance!$E1522,J$1165)","v":0},{"$f":"COUNTIF(Alcance!$E1522,K$1165)","v":0},{"$f":"COUNTIF(Alcance!$E1522,L$1165)","v":0},{"$f":"COUNTIF(Alcance!$E1522,M$1165)","v":0},{"$f":"COUNTIF(Alcance!$E1522,N$1165)","v":0},{"$f":"COUNTIF(Alcance!$E1522,O$1165)","v":0},{"$f":"COUNTIF(Alcance!$E1522,P$1165)","v":0},0,1.25,1,2.25,0]
["Fuentes Fijas",null,"Fluoruro total en fuentes fijas específicas en instalaciones de producción de aluminio primario (USEPA 14A)",null,{"$f":"COUNTIF(Alcance!$E1523,E$1165)","v":0},{"$f":"COUNTIF(Alcance!$E1523,F$1165)","v":0},{"$f":"COUNTIF(Alcance!$E1523,G$1165)","v":0},{"$f":"COUNTIF(Alcance!$E1523,H$1165)","v":0},{"$f":"COUNTIF(Alcance!$E1523,I$1165)","v":0},{"$f":"COUNTIF(Alcance!$E1523,J$1165)","v":0},{"$f":"COUNTIF(Alcance!$E1523,K$1165)","v":0},{"$f":"COUNTIF(Alcance!$E1523,L$1165)","v":0},{"$f":"COUNTIF(Alcance!$E1523,M$1165)","v":0},{"$f":"COUNTIF(Alcance!$E1523,N$1165)","v":0},{"$f":"COUNTIF(Alcance!$E1523,O$1165)","v":0},{"$f":"COUNTIF(Alcance!$E1523,P$1165)","v":0},0,1.25,1,2.25,0]
["Fuentes Fijas",null,"Sulfuro de hidrógeno (H2S), Carbonilo sulfhídrico y Bisulfuro de Carbono en fuentes fijas (USEPA 15)",null,{"$f":"COUNTIF(Alcance!$E1524,E$1165)","v":0},{"$f":"COUNTIF(Alcance!$E1524,F$1165)","v":0},{"$f":"COUNTIF(Alcance!$E1524,G$1165)","v":0},{"$f":"COUNTIF(Alcance!$E1524,H$1165)","v":0},{"$f":"COUNTIF(Alcance!$E1524,I$1165)","v":0},{"$f":"COUNTIF(Alcance!$E1524,J$1165)","v":0},{"$f":"COUNTIF(Alcance!$E1524,K$1165)","v":0},{"$f":"COUNTIF(Alcance!$E1524,L$1165)","v":0},{"$f":"COUNTIF(Alcance!$E1524,M$1165)","v":0},{"$f":"COUNTIF(Alcance!$E1524,N$1165)","v":0},{"$f":"COUNTIF(Alcance!$E1524,O$1165)","v":0},{"$f":"COUNTIF(Alcance!$E1524,P$1165)","v":0},0,1.25,1,2.25,0]
["Fuentes Fijas",null,"Azufre total reducido en plantas de recuperación de azufre de refinerías de petróleo (USEPA 15A)",null,{"$f":"COUNTIF(Alcance!$E1525,E$1165)","v":0},{"$f":"COUNTIF(Alcance!$E1525,F$1165)","v":0},{"$f":"COUNTIF(Alcance!$E1525,G$1165)","v":0},{"$f":"COUNTIF(Alcance!$E1525,H$1165)","v":0},{"$f":"COUNTIF(Alcance!$E1525,I$1165)","v":0},{"$f":"COUNTIF(Alcance!$E1525,J$1165)","v":0},{"$f":"COUNTIF(Alcance!$E1525,K$1165)","v":0},{"$f":"COUNTIF(Alcance!$E1525,L$1165)","v":0},{"$f":"COUNTIF(Alcance!$E1525,M$1165)","v":0},{"$f":"COUNTIF(Alcance!$E1525,N$1165)","v":0},{"$f":"COUNTIF(Alcance!$E1525,O$1165)","v":0},{"$f":"COUNTIF(Alcance!$E1525,P$1165)","v":0},0,1.25,1,2.25,0]
["Fuentes Fijas",null,"Determinación semicontinua de las emisiones de azufre (USEPA 16)",null,{"$f":"COUNTIF(Alcance!$E1526,E$1165)","v":0},{"$f":"COUNTIF(Alcance!$E1526,F$1165)","v":0},{"$f":"COUNTIF(Alcance!$E1526,G$1165)","v":0},{"$f":"COUNTIF(Alcance!$E1526,H$1165)","v":0},{"$f":"COUNTIF(Alcance!$E1526,I$1165)","v":0},{"$f":"COUNTIF(Alcance!$E1526,J$1165)","v":0},{"$f":"COUNTIF(Alcance!$E1526,K$1165)","v":0},{"$f":"COUNTIF(Alcance!$E1526,L$1165)","v":0},{"$f":"COUNTIF(Alcance!$E1526,M$1165)","v":0},{"$f":"COUNTIF(Alcance!$E1526,N$1165)","v":0},{"$f":"COUNTIF(Alcance!$E1526,O$1165)","v":0},{"$f":"COUNTIF(Alcance!$E1526,P$1165)","v":0},0,1.25,1,2.25,0]
["Fuentes Fijas",null,"Azufre total reducido (Técnica del impactador) (USEPA 16A)",null,{"$f":"COUNTIF(Alcance!$E1527,E$1165)","v":0},{"$f":"COUNTIF(Alcance!$E1527,F$1165)","v":0},{"$f":"COUNTIF(Alcance!$E1527,G$1165)","v":0},{"$f":"COUNTIF(Alcance!$E1527,H$1165)","v":0},{"$f":"COUNTIF(Alcance!$E1527,I$1165)","v":0},{"$f":"COUNTIF(Alcance!$E1527,J$1165)","v":0},{"$f":"COUNTIF(Alcance!$E1527,K$1165)","v":0},{"$f":"COUNTIF(Alcance!$E1527,L$1165)","v":0},{"$f":"COUNTIF(Alcance!$E1527,M$1165)","v":0},{"$f":"COUNTIF(Alcance!$E1527,N$1165)","v":0},{"$f":"COUNTIF(Alcance!$E1527,O$1165)","v":0},{"$f":"COUNTIF(Alcance!$E1527,P$1165)","v":0},0,1.25,1,2.25,0]
["Fuentes Fijas",null,"Azufre total reducido (USEPA 16B)",null,{"$f":"COUNTIF(Alcance!$E1528,E$1165)","v":0},{"$f":"COUNTIF(Alcance!$E1528,F$1165)","v":0},{"$f":"COUNTIF(Alcance!$E1528,G$1165)","v":0},{"$f":"COUNTIF(Alcance!$E1528,H$1165)","v":0},{"$f":"COUNTIF(Alcance!$E1528,I$1165)","v":0},{"$f":"COUNTIF(Alcance!$E1528,J$1165)","v":0},{"$f":"COUNTIF(Alcance!$E1528,K$1165)","v":0},{"$f":"COUNTIF(Alcance!$E1528,L$1165)","v":0},{"$f":"COUNTIF(Alcance!$E1528,M$1165)","v":0},{"$f":"COUNTIF(Alcance!$E1528,N$1165)","v":0},{"$f":"COUNTIF(Alcance!$E1528,O$1165)","v":0},{"$f":"COUNTIF(Alcance!$E1528,P$1165)","v":0},0,1.25,1,2.25,0]
["Fuentes Fijas",null,"Material Particulado (USEPA 17)",null,{"$f":"COUNTIF(Alcance!$E1529,E$1165)","v":0},{"$f":"COUNTIF(Alcance!$E1529,F$1165)","v":0},{"$f":"COUNTIF(Alcance!$E1529,G$1165)","v":0},{"$f":"COUNTIF(Alcance!$E1529,H$1165)","v":0},{"$f":"COUNTIF(Alcance!$E1529,I$1165)","v":0},{"$f":"COUNTIF(Alcance!$E1529,J$1165)","v":0},{"$f":"COUNTIF(Alcance!$E1529,K$1165)","v":0},{"$f":"COUNTIF(Alcance!$E1529,L$1165)","v":0},{"$f":"COUNTIF(Alcance!$E1529,M$1165)","v":0},{"$f":"COUNTIF(Alcance!$E1529,N$1165)","v":0},{"$f":"COUNTIF(Alcance!$E1529,O$1165)","v":0},{"$f":"COUNTIF(Alcance!$E1529,P$1165)","v":0},0,1.25,1,2.25,0]
["Fuentes Fijas",null,"Compuestos Orgánicos Gaseosos por cromatografía de gases (USEPA 18)",null,{"$f":"COUNTIF(Alcance!$E1530,E$1165)","v":0},{"$f":"COUNTIF(Alcance!$E1530,F$1165)","v":0},{"$f":"COUNTIF(Alcance!$E1530,G$1165)","v":0},{"$f":"COUNTIF(Alcance!$E1530,H$1165)","v":0},{"$f":"COUNTIF(Alcance!$E1530,I$1165)","v":0},{"$f":"COUNTIF(Alcance!$E1530,J$1165)","v":0},{"$f":"COUNTIF(Alcance!$E1530,K$1165)","v":0},{"$f":"COUNTIF(Alcance!$E1530,L$1165)","v":0},{"$f":"COUNTIF(Alcance!$E1530,M$1165)","v":0},{"$f":"COUNTIF(Alcance!$E1530,N$1165)","v":0},{"$f":"COUNTIF(Alcance!$E1530,O$1165)","v":0},{"$f":"COUNTIF(Alcance!$E1530,P$1165)","v":0},0,2.5,null,null,{"$f":"IF(F1209>0,R1209,IF(I1209>0,R1209,IF(L1209>0,R1209,IF(O1209>0,R1209,0))))","v":0}]
["Fuentes Fijas",null,"Eficiencia de remoción de Dióxido de azufre y las Tasas de emisión de material particulado, dióxido de azufre y óxidos de nitrógeno (USEPA 19)",null,{"$f":"COUNTIF(Alcance!$E1531,E$1165)","v":0},{"$f":"COUNTIF(Alcance!$E1531,F$1165)","v":0},{"$f":"COUNTIF(Alcance!$E1531,G$1165)","v":0},{"$f":"COUNTIF(Alcance!$E1531,H$1165)","v":0},{"$f":"COUNTIF(Alcance!$E1531,I$1165)","v":0},{"$f":"COUNTIF(Alcance!$E1531,J$1165)","v":0},{"$f":"COUNTIF(Alcance!$E1531,K$1165)","v":0},{"$f":"COUNTIF(Alcance!$E1531,L$1165)","v":0},{"$f":"COUNTIF(Alcance!$E1531,M$1165)","v":0},{"$f":"COUNTIF(Alcance!$E1531,N$1165)","v":0},{"$f":"COUNTIF(Alcance!$E1531,O$1165)","v":0},{"$f":"COUNTIF(Alcance!$E1531,P$1165)","v":0},0,1.25,1,{"$f":"SUM(R1210:S1210)","v":2.25},{"$f":"IF(F1210>0,R1210,IF(I1210>0,R1210,IF(L1210>0,R1210,IF(O1210>0,R1210,IF(E1210>0,S1210,IF(H1210>0,S1210,IF(K1210>0,S1210,IF(N1210>0,S1210,IF(G1210>0,T1210,IF(J1210>0,T1210,IF(M1210>0,T1210,IF(P1210>0,T1210,0))))))))))))","v":0}]
["Fuentes Fijas",null,"Óxidos de nitrógeno, Dióxido de azufre y diluyentes en turbinas de gas estacionarias (USEPA 20)",null,{"$f":"COUNTIF(Alcance!$E1532,E$1165)","v":0},{"$f":"COUNTIF(Alcance!$E1532,F$1165)","v":0},{"$f":"COUNTIF(Alcance!$E1532,G$1165)","v":0},{"$f":"COUNTIF(Alcance!$E1532,H$1165)","v":0},{"$f":"COUNTIF(Alcance!$E1532,I$1165)","v":0},{"$f":"COUNTIF(Alcance!$E1532,J$1165)","v":0},{"$f":"COUNTIF(Alcance!$E1532,K$1165)","v":0},{"$f":"COUNTIF(Alcance!$E1532,L$1165)","v":0},{"$f":"COUNTIF(Alcance!$E1532,M$1165)","v":0},{"$f":"COUNTIF(Alcance!$E1532,N$1165)","v":0},{"$f":"COUNTIF(Alcance!$E1532,O$1165)","v":0},{"$f":"COUNTIF(Alcance!$E1532,P$1165)","v":0},0,1.25,1,{"$f":"SUM(R1211:S1211)","v":2.25},0]
["Fuentes Fijas",null,"Dibenzo–p–Dioxinas Policloradas y Dibenzofuranos policlorados en incineradores de residuos (USEPA 23)",null,{"$f":"COUNTIF(Alcance!$E1533,E$1165)","v":0},{"$f":"COUNTIF(Alcance!$E1533,F$1165)","v":0},{"$f":"COUNTIF(Alcance!$E1533,G$1165)","v":0},{"$f":"COUNTIF(Alcance!$E1533,H$1165)","v":0},{"$f":"COUNTIF(Alcance!$E1533,I$1165)","v":0},{"$f":"COUNTIF(Alcance!$E1533,J$1165)","v":0},{"$f":"COUNTIF(Alcance!$E1533,K$1165)","v":0},{"$f":"COUNTIF(Alcance!$E1533,L$1165)","v":0},{"$f":"COUNTIF(Alcance!$E1533,M$1165)","v":0},{"$f":"COUNTIF(Alcance!$E1533,N$1165)","v":0},{"$f":"COUNTIF(Alcance!$E1533,O$1165)","v":0},{"$f":"COUNTIF(Alcance!$E1533,P$1165)","v":0},0,1.25,1,2.25,0]
["Fuentes Fijas",null,"Dibenzo (a,h) Antraceno y Benzo (a) Pireno",null,{"$f":"COUNTIF(Alcance!$E1534,E$1165)","v":0},{"$f":"COUNTIF(Alcance!$E1534,F$1165)","v":0},{"$f":"COUNTIF(Alcance!$E1534,G$1165)","v":0},{"$f":"COUNTIF(Alcance!$E1534,H$1165)","v":0},{"$f":"COUNTIF(Alcance!$E1534,I$1165)","v":0},{"$f":"COUNTIF(Alcance!$E1534,J$1165)","v":0},{"$f":"COUNTIF(Alcance!$E1534,K$1165)","v":0},{"$f":"COUNTIF(Alcance!$E1534,L$1165)","v":0},{"$f":"COUNTIF(Alcance!$E1534,M$1165)","v":0},{"$f":"COUNTIF(Alcance!$E1534,N$1165)","v":0},{"$f":"COUNTIF(Alcance!$E1534,O$1165)","v":0},{"$f":"COUNTIF(Alcance!$E1534,P$1165)","v":0},0,1.25,1,2.25,0]
["Fuentes Fijas",null,"Contenido de material volátil, contenido de agua, densidad, volumen de sólidos y peso de sólidos en la actividad de recubrimiento de superficies (USEPA 24)",null,{"$f":"COUNTIF(Alcance!$E1535,E$1165)","v":0},{"$f":"COUNTIF(Alcance!$E1535,F$1165)","v":0},{"$f":"COUNTIF(Alcance!$E1535,G$1165)","v":0},{"$f":"COUNTIF(Alcance!$E1535,H$1165)","v":0},{"$f":"COUNTIF(Alcance!$E1535,I$1165)","v":0},{"$f":"COUNTIF(Alcance!$E1535,J$1165)","v":0},{"$f":"COUNTIF(Alcance!$E1535,K$1165)","v":0},{"$f":"COUNTIF(Alcance!$E1535,L$1165)","v":0},{"$f":"COUNTIF(Alcance!$E1535,M$1165)","v":0},{"$f":"COUNTIF(Alcance!$E1535,N$1165)","v":0},{"$f":"COUNTIF(Alcance!$E1535,O$1165)","v":0},{"$f":"COUNTIF(Alcance!$E1535,P$1165)","v":0},0,1.25,1,2.25,0]
["Fuentes Fijas",null,"Contenido y densidad del material volátil en la actividad de recubrimiento de tintas por rotograbado y publicaciones rotograbadas relacionadas (USEPA 24A)",null,{"$f":"COUNTIF(Alcance!$E1536,E$1165)","v":0},{"$f":"COUNTIF(Alcance!$E1536,F$1165)","v":0},{"$f":"COUNTIF(Alcance!$E1536,G$1165)","v":0},{"$f":"COUNTIF(Alcance!$E1536,H$1165)","v":0},{"$f":"COUNTIF(Alcance!$E1536,I$1165)","v":0},{"$f":"COUNTIF(Alcance!$E1536,J$1165)","v":0},{"$f":"COUNTIF(Alcance!$E1536,K$1165)","v":0},{"$f":"COUNTIF(Alcance!$E1536,L$1165)","v":0},{"$f":"COUNTIF(Alcance!$E1536,M$1165)","v":0},{"$f":"COUNTIF(Alcance!$E1536,N$1165)","v":0},{"$f":"COUNTIF(Alcance!$E1536,O$1165)","v":0},{"$f":"COUNTIF(Alcance!$E1536,P$1165)","v":0},0,1.25,1,2.25,0]
["Fuentes Fijas",null,"Emisiones gaseosas orgánicas totales diferentes al metano dadas como carbón (USEPA 25)",null,{"$f":"COUNTIF(Alcance!$E1537,E$1165)","v":0},{"$f":"COUNTIF(Alcance!$E1537,F$1165)","v":0},{"$f":"COUNTIF(Alcance!$E1537,G$1165)","v":0},{"$f":"COUNTIF(Alcance!$E1537,H$1165)","v":0},{"$f":"COUNTIF(Alcance!$E1537,I$1165)","v":0},{"$f":"COUNTIF(Alcance!$E1537,J$1165)","v":0},{"$f":"COUNTIF(Alcance!$E1537,K$1165)","v":0},{"$f":"COUNTIF(Alcance!$E1537,L$1165)","v":0},{"$f":"COUNTIF(Alcance!$E1537,M$1165)","v":0},{"$f":"COUNTIF(Alcance!$E1537,N$1165)","v":0},{"$f":"COUNTIF(Alcance!$E1537,O$1165)","v":0},{"$f":"COUNTIF(Alcance!$E1537,P$1165)","v":0},0,1.25,1,2.25,0]
["Fuentes Fijas",null,"Concentración gaseosa orgánica total empleando un analizador de ionización de llama (USEPA 25A)",null,{"$f":"COUNTIF(Alcance!$E1538,E$1165)","v":0},{"$f":"COUNTIF(Alcance!$E1538,F$1165)","v":0},{"$f":"COUNTIF(Alcance!$E1538,G$1165)","v":0},{"$f":"COUNTIF(Alcance!$E1538,H$1165)","v":0},{"$f":"COUNTIF(Alcance!$E1538,I$1165)","v":0},{"$f":"COUNTIF(Alcance!$E1538,J$1165)","v":0},{"$f":"COUNTIF(Alcance!$E1538,K$1165)","v":0},{"$f":"COUNTIF(Alcance!$E1538,L$1165)","v":0},{"$f":"COUNTIF(Alcance!$E1538,M$1165)","v":0},{"$f":"COUNTIF(Alcance!$E1538,N$1165)","v":0},{"$f":"COUNTIF(Alcance!$E1538,O$1165)","v":0},{"$f":"COUNTIF(Alcance!$E1538,P$1165)","v":0},0,1.25,0,1.25,0]
["Fuentes Fijas",null,"Concentración gaseosa orgánica total empleando unanalizador de infrarrojo no dispersivo (USEPA 25B)",null,{"$f":"COUNTIF(Alcance!$E1539,E$1165)","v":0},{"$f":"COUNTIF(Alcance!$E1539,F$1165)","v":0},{"$f":"COUNTIF(Alcance!$E1539,G$1165)","v":0},{"$f":"COUNTIF(Alcance!$E1539,H$1165)","v":0},{"$f":"COUNTIF(Alcance!$E1539,I$1165)","v":0},{"$f":"COUNTIF(Alcance!$E1539,J$1165)","v":0},{"$f":"COUNTIF(Alcance!$E1539,K$1165)","v":0},{"$f":"COUNTIF(Alcance!$E1539,L$1165)","v":0},{"$f":"COUNTIF(Alcance!$E1539,M$1165)","v":0},{"$f":"COUNTIF(Alcance!$E1539,N$1165)","v":0},{"$f":"COUNTIF(Alcance!$E1539,O$1165)","v":0},{"$f":"COUNTIF(Alcance!$E1539,P$1165)","v":0},0,1.25,0,1.25,0]
["Fuentes Fijas",null,"Compuestos orgánicos diferentes al metano en gases de rellenos sanitarios (USEPA 25C)",null,{"$f":"COUNTIF(Alcance!$E1540,E$1165)","v":0},{"$f":"COUNTIF(Alcance!$E1540,F$1165)","v":0},{"$f":"COUNTIF(Alcance!$E1540,G$1165)","v":0},{"$f":"COUNTIF(Alcance!$E1540,H$1165)","v":0},{"$f":"COUNTIF(Alcance!$E1540,I$1165)","v":0},{"$f":"COUNTIF(Alcance!$E1540,J$1165)","v":0},{"$f":"COUNTIF(Alcance!$E1540,K$1165)","v":0},{"$f":"COUNTIF(Alcance!$E1540,L$1165)","v":0},{"$f":"COUNTIF(Alcance!$E1540,M$1165)","v":0},{"$f":"COUNTIF(Alcance!$E1540,N$1165)","v":0},{"$f":"COUNTIF(Alcance!$E1540,O$1165)","v":0},{"$f":"COUNTIF(Alcance!$E1540,P$1165)","v":0},0,1.25,1,2.25,0]
["Fuentes Fijas",null,"Haluros de hidrógeno y Halógenos (Método no isocinético) (USEPA 26)",null,{"$f":"COUNTIF(Alcance!$E1541,E$1165)","v":0},{"$f":"COUNTIF(Alcance!$E1541,F$1165)","v":0},{"$f":"COUNTIF(Alcance!$E1541,G$1165)","v":0},{"$f":"COUNTIF(Alcance!$E1541,H$1165)","v":0},{"$f":"COUNTIF(Alcance!$E1541,I$1165)","v":0},{"$f":"COUNTIF(Alcance!$E1541,J$1165)","v":0},{"$f":"COUNTIF(Alcance!$E1541,K$1165)","v":0},{"$f":"COUNTIF(Alcance!$E1541,L$1165)","v":0},{"$f":"COUNTIF(Alcance!$E1541,M$1165)","v":0},{"$f":"COUNTIF(Alcance!$E1541,N$1165)","v":0},{"$f":"COUNTIF(Alcance!$E1541,O$1165)","v":0},{"$f":"COUNTIF(Alcance!$E1541,P$1165)","v":0},0,1.25,1,2.25,0]
["Fuentes Fijas",null,"Haluros de hidrógeno y Halógenos  (Método isocinético) (USEPA 26A)",null,{"$f":"COUNTIF(Alcance!$E1542,E$1165)","v":0},{"$f":"COUNTIF(Alcance!$E1542,F$1165)","v":0},{"$f":"COUNTIF(Alcance!$E1542,G$1165)","v":0},{"$f":"COUNTIF(Alcance!$E1542,H$1165)","v":0},{"$f":"COUNTIF(Alcance!$E1542,I$1165)","v":0},{"$f":"COUNTIF(Alcance!$E1542,J$1165)","v":0},{"$f":"COUNTIF(Alcance!$E1542,K$1165)","v":0},{"$f":"COUNTIF(Alcance!$E1542,L$1165)","v":0},{"$f":"COUNTIF(Alcance!$E1542,M$1165)","v":0},{"$f":"COUNTIF(Alcance!$E1542,N$1165)","v":0},{"$f":"COUNTIF(Alcance!$E1542,O$1165)","v":0},{"$f":"COUNTIF(Alcance!$E1542,P$1165)","v":0},0,1.25,1,2.25,0]
["Fuentes Fijas",null,"Metales (USEPA 29). Indicar cuáles",null,{"$f":"COUNTIF(Alcance!$E1543,E$1165)","v":0},{"$f":"COUNTIF(Alcance!$E1543,F$1165)","v":0},{"$f":"COUNTIF(Alcance!$E1543,G$1165)","v":0},{"$f":"COUNTIF(Alcance!$E1543,H$1165)","v":0},{"$f":"COUNTIF(Alcance!$E1543,I$1165)","v":0},{"$f":"COUNTIF(Alcance!$E1543,J$1165)","v":0},{"$f":"COUNTIF(Alcance!$E1543,K$1165)","v":0},{"$f":"COUNTIF(Alcance!$E1543,L$1165)","v":0},{"$f":"COUNTIF(Alcance!$E1543,M$1165)","v":0},{"$f":"COUNTIF(Alcance!$E1543,N$1165)","v":0},{"$f":"COUNTIF(Alcance!$E1543,O$1165)","v":0},{"$f":"COUNTIF(Alcance!$E1543,P$1165)","v":0},0,1.25,null,null,{"$f":"IF(F1222>0,R1222,IF(I1222>0,R1222,IF(L1222>0,R1222,IF(O1222>0,R1222,0))))","v":0}]
["Fuentes Fijas",null,"Antimonio",null,{"$f":"COUNTIF(Alcance!$E1544,E$1165)","v":0},{"$f":"COUNTIF(Alcance!$E1544,F$1165)","v":0},{"$f":"COUNTIF(Alcance!$E1544,G$1165)","v":0},{"$f":"COUNTIF(Alcance!$E1544,H$1165)","v":0},{"$f":"COUNTIF(Alcance!$E1544,I$1165)","v":0},{"$f":"COUNTIF(Alcance!$E1544,J$1165)","v":0},{"$f":"COUNTIF(Alcance!$E1544,K$1165)","v":0},{"$f":"COUNTIF(Alcance!$E1544,L$1165)","v":0},{"$f":"COUNTIF(Alcance!$E1544,M$1165)","v":0},{"$f":"COUNTIF(Alcance!$E1544,N$1165)","v":0},{"$f":"COUNTIF(Alcance!$E1544,O$1165)","v":0},{"$f":"COUNTIF(Alcance!$E1544,P$1165)","v":0},0,0.5,null,null,{"$f":"IF(E1223>0,R1223,IF(H1223>0,R1223,IF(K1223>0,R1223,IF(N1223>0,R1223,0))))","v":0}]
["Fuentes Fijas",null,"Arsenico",null,{"$f":"COUNTIF(Alcance!$E1545,E$1165)","v":0},{"$f":"COUNTIF(Alcance!$E1545,F$1165)","v":0},{"$f":"COUNTIF(Alcance!$E1545,G$1165)","v":0},{"$f":"COUNTIF(Alcance!$E1545,H$1165)","v":0},{"$f":"COUNTIF(Alcance!$E1545,I$1165)","v":0},{"$f":"COUNTIF(Alcance!$E1545,J$1165)","v":0},{"$f":"COUNTIF(Alcance!$E1545,K$1165)","v":0},{"$f":"COUNTIF(Alcance!$E1545,L$1165)","v":0},{"$f":"COUNTIF(Alcance!$E1545,M$1165)","v":0},{"$f":"COUNTIF(Alcance!$E1545,N$1165)","v":0},{"$f":"COUNTIF(Alcance!$E1545,O$1165)","v":0},{"$f":"COUNTIF(Alcance!$E1545,P$1165)","v":0},0,0.5,null,null,0]
["Fuentes Fijas",null,"Bario ",null,{"$f":"COUNTIF(Alcance!$E1546,E$1165)","v":0},{"$f":"COUNTIF(Alcance!$E1546,F$1165)","v":0},{"$f":"COUNTIF(Alcance!$E1546,G$1165)","v":0},{"$f":"COUNTIF(Alcance!$E1546,H$1165)","v":0},{"$f":"COUNTIF(Alcance!$E1546,I$1165)","v":0},{"$f":"COUNTIF(Alcance!$E1546,J$1165)","v":0},{"$f":"COUNTIF(Alcance!$E1546,K$1165)","v":0},{"$f":"COUNTIF(Alcance!$E1546,L$1165)","v":0},{"$f":"COUNTIF(Alcance!$E1546,M$1165)","v":0},{"$f":"COUNTIF(Alcance!$E1546,N$1165)","v":0},{"$f":"COUNTIF(Alcance!$E1546,O$1165)","v":0},{"$f":"COUNTIF(Alcance!$E1546,P$1165)","v":0},0,0.5,null,null,0]
["Fuentes Fijas",null,"Berilio",null,{"$f":"COUNTIF(Alcance!$E1547,E$1165)","v":0},{"$f":"COUNTIF(Alcance!$E1547,F$1165)","v":0},{"$f":"COUNTIF(Alcance!$E1547,G$1165)","v":0},{"$f":"COUNTIF(Alcance!$E1547,H$1165)","v":0},{"$f":"COUNTIF(Alcance!$E1547,I$1165)","v":0},{"$f":"COUNTIF(Alcance!$E1547,J$1165)","v":0},{"$f":"COUNTIF(Alcance!$E1547,K$1165)","v":0},{"$f":"COUNTIF(Alcance!$E1547,L$1165)","v":0},{"$f":"COUNTIF(Alcance!$E1547,M$1165)","v":0},{"$f":"COUNTIF(Alcance!$E1547,N$1165)","v":0},{"$f":"COUNTIF(Alcance!$E1547,O$1165)","v":0},{"$f":"COUNTIF(Alcance!$E1547,P$1165)","v":0},0,0.5,null,null,0]
["Fuentes Fijas",null,"Cadmio ",null,{"$f":"COUNTIF(Alcance!$E1548,E$1165)","v":0},{"$f":"COUNTIF(Alcance!$E1548,F$1165)","v":0},{"$f":"COUNTIF(Alcance!$E1548,G$1165)","v":0},{"$f":"COUNTIF(Alcance!$E1548,H$1165)","v":0},{"$f":"COUNTIF(Alcance!$E1548,I$1165)","v":0},{"$f":"COUNTIF(Alcance!$E1548,J$1165)","v":0},{"$f":"COUNTIF(Alcance!$E1548,K$1165)","v":0},{"$f":"COUNTIF(Alcance!$E1548,L$1165)","v":0},{"$f":"COUNTIF(Alcance!$E1548,M$1165)","v":0},{"$f":"COUNTIF(Alcance!$E1548,N$1165)","v":0},{"$f":"COUNTIF(Alcance!$E1548,O$1165)","v":0},{"$f":"COUNTIF(Alcance!$E1548,P$1165)","v":0},0,0.5,null,null,0]
["Fuentes Fijas",null,"Cromo ",null,{"$f":"COUNTIF(Alcance!$E1549,E$1165)","v":0},{"$f":"COUNTIF(Alcance!$E1549,F$1165)","v":0},{"$f":"COUNTIF(Alcance!$E1549,G$1165)","v":0},{"$f":"COUNTIF(Alcance!$E1549,H$1165)","v":0},{"$f":"COUNTIF(Alcance!$E1549,I$1165)","v":0},{"$f":"COUNTIF(Alcance!$E1549,J$1165)","v":0},{"$f":"COUNTIF(Alcance!$E1549,K$1165)","v":0},{"$f":"COUNTIF(Alcance!$E1549,L$1165)","v":0},{"$f":"COUNTIF(Alcance!$E1549,M$1165)","v":0},{"$f":"COUNTIF(Alcance!$E1549,N$1165)","v":0},{"$f":"COUNTIF(Alcance!$E1549,O$1165)","v":0},{"$f":"COUNTIF(Alcance!$E1549,P$1165)","v":0},0,0.5,null,null,0]
["Fuentes Fijas",null,"Cobalto ",null,{"$f":"COUNTIF(Alcance!$E1550,E$1165)","v":0},{"$f":"COUNTIF(Alcance!$E1550,F$1165)","v":0},{"$f":"COUNTIF(Alcance!$E1550,G$1165)","v":0},{"$f":"COUNTIF(Alcance!$E1550,H$1165)","v":0},{"$f":"COUNTIF(Alcance!$E1550,I$1165)","v":0},{"$f":"COUNTIF(Alcance!$E1550,J$1165)","v":0},{"$f":"COUNTIF(Alcance!$E1550,K$1165)","v":0},{"$f":"COUNTIF(Alcance!$E1550,L$1165)","v":0},{"$f":"COUNTIF(Alcance!$E1550,M$1165)","v":0},{"$f":"COUNTIF(Alcance!$E1550,N$1165)","v":0},{"$f":"COUNTIF(Alcance!$E1550,O$1165)","v":0},{"$f":"COUNTIF(Alcance!$E1550,P$1165)","v":0},0,0.5,null,null,0]
["Fuentes Fijas",null,"Cobre",null,{"$f":"COUNTIF(Alcance!$E1551,E$1165)","v":0},{"$f":"COUNTIF(Alcance!$E1551,F$1165)","v":0},{"$f":"COUNTIF(Alcance!$E1551,G$1165)","v":0},{"$f":"COUNTIF(Alcance!$E1551,H$1165)","v":0},{"$f":"COUNTIF(Alcance!$E1551,I$1165)","v":0},{"$f":"COUNTIF(Alcance!$E1551,J$1165)","v":0},{"$f":"COUNTIF(Alcance!$E1551,K$1165)","v":0},{"$f":"COUNTIF(Alcance!$E1551,L$1165)","v":0},{"$f":"COUNTIF(Alcance!$E1551,M$1165)","v":0},{"$f":"COUNTIF(Alcance!$E1551,N$1165)","v":0},{"$f":"COUNTIF(Alcance!$E1551,O$1165)","v":0},{"$f":"COUNTIF(Alcance!$E1551,P$1165)","v":0},0,0.5,null,null,0]
["Fuentes Fijas",null,"Plomo",null,{"$f":"COUNTIF(Alcance!$E1552,E$1165)","v":0},{"$f":"COUNTIF(Alcance!$E1552,F$1165)","v":0},{"$f":"COUNTIF(Alcance!$E1552,G$1165)","v":0},{"$f":"COUNTIF(Alcance!$E1552,H$1165)","v":0},{"$f":"COUNTIF(Alcance!$E1552,I$1165)","v":0},{"$f":"COUNTIF(Alcance!$E1552,J$1165)","v":0},{"$f":"COUNTIF(Alcance!$E1552,K$1165)","v":0},{"$f":"COUNTIF(Alcance!$E1552,L$1165)","v":0},{"$f":"COUNTIF(Alcance!$E1552,M$1165)","v":0},{"$f":"COUNTIF(Alcance!$E1552,N$1165)","v":0},{"$f":"COUNTIF(Alcance!$E1552,O$1165)","v":0},{"$f":"COUNTIF(Alcance!$E1552,P$1165)","v":0},0,0.5,null,null,0]
["Fuentes Fijas",null,"Manganeso ",null,{"$f":"COUNTIF(Alcance!$E1553,E$1165)","v":0},{"$f":"COUNTIF(Alcance!$E1553,F$1165)","v":0},{"$f":"COUNTIF(Alcance!$E1553,G$1165)","v":0},{"$f":"COUNTIF(Alcance!$E1553,H$1165)","v":0},{"$f":"COUNTIF(Alcance!$E1553,I$1165)","v":0},{"$f":"COUNTIF(Alcance!$E1553,J$1165)","v":0},{"$f":"COUNTIF(Alcance!$E1553,K$1165)","v":0},{"$f":"COUNTIF(Alcance!$E1553,L$1165)","v":0},{"$f":"COUNTIF(Alcance!$E1553,M$1165)","v":0},{"$f":"COUNTIF(Alcance!$E1553,N$1165)","v":0},{"$f":"COUNTIF(Alcance!$E1553,O$1165)","v":0},{"$f":"COUNTIF(Alcance!$E1553,P$1165)","v":0},0,0.5,null,null,0]
["Fuentes Fijas",null,"Mercurio",null,{"$f":"COUNTIF(Alcance!$E1554,E$1165)","v":0},{"$f":"COUNTIF(Alcance!$E1554,F$1165)","v":0},{"$f":"COUNTIF(Alcance!$E1554,G$1165)","v":0},{"$f":"COUNTIF(Alcance!$E1554,H$1165)","v":0},{"$f":"COUNTIF(Alcance!$E1554,I$1165)","v":0},{"$f":"COUNTIF(Alcance!$E1554,J$1165)","v":0},{"$f":"COUNTIF(Alcance!$E1554,K$1165)","v":0},{"$f":"COUNTIF(Alcance!$E1554,L$1165)","v":0},{"$f":"COUNTIF(Alcance!$E1554,M$1165)","v":0},{"$f":"COUNTIF(Alcance!$E1554,N$1165)","v":0},{"$f":"COUNTIF(Alcance!$E1554,O$1165)","v":0},{"$f":"COUNTIF(Alcance!$E1554,P$1165)","v":0},0,0.5,null,null,0]
["Fuentes Fijas",null,"Niquel ",null,{"$f":"COUNTIF(Alcance!$E1555,E$1165)","v":0},{"$f":"COUNTIF(Alcance!$E1555,F$1165)","v":0},{"$f":"COUNTIF(Alcance!$E1555,G$1165)","v":0},{"$f":"COUNTIF(Alcance!$E1555,H$1165)","v":0},{"$f":"COUNTIF(Alcance!$E1555,I$1165)","v":0},{"$f":"COUNTIF(Alcance!$E1555,J$1165)","v":0},{"$f":"COUNTIF(Alcance!$E1555,K$1165)","v":0},{"$f":"COUNTIF(Alcance!$E1555,L$1165)","v":0},{"$f":"COUNTIF(Alcance!$E1555,M$1165)","v":0},{"$f":"COUNTIF(Alcance!$E1555,N$1165)","v":0},{"$f":"COUNTIF(Alcance!$E1555,O$1165)","v":0},{"$f":"COUNTIF(Alcance!$E1555,P$1165)","v":0},0,0.5,null,null,0]
["Fuentes Fijas",null,"Fosforo ",null,{"$f":"COUNTIF(Alcance!$E1556,E$1165)","v":0},{"$f":"COUNTIF(Alcance!$E1556,F$1165)","v":0},{"$f":"COUNTIF(Alcance!$E1556,G$1165)","v":0},{"$f":"COUNTIF(Alcance!$E1556,H$1165)","v":0},{"$f":"COUNTIF(Alcance!$E1556,I$1165)","v":0},{"$f":"COUNTIF(Alcance!$E1556,J$1165)","v":0},{"$f":"COUNTIF(Alcance!$E1556,K$1165)","v":0},{"$f":"COUNTIF(Alcance!$E1556,L$1165)","v":0},{"$f":"COUNTIF(Alcance!$E1556,M$1165)","v":0},{"$f":"COUNTIF(Alcance!$E1556,N$1165)","v":0},{"$f":"COUNTIF(Alcance!$E1556,O$1165)","v":0},{"$f":"COUNTIF(Alcance!$E1556,P$1165)","v":0},0,0.5,null,null,0]
["Fuentes Fijas",null,"Selenio",null,{"$f":"COUNTIF(Alcance!$E1557,E$1165)","v":0},{"$f":"COUNTIF(Alcance!$E1557,F$1165)","v":0},{"$f":"COUNTIF(Alcance!$E1557,G$1165)","v":0},{"$f":"COUNTIF(Alcance!$E1557,H$1165)","v":0},{"$f":"COUNTIF(Alcance!$E1557,I$1165)","v":0},{"$f":"COUNTIF(Alcance!$E1557,J$1165)","v":0},{"$f":"COUNTIF(Alcance!$E1557,K$1165)","v":0},{"$f":"COUNTIF(Alcance!$E1557,L$1165)","v":0},{"$f":"COUNTIF(Alcance!$E1557,M$1165)","v":0},{"$f":"COUNTIF(Alcance!$E1557,N$1165)","v":0},{"$f":"COUNTIF(Alcance!$E1557,O$1165)","v":0},{"$f":"COUNTIF(Alcance!$E1557,P$1165)","v":0},0,0.5,null,null,0]
["Fuentes Fijas",null,"Plata",null,{"$f":"COUNTIF(Alcance!$E1558,E$1165)","v":0},{"$f":"COUNTIF(Alcance!$E1558,F$1165)","v":0},{"$f":"COUNTIF(Alcance!$E1558,G$1165)","v":0},{"$f":"COUNTIF(Alcance!$E1558,H$1165)","v":0},{"$f":"COUNTIF(Alcance!$E1558,I$1165)","v":0},{"$f":"COUNTIF(Alcance!$E1558,J$1165)","v":0},{"$f":"COUNTIF(Alcance!$E1558,K$1165)","v":0},{"$f":"COUNTIF(Alcance!$E1558,L$1165)","v":0},{"$f":"COUNTIF(Alcance!$E1558,M$1165)","v":0},{"$f":"COUNTIF(Alcance!$E1558,N$1165)","v":0},{"$f":"COUNTIF(Alcance!$E1558,O$1165)","v":0},{"$f":"COUNTIF(Alcance!$E1558,P$1165)","v":0},0,0.5,null,null,0]
["Fuentes Fijas",null,"Talio",null,{"$f":"COUNTIF(Alcance!$E1559,E$1165)","v":0},{"$f":"COUNTIF(Alcance!$E1559,F$1165)","v":0},{"$f":"COUNTIF(Alcance!$E1559,G$1165)","v":0},{"$f":"COUNTIF(Alcance!$E1559,H$1165)","v":0},{"$f":"COUNTIF(Alcance!$E1559,I$1165)","v":0},{"$f":"COUNTIF(Alcance!$E1559,J$1165)","v":0},{"$f":"COUNTIF(Alcance!$E1559,K$1165)","v":0},{"$f":"COUNTIF(Alcance!$E1559,L$1165)","v":0},{"$f":"COUNTIF(Alcance!$E1559,M$1165)","v":0},{"$f":"COUNTIF(Alcance!$E1559,N$1165)","v":0},{"$f":"COUNTIF(Alcance!$E1559,O$1165)","v":0},{"$f":"COUNTIF(Alcance!$E1559,P$1165)","v":0},0,0.5,null,null,0]
["Fuentes Fijas",null,"Zinc",null,{"$f":"COUNTIF(Alcance!$E1560,E$1165)","v":0},{"$f":"COUNTIF(Alcance!$E1560,F$1165)","v":0},{"$f":"COUNTIF(Alcance!$E1560,G$1165)","v":0},{"$f":"COUNTIF(Alcance!$E1560,H$1165)","v":0},{"$f":"COUNTIF(Alcance!$E1560,I$1165)","v":0},{"$f":"COUNTIF(Alcance!$E1560,J$1165)","v":0},{"$f":"COUNTIF(Alcance!$E1560,K$1165)","v":0},{"$f":"COUNTIF(Alcance!$E1560,L$1165)","v":0},{"$f":"COUNTIF(Alcance!$E1560,M$1165)","v":0},{"$f":"COUNTIF(Alcance!$E1560,N$1165)","v":0},{"$f":"COUNTIF(Alcance!$E1560,O$1165)","v":0},{"$f":"COUNTIF(Alcance!$E1560,P$1165)","v":0},0,0.5,null,null,0]
["Fuentes Fijas",null,"Recolección y análisis de Amonio",null,{"$f":"COUNTIF(Alcance!$E1561,E$1165)","v":0},{"$f":"COUNTIF(Alcance!$E1561,F$1165)","v":0},{"$f":"COUNTIF(Alcance!$E1561,G$1165)","v":0},{"$f":"COUNTIF(Alcance!$E1561,H$1165)","v":0},{"$f":"COUNTIF(Alcance!$E1561,I$1165)","v":0},{"$f":"COUNTIF(Alcance!$E1561,J$1165)","v":0},{"$f":"COUNTIF(Alcance!$E1561,K$1165)","v":0},{"$f":"COUNTIF(Alcance!$E1561,L$1165)","v":0},{"$f":"COUNTIF(Alcance!$E1561,M$1165)","v":0},{"$f":"COUNTIF(Alcance!$E1561,N$1165)","v":0},{"$f":"COUNTIF(Alcance!$E1561,O$1165)","v":0},{"$f":"COUNTIF(Alcance!$E1561,P$1165)","v":0},0,1.25,1,{"$f":"R1240+S1240","v":2.25},{"$f":"IF(F1240>0,R1240,IF(I1240>0,R1240,IF(L1240>0,R1240,IF(O1240>0,R1240,IF(E1240>0,S1240,IF(H1240>0,S1240,IF(K1240>0,S1240,IF(N1240>0,S1240,IF(G1240>0,T1240,IF(J1240>0,T1240,IF(M1240>0,T1240,IF(P1240>0,T1240,0))))))))))))","v":0}]
["Fuentes Fijas",null,"PM10 (USEPA 201A)",null,{"$f":"COUNTIF(Alcance!$E1562,E$1165)","v":0},{"$f":"COUNTIF(Alcance!$E1562,F$1165)","v":0},{"$f":"COUNTIF(Alcance!$E1562,G$1165)","v":0},{"$f":"COUNTIF(Alcance!$E1562,H$1165)","v":0},{"$f":"COUNTIF(Alcance!$E1562,I$1165)","v":0},{"$f":"COUNTIF(Alcance!$E1562,J$1165)","v":0},{"$f":"COUNTIF(Alcance!$E1562,K$1165)","v":0},{"$f":"COUNTIF(Alcance!$E1562,L$1165)","v":0},{"$f":"COUNTIF(Alcance!$E1562,M$1165)","v":0},{"$f":"COUNTIF(Alcance!$E1562,N$1165)","v":0},{"$f":"COUNTIF(Alcance!$E1562,O$1165)","v":0},{"$f":"COUNTIF(Alcance!$E1562,P$1165)","v":0},{"$f":"SUM(E1241:P1241)","v":0},1.25,1,{"$f":"R1241+S1241","v":2.25},{"$f":"IF(F1241>0,R1241,IF(I1241>0,R1241,IF(L1241>0,R1241,IF(O1241>0,R1241,IF(E1241>0,S1241,IF(H1241>0,S1241,IF(K1241>0,S1241,IF(N1241>0,S1241,IF(G1241>0,T1241,IF(J1241>0,T1241,IF(M1241>0,T1241,IF(P1241>0,T1241,0))))))))))))","v":0},"Total Parámetros Calculados",{"$f":"SUM(U1166:U1243)","v":0}]
["Fuentes Fijas Analitos USEPA 18",null,"Analitos usepa 18",null,{"$f":"COUNTIF(Alcance!$E$1563:$F$1587,E$1165)","v":0},{"$f":"COUNTIF(Alcance!$E$1563:$F$1587,F$1165)","v":0},{"$f":"COUNTIF(Alcance!$E$1563:$F$1587,G$1165)","v":0},{"$f":"COUNTIF(Alcance!$E$1563:$F$1587,H$1165)","v":0},{"$f":"COUNTIF(Alcance!$E$1563:$F$1587,I$1165)","v":0},{"$f":"COUNTIF(Alcance!$E$1563:$F$1587,J$1165)","v":0},{"$f":"COUNTIF(Alcance!$E$1563:$F$1587,K$1165)","v":0},{"$f":"COUNTIF(Alcance!$E$1563:$F$1587,L$1165)","v":0},{"$f":"COUNTIF(Alcance!$E$1563:$F$1587,M$1165)","v":0},{"$f":"COUNTIF(Alcance!$E$1563:$F$1587,N$1165)","v":0},{"$f":"COUNTIF(Alcance!$E$1563:$F$1587,O$1165)","v":0},{"$f":"COUNTIF(Alcance!$E$1563:$F$1587,P$1165)","v":0},{"$f":"SUM(E1242:P1242)","v":0},0.5,null,null,{"$f":"Q1242*R1242","v":0}]
["Otras variables en Fuentes Fijas",null,"Especificado por el usuario",null,{"$f":"COUNTIF(Alcance!$E$1588:$F$1604,E$1165)","v":0},{"$f":"COUNTIF(Alcance!$E$1588:$F$1604,F$1165)","v":0},{"$f":"COUNTIF(Alcance!$E$1588:$F$1604,G$1165)","v":0},{"$f":"COUNTIF(Alcance!$E$1588:$F$1604,H$1165)","v":0},{"$f":"COUNTIF(Alcance!$E$1588:$F$1604,I$1165)","v":0},{"$f":"COUNTIF(Alcance!$E$1588:$F$1604,J$1165)","v":0},{"$f":"COUNTIF(Alcance!$E$1588:$F$1604,K$1165)","v":0},{"$f":"COUNTIF(Alcance!$E$1588:$F$1604,L$1165)","v":0},{"$f":"COUNTIF(Alcance!$E$1588:$F$1604,M$1165)","v":0},{"$f":"COUNTIF(Alcance!$E$1588:$F$1604,N$1165)","v":0},{"$f":"COUNTIF(Alcance!$E$1588:$F$1604,O$1165)","v":0},{"$f":"COUNTIF(Alcance!$E$1588:$F$1604,P$1165)","v":0},{"$f":"SUM(E1243:P1243)","v":0},1.25,1,{"$f":"R1243+S1243","v":2.25},{"$f":"IF((E1243+H1243+K1243+N1243)>0,(S1243*(E1243+H1243+K1243+N1243))+(R1243*(F1243+I1243+L1243+O1243))+(T1243*(G1243+J1243+M1243+P1243)),IF((F1243+I1243+L1243+O1243)>0,(S1243*(E1243+H1243+K1243+N1243))+(R1243*(F1243+I1243+L1243+O1243))+(T1243*(G1243+J1243+M1243+P1243)),IF((G1243+J1243+M1243+P1243)>0,(S1243*(E1243+H1243+K1243+N1243))+(R1243*(F1243+I1243+L1243+O1243))+(T1243*(G1243+J1243+M1243+P1243)),0)))","v":0}]
["TOTALES",null,null,null,{"$f":"SUM(E1166:E1243)","v":0},{"$f":"SUM(F1166:F1243)","v":0},0,0,0,0,0,0,0,0,0,0,{"$f":"SUM(Q1166:Q1243)","v":0}]
[]
["MATRIZ AIRE - INMISIONES O CALIDAD DEL AIRE"]
["18. Matriz / Grupo",null,"19. Variable",null,"INICIAL - ANÁLISIS DE LABORATORIO","INICIAL - TOMA DE MUESTRA","INICIAL - TOMA DE MUESTRA Y ANÁLISIS","SEGUIMIENTO - ANÁLISIS DE LABORATORIO","SEGUIMIENTO - TOMA DE MUESTRA","SEGUIMIENTO - TOMA DE MUESTRA Y ANÁLISIS","RENOVACIÓN - ANÁLISIS DE LABORATORIO","RENOVACIÓN - TOMA DE MUESTRA","RENOVACIÓN - TOMA DE MUESTRA Y ANÁLISIS","EXTENSIÓN - ANÁLISIS DE LABORATORIO","EXTENSIÓN - TOMA DE MUESTRA","EXTENSIÓN - TOMA DE MUESTRA Y ANÁLISIS","Total Variables","Equivalencia en Parámetros","Equivalencia solo análisis",null,"Parámetros Calculados","No. De Equipos"]
["Calidad de Aire",null,"Partículas Suspendidas Totales",null,{"$f":"COUNTIF(Alcance!$E1609,E$1247)","v":0},{"$f":"COUNTIF(Alcance!$E1609,F$1247)","v":0},{"$f":"COUNTIF(Alcance!$E1609,G$1247)","v":0},{"$f":"COUNTIF(Alcance!$E1609,H$1247)","v":0},{"$f":"COUNTIF(Alcance!$E1609,I$1247)","v":0},{"$f":"COUNTIF(Alcance!$E1609,J$1247)","v":0},{"$f":"COUNTIF(Alcance!$E1609,K$1247)","v":0},{"$f":"COUNTIF(Alcance!$E1609,L$1247)","v":0},{"$f":"COUNTIF(Alcance!$E1609,M$1247)","v":0},{"$f":"COUNTIF(Alcance!$E1609,N$1247)","v":0},{"$f":"COUNTIF(Alcance!$E1609,O$1247)","v":0},{"$f":"COUNTIF(Alcance!$E1609,P$1247)","v":0},{"$f":"SUM(E1248:P1248)*[1]Alcance!I1609","v":0},0.8,1,null,{"$f":"IF(E1248>0,S1248,IF(H1248>0,S1248,IF(K1248>0,S1248,IF(N1248>0,S1248,IF(F1248>0,R1248*V1248,IF(I1248>0,R1248*V1248,IF(L1248>0,R1248*V1248,IF(O1248>0,R1248*V1248,IF(G1248>0,((R1248*V1248)+S1248),IF(J1248>0,((R1248*V1248)+S1248),IF(M1248>0,((R1248*V1248)+S1248),IF(P1248>0,((R1248*V1248)+S1248),0))))))))))))","v":0},{"$f":"Alcance!I1609","v":0}]
["Calidad de Aire",null,"Material Particulado como PM10",null,{"$f":"COUNTIF(Alcance!$E1610,E$1247)","v":0},{"$f":"COUNTIF(Alcance!$E1610,F$1247)","v":0},{"$f":"COUNTIF(Alcance!$E1610,G$1247)","v":0},{"$f":"COUNTIF(Alcance!$E1610,H$1247)","v":0},{"$f":"COUNTIF(Alcance!$E1610,I$1247)","v":0},{"$f":"COUNTIF(Alcance!$E1610,J$1247)","v":0},{"$f":"COUNTIF(Alcance!$E1610,K$1247)","v":0},{"$f":"COUNTIF(Alcance!$E1610,L$1247)","v":0},{"$f":"COUNTIF(Alcance!$E1610,M$1247)","v":0},{"$f":"COUNTIF(Alcance!$E1610,N$1247)","v":0},{"$f":"COUNTIF(Alcance!$E1610,O$1247)","v":0},{"$f":"COUNTIF(Alcance!$E1610,P$1247)","v":0},{"$f":"SUM(E1249:P1249)*[1]Alcance!I1610","v":0},0.8,1,null,0,{"$f":"Alcance!I1610","v":0}]
["Calidad de Aire",null,"Material Particulado menor a 2,5 µm -  PM2,5",null,{"$f":"COUNTIF(Alcance!$E1611,E$1247)","v":0},{"$f":"COUNTIF(Alcance!$E1611,F$1247)","v":0},{"$f":"COUNTIF(Alcance!$E1611,G$1247)","v":0},{"$f":"COUNTIF(Alcance!$E1611,H$1247)","v":0},{"$f":"COUNTIF(Alcance!$E1611,I$1247)","v":0},{"$f":"COUNTIF(Alcance!$E1611,J$1247)","v":0},{"$f":"COUNTIF(Alcance!$E1611,K$1247)","v":0},{"$f":"COUNTIF(Alcance!$E1611,L$1247)","v":0},{"$f":"COUNTIF(Alcance!$E1611,M$1247)","v":0},{"$f":"COUNTIF(Alcance!$E1611,N$1247)","v":0},{"$f":"COUNTIF(Alcance!$E1611,O$1247)","v":0},{"$f":"COUNTIF(Alcance!$E1611,P$1247)","v":0},{"$f":"SUM(E1250:P1250)*[1]Alcance!I1611","v":0},0.8,1,null,0,{"$f":"Alcance!I1611","v":0}]
["Calidad de Aire",null,"SO2",null,{"$f":"COUNTIF(Alcance!$E1612,E$1247)","v":0},{"$f":"COUNTIF(Alcance!$E1612,F$1247)","v":0},{"$f":"COUNTIF(Alcance!$E1612,G$1247)","v":0},{"$f":"COUNTIF(Alcance!$E1612,H$1247)","v":0},{"$f":"COUNTIF(Alcance!$E1612,I$1247)","v":0},{"$f":"COUNTIF(Alcance!$E1612,J$1247)","v":0},{"$f":"COUNTIF(Alcance!$E1612,K$1247)","v":0},{"$f":"COUNTIF(Alcance!$E1612,L$1247)","v":0},{"$f":"COUNTIF(Alcance!$E1612,M$1247)","v":0},{"$f":"COUNTIF(Alcance!$E1612,N$1247)","v":0},{"$f":"COUNTIF(Alcance!$E1612,O$1247)","v":0},{"$f":"COUNTIF(Alcance!$E1612,P$1247)","v":0},{"$f":"SUM(E1251:P1251)*[1]Alcance!I1612","v":0},0.8,1,null,0,{"$f":"Alcance!I1612","v":0}]
["Calidad de Aire",null,"NO2",null,{"$f":"COUNTIF(Alcance!$E1613,E$1247)","v":0},{"$f":"COUNTIF(Alcance!$E1613,F$1247)","v":0},{"$f":"COUNTIF(Alcance!$E1613,G$1247)","v":0},{"$f":"COUNTIF(Alcance!$E1613,H$1247)","v":0},{"$f":"COUNTIF(Alcance!$E1613,I$1247)","v":0},{"$f":"COUNTIF(Alcance!$E1613,J$1247)","v":0},{"$f":"COUNTIF(Alcance!$E1613,K$1247)","v":0},{"$f":"COUNTIF(Alcance!$E1613,L$1247)","v":0},{"$f":"COUNTIF(Alcance!$E1613,M$1247)","v":0},{"$f":"COUNTIF(Alcance!$E1613,N$1247)","v":0},{"$f":"COUNTIF(Alcance!$E1613,O$1247)","v":0},{"$f":"COUNTIF(Alcance!$E1613,P$1247)","v":0},{"$f":"SUM(E1252:P1252)*[1]Alcance!I1613","v":0},0.8,1,null,0,{"$f":"Alcance!I1613","v":0}]
["Calidad de Aire",null,"Monóxido de Carbono, CO",null,{"$f":"COUNTIF(Alcance!$E1614,E$1247)","v":0},{"$f":"COUNTIF(Alcance!$E1614,F$1247)","v":0},{"$f":"COUNTIF(Alcance!$E1614,G$1247)","v":0},{"$f":"COUNTIF(Alcance!$E1614,H$1247)","v":0},{"$f":"COUNTIF(Alcance!$E1614,I$1247)","v":0},{"$f":"COUNTIF(Alcance!$E1614,J$1247)","v":0},{"$f":"COUNTIF(Alcance!$E1614,K$1247)","v":0},{"$f":"COUNTIF(Alcance!$E1614,L$1247)","v":0},{"$f":"COUNTIF(Alcance!$E1614,M$1247)","v":0},{"$f":"COUNTIF(Alcance!$E1614,N$1247)","v":0},{"$f":"COUNTIF(Alcance!$E1614,O$1247)","v":0},{"$f":"COUNTIF(Alcance!$E1614,P$1247)","v":0},{"$f":"SUM(E1253:P1253)*[1]Alcance!I1614","v":0},0.8,1,null,0,{"$f":"Alcance!I1614","v":0}]
["Calidad de Aire",null,"H2S",null,{"$f":"COUNTIF(Alcance!$E1615,E$1247)","v":0},{"$f":"COUNTIF(Alcance!$E1615,F$1247)","v":0},{"$f":"COUNTIF(Alcance!$E1615,G$1247)","v":0},{"$f":"COUNTIF(Alcance!$E1615,H$1247)","v":0},{"$f":"COUNTIF(Alcance!$E1615,I$1247)","v":0},{"$f":"COUNTIF(Alcance!$E1615,J$1247)","v":0},{"$f":"COUNTIF(Alcance!$E1615,K$1247)","v":0},{"$f":"COUNTIF(Alcance!$E1615,L$1247)","v":0},{"$f":"COUNTIF(Alcance!$E1615,M$1247)","v":0},{"$f":"COUNTIF(Alcance!$E1615,N$1247)","v":0},{"$f":"COUNTIF(Alcance!$E1615,O$1247)","v":0},{"$f":"COUNTIF(Alcance!$E1615,P$1247)","v":0},{"$f":"SUM(E1254:P1254)*[1]Alcance!I1615","v":0},0.8,1,null,{"$f":"IF(E1254>0,S1254,IF(H1254>0,S1254,IF(K1254>0,S1254,IF(N1254>0,S1254,IF(F1254>0,R1254*V1254,IF(I1254>0,R1254*V1254,IF(L1254>0,R1254*V1254,IF(O1254>0,R1254*V1254,IF(G1254>0,((R1254*V1254)+S1254),IF(J1254>0,((R1254*V1254)+S1254),IF(M1254>0,((R1254*V1254)+S1254),IF(P1254>0,((R1254*V1254)+S1254),0))))))))))))","v":0},{"$f":"Alcance!I1615","v":0}]
["Calidad de Aire",null,"Plomo",null,{"$f":"COUNTIF(Alcance!$E1616,E$1247)","v":0},{"$f":"COUNTIF(Alcance!$E1616,F$1247)","v":0},{"$f":"COUNTIF(Alcance!$E1616,G$1247)","v":0},{"$f":"COUNTIF(Alcance!$E1616,H$1247)","v":0},{"$f":"COUNTIF(Alcance!$E1616,I$1247)","v":0},{"$f":"COUNTIF(Alcance!$E1616,J$1247)","v":0},{"$f":"COUNTIF(Alcance!$E1616,K$1247)","v":0},{"$f":"COUNTIF(Alcance!$E1616,L$1247)","v":0},{"$f":"COUNTIF(Alcance!$E1616,M$1247)","v":0},{"$f":"COUNTIF(Alcance!$E1616,N$1247)","v":0},{"$f":"COUNTIF(Alcance!$E1616,O$1247)","v":0},{"$f":"COUNTIF(Alcance!$E1616,P$1247)","v":0},{"$f":"SUM(E1255:P1255)*[1]Alcance!I1616","v":0},0.8,1,null,0,{"$f":"Alcance!I1616","v":0}]
["Calidad de Aire",null,"Compuestos Orgánicos Volátiles, COVs (Incluidos Hidrocarburos)",null,{"$f":"COUNTIF(Alcance!$E1617,E$1247)","v":0},{"$f":"COUNTIF(Alcance!$E1617,F$1247)","v":0},{"$f":"COUNTIF(Alcance!$E1617,G$1247)","v":0},{"$f":"COUNTIF(Alcance!$E1617,H$1247)","v":0},{"$f":"COUNTIF(Alcance!$E1617,I$1247)","v":0},{"$f":"COUNTIF(Alcance!$E1617,J$1247)","v":0},{"$f":"COUNTIF(Alcance!$E1617,K$1247)","v":0},{"$f":"COUNTIF(Alcance!$E1617,L$1247)","v":0},{"$f":"COUNTIF(Alcance!$E1617,M$1247)","v":0},{"$f":"COUNTIF(Alcance!$E1617,N$1247)","v":0},{"$f":"COUNTIF(Alcance!$E1617,O$1247)","v":0},{"$f":"COUNTIF(Alcance!$E1617,P$1247)","v":0},{"$f":"SUM(E1256:P1256)*[1]Alcance!I1617","v":0},0.8,null,null,{"$f":"Q1256*R1256","v":0},{"$f":"Alcance!I1617","v":0}]
["Calidad de Aire",null,"Olfatometría Dinámica",null,{"$f":"COUNTIF(Alcance!$E1618,E$1247)","v":0},{"$f":"COUNTIF(Alcance!$E1618,F$1247)","v":0},{"$f":"COUNTIF(Alcance!$E1618,G$1247)","v":0},{"$f":"COUNTIF(Alcance!$E1618,H$1247)","v":0},{"$f":"COUNTIF(Alcance!$E1618,I$1247)","v":0},{"$f":"COUNTIF(Alcance!$E1618,J$1247)","v":0},{"$f":"COUNTIF(Alcance!$E1618,K$1247)","v":0},{"$f":"COUNTIF(Alcance!$E1618,L$1247)","v":0},{"$f":"COUNTIF(Alcance!$E1618,M$1247)","v":0},{"$f":"COUNTIF(Alcance!$E1618,N$1247)","v":0},{"$f":"COUNTIF(Alcance!$E1618,O$1247)","v":0},{"$f":"COUNTIF(Alcance!$E1618,P$1247)","v":0},{"$f":"SUM(E1257:P1257)*[1]Alcance!I1618","v":0},2.5,null,null,0,{"$f":"Alcance!I1618","v":0}]
["Calidad de Aire",null,"Mercaptanos",null,{"$f":"COUNTIF(Alcance!$E1619,E$1247)","v":0},{"$f":"COUNTIF(Alcance!$E1619,F$1247)","v":0},{"$f":"COUNTIF(Alcance!$E1619,G$1247)","v":0},{"$f":"COUNTIF(Alcance!$E1619,H$1247)","v":0},{"$f":"COUNTIF(Alcance!$E1619,I$1247)","v":0},{"$f":"COUNTIF(Alcance!$E1619,J$1247)","v":0},{"$f":"COUNTIF(Alcance!$E1619,K$1247)","v":0},{"$f":"COUNTIF(Alcance!$E1619,L$1247)","v":0},{"$f":"COUNTIF(Alcance!$E1619,M$1247)","v":0},{"$f":"COUNTIF(Alcance!$E1619,N$1247)","v":0},{"$f":"COUNTIF(Alcance!$E1619,O$1247)","v":0},{"$f":"COUNTIF(Alcance!$E1619,P$1247)","v":0},{"$f":"SUM(E1258:P1258)*[1]Alcance!I1619","v":0},2,null,null,0,{"$f":"Alcance!I1619","v":0}]
["Calidad de Aire",null,"Azufre Total Reducido",null,{"$f":"COUNTIF(Alcance!$E1620,E$1247)","v":0},{"$f":"COUNTIF(Alcance!$E1620,F$1247)","v":0},{"$f":"COUNTIF(Alcance!$E1620,G$1247)","v":0},{"$f":"COUNTIF(Alcance!$E1620,H$1247)","v":0},{"$f":"COUNTIF(Alcance!$E1620,I$1247)","v":0},{"$f":"COUNTIF(Alcance!$E1620,J$1247)","v":0},{"$f":"COUNTIF(Alcance!$E1620,K$1247)","v":0},{"$f":"COUNTIF(Alcance!$E1620,L$1247)","v":0},{"$f":"COUNTIF(Alcance!$E1620,M$1247)","v":0},{"$f":"COUNTIF(Alcance!$E1620,N$1247)","v":0},{"$f":"COUNTIF(Alcance!$E1620,O$1247)","v":0},{"$f":"COUNTIF(Alcance!$E1620,P$1247)","v":0},{"$f":"SUM(E1259:P1259)*[1]Alcance!I1620","v":0},2,null,null,0,{"$f":"Alcance!I1620","v":0}]
["Calidad de Aire",null,"Amoniaco ",null,{"$f":"COUNTIF(Alcance!$E1621,E$1247)","v":0},{"$f":"COUNTIF(Alcance!$E1621,F$1247)","v":0},{"$f":"COUNTIF(Alcance!$E1621,G$1247)","v":0},{"$f":"COUNTIF(Alcance!$E1621,H$1247)","v":0},{"$f":"COUNTIF(Alcance!$E1621,I$1247)","v":0},{"$f":"COUNTIF(Alcance!$E1621,J$1247)","v":0},{"$f":"COUNTIF(Alcance!$E1621,K$1247)","v":0},{"$f":"COUNTIF(Alcance!$E1621,L$1247)","v":0},{"$f":"COUNTIF(Alcance!$E1621,M$1247)","v":0},{"$f":"COUNTIF(Alcance!$E1621,N$1247)","v":0},{"$f":"COUNTIF(Alcance!$E1621,O$1247)","v":0},{"$f":"COUNTIF(Alcance!$E1621,P$1247)","v":0},{"$f":"COUNTIF(Alcance!$E1621,Q$1247)","v":0},2,null,null,0,{"$f":"Alcance!I1621","v":0},"Total Parámetros Calculados",{"$f":"SUM(U1248:U1262)","v":0}]
["Calidad de Aire",null,"Analitos de COVs (incluidos hidrocarburos)",null,{"$f":"COUNTIF(Alcance!$E$1622:$F$1652,E$1247)","v":0},{"$f":"COUNTIF(Alcance!$E$1622:$F$1652,F$1247)","v":0},{"$f":"COUNTIF(Alcance!$E$1622:$F$1652,G$1247)","v":0},{"$f":"COUNTIF(Alcance!$E$1622:$F$1652,H$1247)","v":0},{"$f":"COUNTIF(Alcance!$E$1622:$F$1652,I$1247)","v":0},{"$f":"COUNTIF(Alcance!$E$1622:$F$1652,J$1247)","v":0},{"$f":"COUNTIF(Alcance!$E$1622:$F$1652,K$1247)","v":0},{"$f":"COUNTIF(Alcance!$E$1622:$F$1652,L$1247)","v":0},{"$f":"COUNTIF(Alcance!$E$1622:$F$1652,M$1247)","v":0},{"$f":"COUNTIF(Alcance!$E$1622:$F$1652,N$1247)","v":0},{"$f":"COUNTIF(Alcance!$E$1622:$F$1652,O$1247)","v":0},{"$f":"COUNTIF(Alcance!$E$1622:$F$1652,P$1247)","v":0},{"$f":"SUM(E1261:P1261)","v":0},0.5,null,null,{"$f":"Q1261*R1261","v":0},{"$f":"SUM(Alcance!I1622:I1652)","v":0}]
["Otras variables en Calidad del Aire",null,"Especificado por el usuario",null,{"$f":"COUNTIF(Alcance!$E$1653:$F$1684,E$1247)","v":0},{"$f":"COUNTIF(Alcance!$E$1653:$F$1684,F$1247)","v":0},{"$f":"COUNTIF(Alcance!$E$1653:$F$1684,G$1247)","v":0},{"$f":"COUNTIF(Alcance!$E$1653:$F$1684,H$1247)","v":0},{"$f":"COUNTIF(Alcance!$E$1653:$F$1684,I$1247)","v":0},{"$f":"COUNTIF(Alcance!$E$1653:$F$1684,J$1247)","v":0},{"$f":"COUNTIF(Alcance!$E$1653:$F$1684,K$1247)","v":0},{"$f":"COUNTIF(Alcance!$E$1653:$F$1684,L$1247)","v":0},{"$f":"COUNTIF(Alcance!$E$1653:$F$1684,M$1247)","v":0},{"$f":"COUNTIF(Alcance!$E$1653:$F$1684,N$1247)","v":0},{"$f":"COUNTIF(Alcance!$E$1653:$F$1684,O$1247)","v":0},{"$f":"COUNTIF(Alcance!$E$1653:$F$1684,P$1247)","v":0},{"$f":"SUM(E1262:P1262)","v":0},0.8,1,null,{"$f":"IF(E1262>0,S1262,IF(H1262>0,S1262,IF(K1262>0,S1262,IF(N1262>0,S1262,IF(F1262>0,R1262*V1262,IF(I1262>0,R1262*V1262,IF(L1262>0,R1262*V1262,IF(O1262>0,R1262*V1262,IF(G1262>0,((R1262*V1262)+S1262),IF(J1262>0,((R1262*V1262)+S1262),IF(M1262>0,((R1262*V1262)+S1262),IF(P1262>0,((R1262*V1262)+S1262),0))))))))))))","v":0},{"$f":"SUM(Alcance!I1653:I1684)","v":0}]
["TOTALES",null,null,null,{"$f":"SUM(E1248:E1262)","v":0},0,0,0,0,0,0,0,0,0,0,0,0]
[]
["MATRIZ RUIDO"]
["18. Matriz / Grupo",null,"19. Variable",null,"INICIAL","SEGUIMIENTO","RENOVACIÓN","EXTENSIÓN","Total Variables","Equivalencia en Parámetros","Parámetros Calculados"]
["Calidad de Aire",null,"Emisión de Ruido",null,{"$f":"COUNTIF(Alcance!$E1689,E$1266)","v":0},{"$f":"COUNTIF(Alcance!$E1689,F$1266)","v":0},{"$f":"COUNTIF(Alcance!$E1689,G$1266)","v":0},{"$f":"COUNTIF(Alcance!$E1689,H$1266)","v":0},{"$f":"SUM(E1267:H1267)","v":0},2.5,{"$f":"IF(I1267>0,J1267,0)","v":0}]
["Calidad de Aire",null,"Ruido Ambiental",null,{"$f":"COUNTIF(Alcance!$E1690,E$1266)","v":0},{"$f":"COUNTIF(Alcance!$E1690,F$1266)","v":0},{"$f":"COUNTIF(Alcance!$E1690,G$1266)","v":0},{"$f":"COUNTIF(Alcance!$E1690,H$1266)","v":0},{"$f":"SUM(E1268:H1268)","v":0},2.5,{"$f":"IF(I1268>0,J1268,0)","v":0}]
["Totales",null,null,null,{"$f":"SUM(E1267:E1268)","v":0},{"$f":"SUM(F1267:F1268)","v":0},{"$f":"SUM(G1267:G1268)","v":0},{"$f":"SUM(H1267:H1268)","v":0},{"$f":"SUM(I1267:I1268)","v":0}]
[]
["MATRIZ AIRE - INMISIONES O CALIDAD DEL AIRE - ESTACIONES AUTOMÁTICAS"]
["18. Matriz / Grupo",null,"19. Variable",null,"INICIAL - ANÁLISIS DE LABORATORIO","INICIAL - TOMA DE MUESTRA","INICIAL - TOMA DE MUESTRA Y ANÁLISIS","SEGUIMIENTO - ANÁLISIS DE LABORATORIO","SEGUIMIENTO - TOMA DE MUESTRA","SEGUIMIENTO - TOMA DE MUESTRA Y ANÁLISIS","RENOVACIÓN - ANÁLISIS DE LABORATORIO","RENOVACIÓN - TOMA DE MUESTRA","RENOVACIÓN - TOMA DE MUESTRA Y ANÁLISIS","EXTENSIÓN - ANÁLISIS DE LABORATORIO","EXTENSIÓN - TOMA DE MUESTRA","EXTENSIÓN - TOMA DE MUESTRA Y ANÁLISIS","Total Variables","Equivalencia en Parámetros",null,null,"Parámetros Calculados"]
["Estaciones Automáticas de Calidad del Aire",null,"Monóxido de Carbono Medición Directa en campo de CO",null,{"$f":"COUNTIF(Alcance!$E1695,E$1272)","v":0},{"$f":"COUNTIF(Alcance!$E1695,F$1272)","v":0},{"$f":"COUNTIF(Alcance!$E1695,G$1272)","v":0},{"$f":"COUNTIF(Alcance!$E1695,H$1272)","v":0},{"$f":"COUNTIF(Alcance!$E1695,I$1272)","v":0},{"$f":"COUNTIF(Alcance!$E1695,J$1272)","v":0},{"$f":"COUNTIF(Alcance!$E1695,K$1272)","v":0},{"$f":"COUNTIF(Alcance!$E1695,L$1272)","v":0},{"$f":"COUNTIF(Alcance!$E1695,M$1272)","v":0},{"$f":"COUNTIF(Alcance!$E1695,N$1272)","v":0},{"$f":"COUNTIF(Alcance!$E1695,O$1272)","v":0},{"$f":"COUNTIF(Alcance!$E1695,P$1272)","v":0},{"$f":"SUM(E1273:P1273)*Alcance!I1695","v":0},0.8,null,null,{"$f":"Q1273*R1273","v":0}]
["Estaciones Automáticas de Calidad del Aire",null,"Óxidos de Azufre medición directa en campo de SO2",null,{"$f":"COUNTIF(Alcance!$E1696,E$1272)","v":0},{"$f":"COUNTIF(Alcance!$E1696,F$1272)","v":0},{"$f":"COUNTIF(Alcance!$E1696,G$1272)","v":0},{"$f":"COUNTIF(Alcance!$E1696,H$1272)","v":0},{"$f":"COUNTIF(Alcance!$E1696,I$1272)","v":0},{"$f":"COUNTIF(Alcance!$E1696,J$1272)","v":0},{"$f":"COUNTIF(Alcance!$E1696,K$1272)","v":0},{"$f":"COUNTIF(Alcance!$E1696,L$1272)","v":0},{"$f":"COUNTIF(Alcance!$E1696,M$1272)","v":0},{"$f":"COUNTIF(Alcance!$E1696,N$1272)","v":0},{"$f":"COUNTIF(Alcance!$E1696,O$1272)","v":0},{"$f":"COUNTIF(Alcance!$E1696,P$1272)","v":0},{"$f":"SUM(E1274:P1274)*Alcance!I1696","v":0},0.8,null,null,{"$f":"Q1274*R1274","v":0}]
["Estaciones Automáticas de Calidad del Aire",null,"Óxidos de Nitrógeno Medición Directa en campo de NO/NO2/NOX",null,{"$f":"COUNTIF(Alcance!$E1697,E$1272)","v":0},{"$f":"COUNTIF(Alcance!$E1697,F$1272)","v":0},{"$f":"COUNTIF(Alcance!$E1697,G$1272)","v":0},{"$f":"COUNTIF(Alcance!$E1697,H$1272)","v":0},{"$f":"COUNTIF(Alcance!$E1697,I$1272)","v":0},{"$f":"COUNTIF(Alcance!$E1697,J$1272)","v":0},{"$f":"COUNTIF(Alcance!$E1697,K$1272)","v":0},{"$f":"COUNTIF(Alcance!$E1697,L$1272)","v":0},{"$f":"COUNTIF(Alcance!$E1697,M$1272)","v":0},{"$f":"COUNTIF(Alcance!$E1697,N$1272)","v":0},{"$f":"COUNTIF(Alcance!$E1697,O$1272)","v":0},{"$f":"COUNTIF(Alcance!$E1697,P$1272)","v":0},{"$f":"SUM(E1275:P1275)*Alcance!I1697","v":0},0.8,null,null,{"$f":"Q1275*R1275","v":0}]
["Estaciones Automáticas de Calidad del Aire",null,"Ozono Medición directa en campo de O3",null,{"$f":"COUNTIF(Alcance!$E1698,E$1272)","v":0},{"$f":"COUNTIF(Alcance!$E1698,F$1272)","v":0},{"$f":"COUNTIF(Alcance!$E1698,G$1272)","v":0},{"$f":"COUNTIF(Alcance!$E1698,H$1272)","v":0},{"$f":"COUNTIF(Alcance!$E1698,I$1272)","v":0},{"$f":"COUNTIF(Alcance!$E1698,J$1272)","v":0},{"$f":"COUNTIF(Alcance!$E1698,K$1272)","v":0},{"$f":"COUNTIF(Alcance!$E1698,L$1272)","v":0},{"$f":"COUNTIF(Alcance!$E1698,M$1272)","v":0},{"$f":"COUNTIF(Alcance!$E1698,N$1272)","v":0},{"$f":"COUNTIF(Alcance!$E1698,O$1272)","v":0},{"$f":"COUNTIF(Alcance!$E1698,P$1272)","v":0},{"$f":"SUM(E1276:P1276)*Alcance!I1698","v":0},0.8,null,null,0]
["Estaciones Automáticas de Calidad del Aire",null,"Material Particulado menor a 10 µm - PM10 automático ",null,{"$f":"COUNTIF(Alcance!$E1699,E$1272)","v":0},{"$f":"COUNTIF(Alcance!$E1699,F$1272)","v":0},{"$f":"COUNTIF(Alcance!$E1699,G$1272)","v":0},{"$f":"COUNTIF(Alcance!$E1699,H$1272)","v":0},{"$f":"COUNTIF(Alcance!$E1699,I$1272)","v":0},{"$f":"COUNTIF(Alcance!$E1699,J$1272)","v":0},{"$f":"COUNTIF(Alcance!$E1699,K$1272)","v":0},{"$f":"COUNTIF(Alcance!$E1699,L$1272)","v":0},{"$f":"COUNTIF(Alcance!$E1699,M$1272)","v":0},{"$f":"COUNTIF(Alcance!$E1699,N$1272)","v":0},{"$f":"COUNTIF(Alcance!$E1699,O$1272)","v":0},{"$f":"COUNTIF(Alcance!$E1699,P$1272)","v":0},{"$f":"SUM(E1277:P1277)*Alcance!I1699","v":0},0.8,null,null,0]
["Estaciones Automáticas de Calidad del Aire",null,"Material Particulado menor a 2,5 µm - PM2,5 automático ",null,{"$f":"COUNTIF(Alcance!$E1700,E$1272)","v":0},{"$f":"COUNTIF(Alcance!$E1700,F$1272)","v":0},{"$f":"COUNTIF(Alcance!$E1700,G$1272)","v":0},{"$f":"COUNTIF(Alcance!$E1700,H$1272)","v":0},{"$f":"COUNTIF(Alcance!$E1700,I$1272)","v":0},{"$f":"COUNTIF(Alcance!$E1700,J$1272)","v":0},{"$f":"COUNTIF(Alcance!$E1700,K$1272)","v":0},{"$f":"COUNTIF(Alcance!$E1700,L$1272)","v":0},{"$f":"COUNTIF(Alcance!$E1700,M$1272)","v":0},{"$f":"COUNTIF(Alcance!$E1700,N$1272)","v":0},{"$f":"COUNTIF(Alcance!$E1700,O$1272)","v":0},{"$f":"COUNTIF(Alcance!$E1700,P$1272)","v":0},{"$f":"SUM(E1278:P1278)*Alcance!I1700","v":0},0.8,null,null,{"$f":"Q1278*R1278","v":0},"Total Parámetros Calculados",{"$f":"SUM(U1273:U1279)","v":0}]
["Variables adicionales para Estaciones Automáticas de Calidad del Aire",null,"Especificado por el usuario",null,{"$f":"COUNTIF(Alcance!$E$1701:$F$1714,E$1272)","v":0},{"$f":"COUNTIF(Alcance!$E$1701:$F$1714,F$1272)","v":0},{"$f":"COUNTIF(Alcance!$E$1701:$F$1714,G$1272)","v":0},{"$f":"COUNTIF(Alcance!$E$1701:$F$1714,H$1272)","v":0},{"$f":"COUNTIF(Alcance!$E$1701:$F$1714,I$1272)","v":0},{"$f":"COUNTIF(Alcance!$E$1701:$F$1714,J$1272)","v":0},{"$f":"COUNTIF(Alcance!$E$1701:$F$1714,K$1272)","v":0},{"$f":"COUNTIF(Alcance!$E$1701:$F$1714,L$1272)","v":0},{"$f":"COUNTIF(Alcance!$E$1701:$F$1714,M$1272)","v":0},{"$f":"COUNTIF(Alcance!$E$1701:$F$1714,N$1272)","v":0},{"$f":"COUNTIF(Alcance!$E$1701:$F$1714,O$1272)","v":0},{"$f":"COUNTIF(Alcance!$E$1701:$F$1714,P$1272)","v":0},{"$f":"SUM(E1279:P1279)*SUM(Alcance!I1701:I1714)","v":0},0.8,null,null,{"$f":"Q1279*R1279","v":0}]
["TOTALES",null,null,null,{"$f":"SUM(E1273:E1279)","v":0},{"$f":"SUM(F1273:F1279)","v":0},0,0,0,0,0,0,0,0,{"$f":"SUM(O1273:O1279)","v":0},{"$f":"SUM(P1273:P1279)","v":0},{"$f":"SUM(Q1273:Q1279)","v":0}]

{"sheet":"Cotizacion","index":2,"n_rows":186,"n_cols":32,"rows_kept":186,"cut":false,"hidden":false,"merged":[[165,0,165,2],[165,4,165,7],[166,0,166,1],[166,4,166,5],[166,7,167,7],[167,0,167,1],[167,4,167,5],[14,6,14,7],[15,0,15,7],[17,0,17,7],[19,0,22,1],[19,4,22,4],[19,5,22,5],[19,6,22,6],[19,7,22,7],[95,0,95,7],[83,0,86,1],[83,4,86,4],[83,5,86,5],[83,6,86,6],[83,7,86,7],[24,4,27,4],[14,0,14,5],[47,0,50,1],[47,4,50,4],[47,5,50,5],[47,6,50,6],[47,7,50,7],[24,5,27,5],[24,6,27,6],[24,7,27,7],[7,0,7,5],[7,6,7,7],[0,0,3,1],[0,2,3,6],[4,0,4,7],[5,0,5,3],[5,4,5,7],[6,0,6,7],[13,0,13,5],[13,6,13,7],[8,0,8,5],[8,6,8,7],[9,0,9,5],[9,6,9,7],[10,6,10,7],[11,0,11,2],[11,3,11,5],[11,6,11,7],[12,6,12,7],[10,0,10,5],[12,0,12,2],[12,3,12,5],[24,0,27,1],[71,7,74,7],[89,0,92,1],[92,2,92,4],[92,6,92,7],[41,0,44,1],[41,4,44,4],[41,5,44,5],[41,6,44,6],[41,7,44,7],[35,0,38,1],[35,4,38,4],[35,5,38,5],[35,6,38,6],[35,7,38,7],[53,0,56,1],[53,4,56,4],[53,5,56,5],[53,6,56,6],[53,7,56,7],[177,1,177,8],[178,1,178,8],[29,0,32,1],[29,4,32,4],[29,5,32,5],[29,6,32,6],[29,7,32,7],[102,0,102,9],[103,1,105,1],[117,0,117,8],[128,0,134,7],[150,0,156,7],[97,0,97,2],[97,5,97,6],[98,5,98,6],[99,5,99,6],[100,0,100,2],[176,1,176,8],[168,0,168,1],[171,2,171,4],[172,2,172,3],[173,2,173,3],[174,2,174,3],[162,0,162,8],[80,8,80,9],[139,0,139,8],[59,0,62,1],[59,4,62,4],[59,5,62,5],[59,6,62,6],[59,7,62,7],[65,0,68,1],[65,4,68,4],[65,5,68,5],[77,0,80,1],[80,2,80,4],[80,6,80,7],[65,6,68,6],[65,7,68,7],[71,0,74,1],[71,4,74,4],[71,5,74,5],[71,6,74,6],[92,8,92,9],[185,1,185,2],[184,1,184,2],[182,1,182,2],[181,1,181,2],[185,3,185,5],[184,3,184,5],[182,3,182,5],[181,3,181,5],[180,0,180,5]]}
[null,null,"FORMATO COTIZACIÓN",null,null,null,null,"CÓDIGO:E-SGI-AC-F032"]
[null,null,null,null,null,null,null,"VERSIÓN: 001"]
[null,null,null,null,null,null,null,"FECHA: 27/03/2019"]
[null,null,null,null,null,null,null,"PÁGINA: 1 DE  2"]
[]
["Radicado No.                                                      ",null,null,null,"  Auto de Inicio No. "]
["A.           IDENTIFICACION DEL ORGANISMO DE EVALUACION DE LA CONFORMIDAD – OEC"]
["1. Razón Social:",null,null,null,null,null,"2. NIT:"]
[]
["3. Dirección",null,null,null,null,null,"4. Ciudad / Municipio"]
[]
["5. Departamento:",null,null,"6. Teléfono / FAX:",null,null,"7. Correo Electrónico:"]
[]
["8. Representante Legal:",null,null,null,null,null,"9. C.C.:"]
[" "]
["B.           TIPO DE SOLICITUD: "]
["Acreditación Inicial:",null,"Seguimiento de Acreditación:",null,"Renovación de Acreditación:",null,"Extensión de Acreditación:"]
["C.           VARIABLES A ACREDITAR"]
[]
["Número Variables en Agua Continentales",null,"INICIAL",{"$f":"'Conteo y Equivalencias'!E374","v":0},"TOTAL",{"$f":"'Conteo y Equivalencias'!I374","v":0},"Número Total de Parámetros",{"$f":"SUM('Conteo y Equivalencias'!K4:K373)","v":0}]
[null,null,"SEGUIMIENTO",{"$f":"'Conteo y Equivalencias'!F374","v":0}]
[null,null,"RENOVACIÓN",{"$f":"'Conteo y Equivalencias'!G374","v":0}]
[null,null,"EXTENSIÓN",{"$f":"'Conteo y Equivalencias'!H374","v":0}]
[]
["Número Variables en Agua Marinas",null,"INICIAL",{"$f":"'Conteo y Equivalencias'!E712","v":0},"TOTAL",{"$f":"'Conteo y Equivalencias'!I712","v":0},"Número Total de Parámetros",{"$f":"'Conteo y Equivalencias'!M711","v":0}]
[null,null,"SEGUIMIENTO",{"$f":"'Conteo y Equivalencias'!F712","v":0}]
[null,null,"RENOVACIÓN",{"$f":"'Conteo y Equivalencias'!G712","v":0}]
[null,null,"EXTENSIÓN",{"$f":"'Conteo y Equivalencias'!H712","v":0}]
[]
["Número de Variables en Residuos Peligrosos",null,"INICIAL",{"$f":"'Conteo y Equivalencias'!E822","v":0},"TOTAL",{"$f":"'Conteo y Equivalencias'!I822","v":0},"Número Total de Parámetros",{"$f":"SUM('Conteo y Equivalencias'!K716:K821)","v":0}]
[null,null,"SEGUIMIENTO",{"$f":"'Conteo y Equivalencias'!F822","v":0}]
[null,null,"RENOVACIÓN",{"$f":"'Conteo y Equivalencias'!G822","v":0}]
[null,null,"EXTENSIÓN",{"$f":"'Conteo y Equivalencias'!H822","v":0}]
[]
[]
["Número de Variables en Biota",null,"INICIAL",{"$f":"'Conteo y Equivalencias'!E867","v":0},"TOTAL",{"$f":"'Conteo y Equivalencias'!I867","v":0},"Número Total de Parámetros",{"$f":"SUM('Conteo y Equivalencias'!K826:K866)","v":0}]
[null,null,"SEGUIMIENTO",{"$f":"'Conteo y Equivalencias'!F867","v":0}]
[null,null,"RENOVACIÓN",{"$f":"'Conteo y Equivalencias'!G867","v":0}]
[null,null,"EXTENSIÓN",{"$f":"'Conteo y Equivalencias'!H867","v":0}]
[]
[]
["Número de Variables en Aceites de Transformador y/o Superficies sólidas",null,"INICIAL",{"$f":"'Conteo y Equivalencias'!E890","v":0},"TOTAL",{"$f":"'Conteo y Equivalencias'!I890","v":0},"Número Total de Parámetros",{"$f":"SUM('Conteo y Equivalencias'!K871:K889)","v":0}]
[null,null,"SEGUIMIENTO",{"$f":"'Conteo y Equivalencias'!F890","v":0}]
[null,null,"RENOVACIÓN",{"$f":"'Conteo y Equivalencias'!G890","v":0}]
[null,null,"EXTENSIÓN",{"$f":"'Conteo y Equivalencias'!H890","v":0}]
[]
[]
["Número de Variables en Suelo",null,"INICIAL",{"$f":"'Conteo y Equivalencias'!E1026","v":0},"TOTAL",{"$f":"'Conteo y Equivalencias'!I1026","v":0},"Número Total de Parámetros",{"$f":"SUM('Conteo y Equivalencias'!K894:K1025)","v":0}]
[null,null,"SEGUIMIENTO",{"$f":"'Conteo y Equivalencias'!F1026","v":0}]
[null,null,"RENOVACIÓN",{"$f":"'Conteo y Equivalencias'!G1026","v":0}]
[null,null,"EXTENSIÓN",{"$f":"'Conteo y Equivalencias'!H1026","v":0}]
[]
[]
["Número de Variables en Lodo",null,"INICIAL",{"$f":"'Conteo y Equivalencias'!E1063","v":0},"TOTAL",{"$f":"'Conteo y Equivalencias'!I1063","v":0},"Número Total de Parámetros",{"$f":"SUM('Conteo y Equivalencias'!K1030:K1062)","v":0}]
[null,null,"SEGUIMIENTO",{"$f":"'Conteo y Equivalencias'!F1063","v":0}]
[null,null,"RENOVACIÓN",{"$f":"'Conteo y Equivalencias'!G1063","v":0}]
[null,null,"EXTENSIÓN",{"$f":"'Conteo y Equivalencias'!H1063","v":0}]
[]
[]
["Número de Variables en Sedimento",null,"INICIAL",{"$f":"'Conteo y Equivalencias'!E1111","v":0},"TOTAL",{"$f":"'Conteo y Equivalencias'!I1111","v":0},"Número Total de Parámetros",{"$f":"'Conteo y Equivalencias'!M1110","v":0}]
[null,null,"SEGUIMIENTO",{"$f":"'Conteo y Equivalencias'!F1111","v":0}]
[null,null,"RENOVACIÓN",{"$f":"'Conteo y Equivalencias'!G1111","v":0}]
[null,null,"EXTENSIÓN",{"$f":"'Conteo y Equivalencias'!H1111","v":0}]
[]
[]
["Número de Variables en Sedimento Marinos",null,"INICIAL",{"$f":"'Conteo y Equivalencias'!E1152","v":0},"TOTAL",{"$f":"'Conteo y Equivalencias'!I1152","v":0},"Número Total de Parámetros",{"$f":"'Conteo y Equivalencias'!M1151","v":0}]
[null,null,"SEGUIMIENTO",{"$f":"'Conteo y Equivalencias'!F1152","v":0}]
[null,null,"RENOVACIÓN",{"$f":"'Conteo y Equivalencias'!G1152","v":0}]
[null,null,"EXTENSIÓN",{"$f":"'Conteo y Equivalencias'!H1152","v":0}]
[]
[]
["Número de Variables en Biósolidos",null,"INICIAL",{"$f":"'Conteo y Equivalencias'!E1162","v":0},"TOTAL",{"$f":"'Conteo y Equivalencias'!I1162","v":0},"Número Total de Parámetros",{"$f":"'Conteo y Equivalencias'!M1161","v":0}]
[null,null,"SEGUIMIENTO",{"$f":"'Conteo y Equivalencias'!F1162","v":0}]
[null,null,"RENOVACIÓN",{"$f":"'Conteo y Equivalencias'!G1162","v":0}]
[null,null,"EXTENSIÓN",{"$f":"'Conteo y Equivalencias'!H1162","v":0}]
[]
[]
["Número de Variables en Fuentes Fijas",null,"INICIAL - TOMA DE MUESTRA",{"$f":"'Conteo y Equivalencias'!F1244","v":0},"SEGUIMIENTO - TOMA DE MUESTRA",{"$f":"'Conteo y Equivalencias'!I1244","v":0},"RENOVACIÓN - TOMA DE MUESTRA",{"$f":"'Conteo y Equivalencias'!L1244","v":0},"EXTENSIÓN - TOMA DE MUESTRA",{"$f":"'Conteo y Equivalencias'!O1244","v":0}]
[null,null,"INICIAL - ANÁLISIS DE LABORATORIO",{"$f":"'[1]Conteo y Equivalencias'!E1244","v":0},"SEGUIMIENTO - ANÁLISIS DE LABORATORIO",{"$f":"'Conteo y Equivalencias'!H1244","v":0},"RENOVACIÓN - ANÁLISIS DE LABORATORIO",{"$f":"'Conteo y Equivalencias'!K1244","v":0},"EXTENSIÓN - ANÁLISIS DE LABORATORIO",{"$f":"'Conteo y Equivalencias'!N1244","v":0}]
[null,null,"INICIAL - TOMA DE MUESTRA Y ANÁLISIS",{"$f":"'Conteo y Equivalencias'!G1244","v":0},"SEGUIMIENTO - TOMA DE MUESTRA Y ANÁLISIS",{"$f":"'Conteo y Equivalencias'!J1244","v":0},"RENOVACIÓN - TOMA DE MUESTRA Y ANÁLISIS",{"$f":"'Conteo y Equivalencias'!M1244","v":0},"EXTENSIÓN - TOMA DE MUESTRA Y ANÁLISIS",{"$f":"'Conteo y Equivalencias'!P1244","v":0}]
[null,null,"TOTAL",null,null,{"$f":"'Conteo y Equivalencias'!Q1244","v":0},"Número Total de Parámetros",null,{"$f":"SUM('Conteo y Equivalencias'!U1166:U1243)","v":0}]
[]
[]
["Número de Variables en Ruido",null,"INICIAL",{"$f":"'Conteo y Equivalencias'!E1269","v":0},"TOTAL",{"$f":"'Conteo y Equivalencias'!I1269","v":0},"Número Total de Parámetros",{"$f":"SUM('Conteo y Equivalencias'!K1267:K1268)","v":0}]
[null,null,"SEGUIMIENTO",{"$f":"'Conteo y Equivalencias'!F1269","v":0}]
[null,null,"RENOVACIÓN",{"$f":"'Conteo y Equivalencias'!G1269","v":0}]
[null,null,"EXTENSIÓN",{"$f":"'Conteo y Equivalencias'!H1269","v":0}]
[]
[]
["Número de Variables en Calidad del Aire (Incluye Olores Ofensivos)",null,"INICIAL - TOMA DE MUESTRA",{"$f":"'Conteo y Equivalencias'!F1263+'Conteo y Equivalencias'!F1280","v":0},"SEGUIMIENTO - TOMA DE MUESTRA",{"$f":"'Conteo y Equivalencias'!I1263+'Conteo y Equivalencias'!I1280","v":0},"RENOVACIÓN - TOMA DE MUESTRA",{"$f":"'Conteo y Equivalencias'!L1263+'Conteo y Equivalencias'!L1280","v":0},"EXTENSIÓN - TOMA DE MUESTRA",{"$f":"'Conteo y Equivalencias'!O1263+'Conteo y Equivalencias'!O1280","v":0}]
[null,null,"INICIAL - ANÁLISIS DE LABORATORIO",{"$f":"'Conteo y Equivalencias'!E1263+'Conteo y Equivalencias'!E1280","v":0},"SEGUIMIENTO - ANÁLISIS DE LABORATORIO",{"$f":"'Conteo y Equivalencias'!H1263+'Conteo y Equivalencias'!H1280","v":0},"RENOVACIÓN - ANÁLISIS DE LABORATORIO",{"$f":"'Conteo y Equivalencias'!K1263+'Conteo y Equivalencias'!K1280","v":0},"EXTENSIÓN - ANÁLISIS DE LABORATORIO",{"$f":"'Conteo y Equivalencias'!N1263+'Conteo y Equivalencias'!N1280","v":0}]
[null,null,"INICIAL - TOMA DE MUESTRA Y ANÁLISIS",{"$f":"'Conteo y Equivalencias'!G1263+'Conteo y Equivalencias'!G1280","v":0},"SEGUIMIENTO - TOMA DE MUESTRA Y ANÁLISIS",{"$f":"'Conteo y Equivalencias'!J1263+'Conteo y Equivalencias'!J1280","v":0},"RENOVACIÓN - TOMA DE MUESTRA Y ANÁLISIS",{"$f":"'Conteo y Equivalencias'!M1263+'Conteo y Equivalencias'!M1280","v":0},"EXTENSIÓN - TOMA DE MUESTRA Y ANÁLISIS",{"$f":"'Conteo y Equivalencias'!P1263+'Conteo y Equivalencias'!P1280","v":0}]
[null,null,"TOTAL",null,null,{"$f":"'Conteo y Equivalencias'!Q1263+'Conteo y Equivalencias'!Q1280","v":0},"Número Total de Parámetros",null,{"$f":"SUM('Conteo y Equivalencias'!U1248:U1262)+SUM('Conteo y Equivalencias'!U1273:U1279)","v":0}]
[]
[]
["D.           DURACIÓN Y COSTOS DE LA EVALUACIÓN"]
[]
["Número Total de Parámetros a evaluar",null,null,{"$f":"ROUNDUP($I$93+$I$81+$H$60+$H$54+$H$48+$H$42+$H$36+$H$30+$H$20+H84+H72+H66+H25,0)","v":0},null,"Número de días de evaluación in situ",null,{"$f":"IF($D$98<=10,2,IF($D$98<=20,3,IF($D$98<=30,4,ROUNDUP(($D$98/10)+1,1))))","v":2}]
[null,null,null,null,null,"Número Total de Días de Evaluación",null,{"$f":"$H$98+2","v":4}]
[null,null,null,null,null,"Costo Total de la Evaluación",null,{"$f":"HLOOKUP($H$98+2,$C$105:$AF$115,11)","v":7366010}]
["¿La visita se desarrollará fuera de Bogotá D.C.?",null,null,"Sí"]
[]
["COSTO DE LA EVALUACIÓN"]
["Nº Parámetros","VALOR DIARIO","1-10","11-20","21-30","31-40","41-50","51-60","61-70","71-80","281-290","291-300","301-310","311-320","321-330","331-340","341-350","351-360","361-370","371-380","381-390","391-400","401-410","411-420","421-430","431-440","441-450","451-460","461-470","471-480","481-490","491-500"]
["Días totales de evaluación",null,4,5,6,7,8,9,10,11,32,33,34,35,36,37,38,39,40,41,42,43,44,45,46,47,48,49,50,51,52,52]
["Días de visita (In Situ)",null,2,3,4,5,6,7,8,9,30,31,32,33,34,35,36,37,38,39,40,41,42,43,44,45,46,47,48,49,50,50]
["Honorarios líder",737717,{"$f":"$B$107*C105","v":2950868},{"$f":"$B$107*D105","v":3688585},4426302,5164019,5901736,6639453,7377170,8114887,23606944,24344661,25082378,25820095,26557812,27295529,28033246,28770963,29508680,30246397,30984114,31721831,32459548,33197265,33934982,34672699,35410416,36148133,36885850,37623567,38361284,38361284]
["Honorarios asistente 1",{"$f":"+B107/2","v":368858.5},{"$f":"$B$108*C105","v":1475434},{"$f":"$B$108*D105","v":1844292.5},2213151,2582009.5,2950868,3319726.5,3688585,4057443.5,11803472,12172330.5,12541189,12910047.5,13278906,13647764.5,14016623,14385481.5,14754340,15123198.5,15492057,15860915.5,16229774,16598632.5,16967491,17336349.5,17705208,18074066.5,18442925,18811783.5,19180642,19180642]
["Viáticos líder",220349,0,0,0,0,0,0,0,0,0,0,0,0,0,0,0,0,0,0,0,0,0,0,0,0,0,0,0,0,0,0]
["Viáticos asistente 1",220349,0,0,0,0,0,0,0,0,0,0,0,0,0,0,0,0,0,0,0,0,0,0,0,0,0,0,0,0,0,0]
["Sub-total",{"$f":"SUM(B107:B110)","v":1547273.5},{"$f":"SUM(C107:C110)","v":4426302},{"$f":"SUM(D107:D110)","v":5532877.5},6639453,7746028.5,8852604,9959179.5,11065755,12172330.5,35410416,36516991.5,37623567,38730142.5,39836718,40943293.5,42049869,43156444.5,44263020,45369595.5,46476171,47582746.5,48689322,49795897.5,50902473,52009048.5,53115624,54222199.5,55328775,56435350.5,57541926,57541926]
["Costo administrativo 20%",{"$f":"+B111*0.2","v":309454.7},{"$f":"C111*0.2","v":885260.4},{"$f":"D111*0.2","v":1106575.5},1327890.6000000001,1549205.7000000002,1770520.8,1991835.9000000001,2213151,2434466.1,7082083.2000000002,7303398.3000000007,7524713.4000000004,7746028.5,7967343.6000000006,8188658.7000000002,8409973.8000000007,8631288.9000000004,8852604,9073919.0999999996,9295234.2000000011,9516549.3000000007,9737864.4000000004,9959179.5,10180494.600000001,10401809.700000001,10623124.800000001,10844439.9,11065755,11287070.100000001,11508385.200000001,11508385.200000001]
["Total",{"$f":"MROUND(SUM(B111:B112),1)","v":1856728},{"$f":"IF($D$101=\"Sí\",MROUND(C116*$B$113,1),MROUND(SUM(C111:C112),1))","v":6350010},{"$f":"IF($D$101=\"Sí\",MROUND(D116*$B$113,1),MROUND(SUM(D111:D112),1))","v":8206738},10063466,11920194,13776922,15633650,17490378,19347106,58338394,60195122,62051850,63908578,65765306,67622034,69478762,71335490,73192218,75048946,76905674,78762402,80619130,82475858,84332586,86189314,88046042,89902770,91759498,93616226,95472954,95472954]
["IVA 16% (SIIF Nación)",{"$f":"MROUND(B113*0.16,10)","v":297080},{"$f":"MROUND(C113*0.16,10)","v":1016000},{"$f":"MROUND(D113*0.16,10)","v":1313080},{"$f":"MROUND(E113*0.16,10)","v":1610150},1907230,2204310,2501380,2798460,3095540,9334140,9631220,9928300,10225370,10522450,10819530,11116600,11413680,11710750,12007830,12304910,12601980,12899060,13196140,13493210,13790290,14087370,14384440,14681520,14978600,15275670,15275670]
["GRAN TOTAL",{"$f":"SUM(B113:B114)","v":2153808},{"$f":"SUM(C113:C114)","v":7366010},{"$f":"SUM(D113:D114)","v":9519818},11673616,13827424,15981232,18135030,20288838,22442646,67672534,69826342,71980150,74133948,76287756,78441564,80595362,82749170,84902968,87056776,89210584,91364382,93518190,95671998,97825796,99979604,102133412,104287210,106441018,108594826,110748624,110748624]
["Factor Equivalencia",0.57999999999999996,{"$f":"C105-$B$116","v":3.42},{"$f":"D105-$B$116","v":4.42},5.42,6.42,7.42,8.42,9.42,10.42,31.42,32.42,33.42,34.42,35.42,36.42,37.42,38.42,39.42,40.42,41.42,42.42,43.42,44.42,45.42,46.42,47.42,48.42,49.42,50.42,51.42,51.42]
[]
["E.          CONSIDERACIONES PARA ADICIONAR TIEMPO A LA COTIZACIÓN"]
[]
["Teniendo en cuenta los desplazamientos necesarios para la realización de las actividades de toma de muestra / muestreo se considera necesario adicionar:",null,null,null,null,null,null,0,"días."]
[]
["Con base en las consideraciones realizadas en el Acto de Inicio se considera necesario adicionar:",null,null,null,null,null,null,0,"días."]
[]
["Considerando la capacidad operativa del OEC se hace necesaria la adición de:",null,null,null,null,null,null,0,"días."]
[]
["Por solicitud propia realizada mediante el radicado No.",null,null,null,"con fecha:",null,"Se realiza la adición de:",0,"días."]
[]
["Consideraciones/ Observaciones del Evaluador de la cotización:"]
[]
[]
[]
[]
[]
[]
[]
[]
["Con base en lo anterior se hace necesaria la adición de:",null,null,null,null,null,null,null,"días."]
[]
[]
["F.          CONSIDERACIONES PARA RETIRAR TIEMPO A LA COTIZACIÓN"]
[]
["Teniendo en cuenta los desplazamientos necesarios para la realización de las actividades de toma de muestra / muestreo se considera necesario retirar:",null,null,null,null,null,null,0,"días."]
[]
["Con base en las consideraciones realizadas en el Acto de Inicio se considera necesario retirar:",null,null,null,null,null,null,0,"días."]
[]
["Considerando la capacidad operativa del OEC se hace necesario retirar de la cotización:",null,null,null,null,null,null,0,"días."]
[]
["Por solicitud propia realizada mediante el radicado No.",null,null,null,"con fecha:",null,"Se retiran de la cotización:",0,"días."]
[]
["Consideraciones/ Observaciones del Evaluador de la cotización:"]
["Nota: Recuerde que si es un seguimiento en resolución 268 debe aplicar el programa R para muestreo aleatorio."]
[]
[]
[]
[]
[]
[]
[]
["Con base en lo anterior se hace necesario retirar de la cotización:",null,null,null,null,null,null,null,"días."]
[]
[]
[]
["G.         COSTOS Y DURACIÓN DE LA EVALUACIÓN  CONSIDERANDO LOS CAMBIOS PLANTEADOS"]
[]
[]
["Costos y Duración Inicial de la Evaluación",null,null,null,"Resumen de Cambios Planteados"]
["Número de días de evaluación in situ",null,{"$f":"H98","v":2},null,"Número de días que se deben adicionar",null,{"$f":"H137+H126+H124+H122+H120","v":0},"Días"]
["Número Total de Días de Evaluación",null,{"$f":"H99","v":4},null,"Número de días que se deben retirar",null,{"$f":"H159+H148+H146+H144+H142","v":0}]
["Costo Total de la Evaluación",null,{"$f":"H100","v":7366010}]
[]
[]
[null,null,"Costos y Duración de la Evaluación Considerando los Cambios Planteados"]
[null,null,"Nuevo Número de Días de evaluación in situ",null,{"$f":"IF(ROUNDUP(C167+(G167-G168),0)<2,2,ROUNDUP(C167+G167-G168,0))","v":2}]
[null,null,"Nuevo Número Total de Días de evaluación",null,{"$f":"E173+2","v":4}]
[null,null,"Nuevo Costo de la Evaluación",null,{"$f":"HLOOKUP($E$173+2,$C$105:$AF$115,11)","v":7366010}]
[]
["PROYECTADO POR:"]
["REVISADO POR:"]
["FECHA:"]
[]
["HISTORIAL DE CAMBIOS (Esta parte no debe diligenciarse. Hace parte permanente del formato)"]
["VERSIÓN","FECHA",null,"DESCRIPCIÓN"]
["001","2019-03-27",null,"Oficialización del documento en el SGI del Instituto."]
[]
["ELABORÓ","REVISÓ:",null,"APROBÓ:"]
["Diana Faride Fandino\nGrupo de Acreditación","Néstor Alejandro Gómez Guerrero\nCoordinador Grupo de Acreditación",null,"Diana Marcela Vargas Galvis\nSubdirectora de Estudios Ambientales"]

{"sheet":"Resumen del Alcance","index":3,"n_rows":57,"n_cols":9,"rows_kept":57,"cut":false,"hidden":false,"merged":[[1,0,1,7],[2,0,2,7],[3,0,3,1],[3,2,3,3],[3,4,3,5],[3,6,3,7],[4,0,4,7],[5,0,5,7],[6,0,6,7],[7,0,7,1],[7,2,7,3],[7,4,7,5],[7,6,7,7],[14,0,14,7],[10,0,10,7],[11,0,11,7],[12,0,12,1],[12,2,12,3],[12,4,12,5],[12,6,12,7],[18,0,18,7],[15,0,15,7],[16,0,16,1],[16,2,16,3],[16,4,16,5],[16,6,16,7],[22,0,22,7],[19,0,19,7],[20,0,20,1],[20,2,20,3],[20,4,20,5],[20,6,20,7],[23,0,23,7],[24,0,24,1],[24,2,24,3],[24,4,24,5],[24,6,24,7],[30,0,30,7],[26,0,26,7],[27,0,27,7],[28,0,28,1],[28,2,28,3],[28,4,28,5],[28,6,28,7],[31,0,31,7],[32,0,32,1],[32,2,32,3],[32,4,32,5],[32,6,32,7],[34,0,34,7],[35,0,35,7],[36,0,36,1],[36,2,36,3],[36,4,36,5],[36,6,36,7],[41,0,41,7],[37,0,37,7],[38,0,38,7],[39,0,39,7],[40,0,40,1],[40,2,40,3],[40,4,40,5],[40,6,40,7],[46,0,46,8],[42,0,42,7],[43,0,43,7],[44,0,44,1],[44,2,44,3],[44,4,44,5],[44,6,44,7],[50,0,50,7],[47,0,47,8],[48,0,48,1],[48,2,48,3],[48,4,48,5],[48,6,48,7],[51,0,51,7],[52,0,52,1],[52,2,52,3],[52,4,52,5],[52,6,52,7],[56,0,56,1],[56,2,56,3],[56,4,56,5],[56,6,56,7],[53,0,53,8]]}
[]
["VARIABLES A EVALUAR"]
["MATRIZ AGUA CONTINENTALES"]
["18. Matriz / Grupo",null,"19. Variable",null,"20. Variables solicitadas con fines de acreditación (Seleccionar las variables para las cuales solicita acreditación, indicando si corresponde a evaluación “INICIAL”, “SEGUIMIENTO”, “RENOVACIÓN” o “EXTENSIÓN”)",null,"21. Método de Referencia (Indicar el código del método de referencia que se solicita acreditar, incluyendo los métodos de procesos preliminares como extracción o digestión , p. ej. SM 3030 y SM 3111 B)"]
[]
["VARIABLES A EVALUAR"]
["MATRIZ AGUA MARINAS"]
["18. Matriz / Grupo",null,"19. Variable",null,"20. Variables solicitadas con fines de acreditación (Seleccionar las variables para las cuales solicita acreditación, indicando si corresponde a evaluación “INICIAL”, “SEGUIMIENTO”, “RENOVACIÓN” o “EXTENSIÓN”)",null,"21. Método de Referencia (Indicar el código del método de referencia que se solicita acreditar, incluyendo los métodos de procesos preliminares como extracción o digestión , p. ej. SM 3030 y SM 3111 B)"]
[]
[]
["VARIABLES A EVALUAR"]
["MATRIZ RESIDUOS PELIGROSOS"]
["18. Matriz / Grupo",null,"19. Variable",null,"20. Variables solicitadas con fines de acreditación (Seleccionar las variables para las cuales solicita acreditación, indicando si corresponde a evaluación “INICIAL”, “SEGUIMIENTO”, “RENOVACIÓN” o “EXTENSIÓN”)",null,"21. Método de Referencia (Indicar el código del método de referencia que se solicita acreditar, incluyendo los métodos de procesos preliminares como extracción o digestión , p. ej. SM 3030 y SM 3111 B)"]
[]
["VARIABLES A EVALUAR"]
["MATRIZ BIOTA"]
["18. Matriz / Grupo",null,"19. Variable",null,"20. Variables solicitadas con fines de acreditación (Seleccionar las variables para las cuales solicita acreditación, indicando si corresponde a evaluación “INICIAL”, “SEGUIMIENTO”, “RENOVACIÓN” o “EXTENSIÓN”)",null,"21. Método de Referencia (Indicar el código del método de referencia que se solicita acreditar, incluyendo los métodos de procesos preliminares como extracción o digestión , p. ej. SM 3030 y SM 3111 B)"]
[]
["VARIABLES A EVALUAR"]
["MATRIZ ACEITES DE TRANSFORMADOR"]
["18. Matriz / Grupo",null,"19. Variable",null,"20. Variables solicitadas con fines de acreditación (Seleccionar las variables para las cuales solicita acreditación, indicando si corresponde a evaluación “INICIAL”, “SEGUIMIENTO”, “RENOVACIÓN” o “EXTENSIÓN”)",null,"21. Método de Referencia (Indicar el código del método de referencia que se solicita acreditar, incluyendo los métodos de procesos preliminares como extracción o digestión , p. ej. SM 3030 y SM 3111 B)"]
[]
["VARIABLES A EVALUAR"]
["MATRIZ SUELO"]
["18. Matriz / Grupo",null,"19. Variable",null,"20. Variables solicitadas con fines de acreditación (Seleccionar las variables para las cuales solicita acreditación, indicando si corresponde a evaluación “INICIAL”, “SEGUIMIENTO”, “RENOVACIÓN” o “EXTENSIÓN”)",null,"21. Método de Referencia (Indicar el código del método de referencia que se solicita acreditar, incluyendo los métodos de procesos preliminares como extracción o digestión , p. ej. SM 3030 y SM 3111 B)"]
[]
["VARIABLES A EVALUAR"]
["MATRIZ LODO"]
["18. Matriz / Grupo",null,"19. Variable",null,"20. Variables solicitadas con fines de acreditación (Seleccionar las variables para las cuales solicita acreditación, indicando si corresponde a evaluación “INICIAL”, “SEGUIMIENTO”, “RENOVACIÓN” o “EXTENSIÓN”)",null,"21. Método de Referencia (Indicar el código del método de referencia que se solicita acreditar, incluyendo los métodos de procesos preliminares como extracción o digestión , p. ej. SM 3030 y SM 3111 B)"]
[]
["VARIABLES A EVALUAR"]
["MATRIZ SEDIMENTO"]
["18. Matriz / Grupo",null,"19. Variable",null,"20. Variables solicitadas con fines de acreditación (Seleccionar las variables para las cuales solicita acreditación, indicando si corresponde a evaluación “INICIAL”, “SEGUIMIENTO”, “RENOVACIÓN” o “EXTENSIÓN”)",null,"21. Método de Referencia (Indicar el código del método de referencia que se solicita acreditar, incluyendo los métodos de procesos preliminares como extracción o digestión , p. ej. SM 3030 y SM 3111 B)"]
[]
["VARIABLES A EVALUAR"]
["MATRIZ SEDIMENTO MARINOS"]
["18. Matriz / Grupo",null,"19. Variable",null,"20. Variables solicitadas con fines de acreditación (Seleccionar las variables para las cuales solicita acreditación, indicando si corresponde a evaluación “INICIAL”, “SEGUIMIENTO”, “RENOVACIÓN” o “EXTENSIÓN”)",null,"21. Método de Referencia (Indicar el código del método de referencia que se solicita acreditar, incluyendo los métodos de procesos preliminares como extracción o digestión , p. ej. SM 3030 y SM 3111 B)"]
[]
["VARIABLES A EVALUAR"]
["MATRIZ BIOSOLIDOS"]
["18. Matriz / Grupo",null,"19. Variable",null,"20. Variables solicitadas con fines de acreditación (Seleccionar las variables para las cuales solicita acreditación, indicando si corresponde a evaluación “INICIAL”, “SEGUIMIENTO”, “RENOVACIÓN” o “EXTENSIÓN”)",null,"21. Método de Referencia (Indicar el código del método de referencia que se solicita acreditar, incluyendo los métodos de procesos preliminares como extracción o digestión , p. ej. SM 3030 y SM 3111 B)"]
[]
["VARIABLES A EVALUAR"]
["MATRIZ AIRE - EMISIONES GENERADAS POR FUENTES FIJAS"]
["18. Matriz / Grupo",null,"Si el metodo de referencia solicitado por el OEC es diferente al que aparece a continuación (USEPA), este se debe indicar en la última columna a la derecha, de lo contrario confirme si aplica el metodo USEPA enunciado",null,"Variables solicitadas con fines de acreditación (Seleccionar las variables para las cuales solicita acreditación, indicando si corresponde a evaluación “INICIAL”, “SEGUIMIENTO”, “RENOVACIÓN” o “EXTENSIÓN”.)",null,"Método de Referencia"]
[]
["VARIABLES A EVALUAR"]
["MATRIZ AIRE - INMISIONES O CALIDAD DEL AIRE"]
["Matriz / Grupo",null,"Si el metodo de referencia solicitado por el OEC es diferente al que aparece a continuación (USEPA), este se debe indicar en la última columna a la derecha, de lo contrario confirme si aplica el metodo USEPA enunciado",null,"Variables solicitadas con fines de acreditación (Seleccionar las variables para las cuales solicita acreditación, indicando si corresponde a evaluación “INICIAL”, “SEGUIMIENTO”, “RENOVACIÓN” o “EXTENSIÓN”)",null,"Método de Referencia",null,"Número de Equipos a acreditar"]
[]
["VARIABLES A EVALUAR"]
["MATRIZ RUIDO"]
["18. Matriz / Grupo",null,"19. Variable",null,"20. Variables solicitadas con fines de acreditación (Seleccionar las variables para las cuales solicita acreditación, indicando si corresponde a evaluación “INICIAL”, “SEGUIMIENTO”, “RENOVACIÓN” o “EXTENSIÓN”)",null,"21. Método de Referencia (Indicar el código del método de referencia que se solicita acreditar, incluyendo los métodos de procesos preliminares como extracción o digestión , p. ej. SM 3030 y SM 3111 B)"]
[]
["VARIABLES A EVALUAR"]
["MATRIZ AIRE - INMISIONES O CALIDAD DEL AIRE - ESTACIONES AUTOMÁTICAS"]
["Matriz / Grupo",null,"Si el metodo de referencia solicitado por el OEC es diferente al que aparece a continuación (USEPA), este se debe indicar en la última columna a la derecha, de lo contrario confirme si aplica el metodo USEPA enunciado",null,"Variables solicitadas con fines de acreditación (Seleccionar las variables para las cuales solicita acreditación, indicando si corresponde a evaluación “INICIAL”, “SEGUIMIENTO”, “RENOVACIÓN” o “EXTENSIÓN”)",null,"Método de Referencia",null,"Número de Estaciones a acreditar"]